BEGIN:VCALENDAR
VERSION:2.0
PRODID:-//Markus Koschuh - ECPv6.15.11//NONSGML v1.0//EN
CALSCALE:GREGORIAN
METHOD:PUBLISH
X-WR-CALNAME:Markus Koschuh
X-ORIGINAL-URL:https://www.markuskoschuh.at
X-WR-CALDESC:Veranstaltungen für Markus Koschuh
REFRESH-INTERVAL;VALUE=DURATION:PT1H
X-Robots-Tag:noindex
X-PUBLISHED-TTL:PT1H
BEGIN:VTIMEZONE
TZID:Europe/Vienna
BEGIN:DAYLIGHT
TZOFFSETFROM:+0100
TZOFFSETTO:+0200
TZNAME:CEST
DTSTART:20250330T010000
END:DAYLIGHT
BEGIN:STANDARD
TZOFFSETFROM:+0200
TZOFFSETTO:+0100
TZNAME:CET
DTSTART:20251026T010000
END:STANDARD
BEGIN:DAYLIGHT
TZOFFSETFROM:+0100
TZOFFSETTO:+0200
TZNAME:CEST
DTSTART:20260329T010000
END:DAYLIGHT
BEGIN:STANDARD
TZOFFSETFROM:+0200
TZOFFSETTO:+0100
TZNAME:CET
DTSTART:20261025T010000
END:STANDARD
BEGIN:DAYLIGHT
TZOFFSETFROM:+0100
TZOFFSETTO:+0200
TZNAME:CEST
DTSTART:20270328T010000
END:DAYLIGHT
BEGIN:STANDARD
TZOFFSETFROM:+0200
TZOFFSETTO:+0100
TZNAME:CET
DTSTART:20271031T010000
END:STANDARD
END:VTIMEZONE
BEGIN:VEVENT
DTSTART;TZID=Europe/Vienna:20260420T080000
DTEND;TZID=Europe/Vienna:20260420T170000
DTSTAMP:20260420T062749
CREATED:20250406T180904Z
LAST-MODIFIED:20250406T180906Z
UID:10000782-1776672000-1776704400@www.markuskoschuh.at
SUMMARY:Landesjugendsingen 2026
DESCRIPTION:Das Landesjugendsingen ruft und da kann man schlecht Nein sagen. Eine Veranstaltung\, die Markus Koschuh gerne moderiert.
URL:https://www.markuskoschuh.at/event-1/landesjugendsingen-2026/
LOCATION:Schwaz\, SZentrum\, Andreas-Hofer-Straße 10\, Schwaz\, Tirol\, 6130\, Österreich
CATEGORIES:Moderation,Special
ATTACH;FMTTYPE=image/jpeg:https://www.markuskoschuh.at/wp-content/uploads/2023/03/koschuh_c_Thomas_Boehm3web.jpg
END:VEVENT
END:VCALENDAR