BEGIN:VCALENDAR
VERSION:2.0
PRODID:-//Markus Koschuh - ECPv6.15.11//NONSGML v1.0//EN
CALSCALE:GREGORIAN
METHOD:PUBLISH
X-ORIGINAL-URL:https://www.markuskoschuh.at
X-WR-CALDESC:Veranstaltungen für Markus Koschuh
REFRESH-INTERVAL;VALUE=DURATION:PT1H
X-Robots-Tag:noindex
X-PUBLISHED-TTL:PT1H
BEGIN:VTIMEZONE
TZID:Europe/Vienna
BEGIN:DAYLIGHT
TZOFFSETFROM:+0100
TZOFFSETTO:+0200
TZNAME:CEST
DTSTART:20240331T010000
END:DAYLIGHT
BEGIN:STANDARD
TZOFFSETFROM:+0200
TZOFFSETTO:+0100
TZNAME:CET
DTSTART:20241027T010000
END:STANDARD
BEGIN:DAYLIGHT
TZOFFSETFROM:+0100
TZOFFSETTO:+0200
TZNAME:CEST
DTSTART:20250330T010000
END:DAYLIGHT
BEGIN:STANDARD
TZOFFSETFROM:+0200
TZOFFSETTO:+0100
TZNAME:CET
DTSTART:20251026T010000
END:STANDARD
BEGIN:DAYLIGHT
TZOFFSETFROM:+0100
TZOFFSETTO:+0200
TZNAME:CEST
DTSTART:20260329T010000
END:DAYLIGHT
BEGIN:STANDARD
TZOFFSETFROM:+0200
TZOFFSETTO:+0100
TZNAME:CET
DTSTART:20261025T010000
END:STANDARD
END:VTIMEZONE
BEGIN:VEVENT
DTSTART;TZID=Europe/Vienna:20250604T200000
DTEND;TZID=Europe/Vienna:20250604T220000
DTSTAMP:20260422T025334
CREATED:20241124T090925Z
LAST-MODIFIED:20250429T064107Z
UID:10000747-1749067200-1749074400@www.markuskoschuh.at
SUMMARY:Benefiz für das "Haus der Hoffnung"
DESCRIPTION:Markus Koschuh: Lachen für das „Haus der Hoffnung“Humorvoller Benefizabend am 4. Juni im Meraner Theater in der Alstadt \n\n\n\nWo er hinkommt\, fließen Lachtränen und das Publikum ist begeistert: Der Nordtiroler Paradekabarettist Markus Koschuh. Am 4. Juni kommt Koschuh zu einem seltenen Auftritt südlich des Brenners und nimmt seine besten und ihm liebste Szenen und Texte mit. Der Grund könnte kaum ein besserer sein. Er will Geld – und zwar viel: Für das in Bau befindliche „Haus der Hoffnung“. Das Ziel ist die Finanzierung von 19 Küchen\, deren Finanzierung mit diesem Benefizabend gesichert werden soll. Ein ehrgeiziges Ziel – doch es liegt an den Besucherinnen und Besuchern und Gönnerinnen und Gönnern: Gönnen Sie sich mit dem Besuch dieser Veranstaltung einen Abend voller Lachen und Staunen – und sorgen Sie für einen (finanziellen) Lichtblick in düsteren Zeiten. Auf den Punkt gebracht: Spenden Sie Hoffnung! \n\n\n\nDie Presse schreibt über Markus Koschuh: „Lachsalven\, Szenenapplaus\, Begeisterungsstürme: Das ist Markus Koschuh“\, „Spitzenkabarett made in Tirol“! \n\n\n\nEntstanden ist die Idee für diesen humoristischen Benefizabend nach dem Gewinn einer von Koschuh über seinen Newsletter verlosten „Wohnzimmerlesung“. Gewonnen hatte diese der mittlerweile pensionierte und in Meran lebende Arzt Martin Rampold. Rampold fragte den Tiroler Kabarettisten\, ob der gewonnene spaßige Abend denn nicht auch zu einem Benefizabend umfunktioniert und in einem etwas größeren „Wohnzimmer“\, dem Theater in der Altstad stattfinden könnte. Vom Benefizgrund\, der Finanzierung von Küchen für das „Haus der Hoffnung“ war Koschuh sofort begeistert und sagte zu. Doch damit nicht genug: Für den Abend im Theater in der Altstadt\, das seine Räume unengeltlich zur Verfügung stellt\, verspricht Koschuh ein so noch nie montiertes Programm – inklusive einer hoffnungsstiftenden Zugabennummer! \n\n\n\nSie wollen spenden? Gerne! Für Informationen\, wie Sie – ob Privatperson oder Unternehmen – zur Finanzierung der Küchen im „Haus der Hoffnung“ beitragen können\, kontaktieren Sie gerne Martin Rampold\, Telefonnummer: +39/333/9307117 \n\n\n\nSie wollen mehr Informationen zum „Haus der Hoffnung“? Mehr Infos finden Sie hier: https://t.ly/RK85P. \n\n\n\nMarkus Koschuh: Lachen für das „Haus der Hoffnung“Mittwoch\, 4. Juni\, 20 Uhr\, Theater in der Alstadt\, Meran
URL:https://www.markuskoschuh.at/event-1/benefiz-special/
LOCATION:Meran\, Theater in der Altstadt\, Freiheitsstraße 27\, Meran\, Südtirol\, 39012\, Italien
CATEGORIES:Kabarett
ATTACH;FMTTYPE=image/jpeg:https://www.markuskoschuh.at/wp-content/uploads/2024/01/Jahrmarkt-2023-c-Krug1-insta.jpg
END:VEVENT
BEGIN:VEVENT
DTSTART;TZID=Europe/Vienna:20250613T193000
DTEND;TZID=Europe/Vienna:20250613T220000
DTSTAMP:20260422T025334
CREATED:20250425T132503Z
LAST-MODIFIED:20250425T132648Z
UID:10000788-1749843000-1749852000@www.markuskoschuh.at
SUMMARY:Franz Posch & Markus Koschuh. Quetschn trifft Schmäh! UNPLUGGED & MITTENDRIN
DESCRIPTION:Tickets: 05446/30108\n\n\n\n\nEin spezieller Abend in speziellem Rahmen: Ein hautnahes Erlebnis für maximal 80 Gäste im Hotel Lux Alpinae in St. Anton. Möglich macht das eine seit vielen Jahren bestehende Freundschaft der Hoteliersfamlie Kertess mit Kabarettist Markus Koschuh. Lernen Sie die beiden Ausnahmekünstler Franz Posch und Markus Koschuh kennen\, lachen und staunen Sie!  \n\n\n\nDer Eine: Ein Kenner der Volksmusik wie kein Anderer und Virtuose auf der Ziehharmonika. Der Andere: Ein Meister des bissigen Kabaretts mit Lachgarantie. Bei einem gemeinsamen Benefizabend Anfang 2024 sorgten Franz Posch und Markus Koschuh für Begeisterungsstürme – viele forderten eine Fortsetzung der gelungenen Kooperation. Im Jahr 2025 gibt es nun tatsächlich mehrere Abende\, an denen gelacht und gestaunt werden kann: Staunen über die Musikalität von Franz Posch und Lachen über die Pointen von Markus Koschuh. Volksmusik ergänzt Kabarett ergänzt Volksmusik – ein Abend zweier Ausnahmekünstler\, den man nicht verpassen sollte!
URL:https://www.markuskoschuh.at/event-1/franz-posch-markus-koschuh-quetschn-trifft-schmaeh-unplugged-mittendrin/
LOCATION:Sankt Anton\, Lux Alpinae\, Arlbergstraße 41\, Sankt Anton\, Tirol\, 6580\, Austria
CATEGORIES:Kabarett,Special
ATTACH;FMTTYPE=image/jpeg:https://www.markuskoschuh.at/wp-content/uploads/2025/01/FranzPosch_MarkusKoschuh_cKrug_fuerHomepage.jpg
END:VEVENT
BEGIN:VEVENT
DTSTART;TZID=Europe/Vienna:20250614T200000
DTEND;TZID=Europe/Vienna:20250614T220000
DTSTAMP:20260422T025334
CREATED:20250513T095833Z
LAST-MODIFIED:20250513T095835Z
UID:10000790-1749931200-1749938400@www.markuskoschuh.at
SUMMARY:Eine kleine Machtmusik. Das umjubelte Programm!
DESCRIPTION:Markus Koschuh: Eine kleine Machtmusikfeaturing Samuel Plieger \n\n\n\n\nTickets hier!\n\n\n\n\n\n\n\n\nEin Kabarettist und ein Beatboxer gemeinsam auf der Bühne – und das zu Klängen von Mozart. Geht nicht? Doch. Und wie!Das neue Kabarettprogramm des Tiroler Kabarettisten und 2-fachen österreichischen Poetry-Slam-Meisters Markus Koschuh ist da:EINE KLEINE MACHTMUSIK featuring Samuel Plieger. Regie: Harald WindischIn seinem neuesten Streich EINE KLEINE MACHTMUSIK zückt Markus Koschuh das kabarettistische Stethoskop\, hört hin und hört nicht auf\, sein Ohr dort zu haben\, wo es weh tut – für den ultimativen Soundcheck: Wer will warum die erste Geige spielen und wer gibt tatsächlich den Ton an? Warum stimmen immer Mehr in den Chor der Empörten ein und vergreifen sich im Land des Wolfgang Amadeus Mozart im Ton – wo doch laut Meinungsumfragen für 90% der Befragten der Ton die Musik macht? Zur rhythmischen Verstärkung hat sich Markus Koschuh Beatboxer Samuel Plieger an Bord geholt …!Eine kleine Machtmusik ist ein Programm voller c-d-e-f-g-Aha- und Oho-Momente\, Irr-&Aberwitz\, Rasanz&Körpereinsatz!Medienecho zu Markus Koschuh: „Spitzenkabarett made in Tirol“\,  „Lachsalven\, Szenenapplaus\, Begeisterungsstürme“\, „Bissig\, pointensicher\, unglaublich im Mienenspiel\, humoristisch hochwertig!“ – und zu „Eine kleine Machtmusik“: „Der beste Koschuh bisher!“\, „Koschuh liefert erneut!“\, „Begeisterter Zwischenapplaus!“\, „Genial!“
URL:https://www.markuskoschuh.at/event-1/eine-kleine-machtmusik-das-umjubelte-programm/
LOCATION:Dornbirn\, TIK\, Jahngasse 10\, Dornbirn\, Vorarlberg\, 6580\, Austria
CATEGORIES:Kabarett
ATTACH;FMTTYPE=image/jpeg:https://www.markuskoschuh.at/wp-content/uploads/2024/01/koschuh_machtmusik2klein_1_FranzOss.jpg
END:VEVENT
END:VCALENDAR