BEGIN:VCALENDAR
VERSION:2.0
PRODID:-//Markus Koschuh - ECPv6.15.11//NONSGML v1.0//EN
CALSCALE:GREGORIAN
METHOD:PUBLISH
X-ORIGINAL-URL:https://www.markuskoschuh.at
X-WR-CALDESC:Veranstaltungen für Markus Koschuh
REFRESH-INTERVAL;VALUE=DURATION:PT1H
X-Robots-Tag:noindex
X-PUBLISHED-TTL:PT1H
BEGIN:VTIMEZONE
TZID:Europe/Vienna
BEGIN:DAYLIGHT
TZOFFSETFROM:+0100
TZOFFSETTO:+0200
TZNAME:CEST
DTSTART:20240331T010000
END:DAYLIGHT
BEGIN:STANDARD
TZOFFSETFROM:+0200
TZOFFSETTO:+0100
TZNAME:CET
DTSTART:20241027T010000
END:STANDARD
BEGIN:DAYLIGHT
TZOFFSETFROM:+0100
TZOFFSETTO:+0200
TZNAME:CEST
DTSTART:20250330T010000
END:DAYLIGHT
BEGIN:STANDARD
TZOFFSETFROM:+0200
TZOFFSETTO:+0100
TZNAME:CET
DTSTART:20251026T010000
END:STANDARD
BEGIN:DAYLIGHT
TZOFFSETFROM:+0100
TZOFFSETTO:+0200
TZNAME:CEST
DTSTART:20260329T010000
END:DAYLIGHT
BEGIN:STANDARD
TZOFFSETFROM:+0200
TZOFFSETTO:+0100
TZNAME:CET
DTSTART:20261025T010000
END:STANDARD
END:VTIMEZONE
BEGIN:VEVENT
DTSTART;TZID=Europe/Vienna:20251024T200000
DTEND;TZID=Europe/Vienna:20251024T223000
DTSTAMP:20260421T211108
CREATED:20251020T192330Z
LAST-MODIFIED:20251020T192805Z
UID:10000842-1761336000-1761345000@www.markuskoschuh.at
SUMMARY:Franz Posch & Markus Koschuh. Quetschn trifft Schmäh!
DESCRIPTION:Tickets: 0650/4036009\n\n\n\n\nDer Eine: Ein Kenner der Volksmusik wie kein Anderer und Virtuose auf der Ziehharmonika. Der Andere: Ein Meister des bissigen Kabaretts mit Lachgarantie. Bei einem gemeinsamen Benefizabend Anfang 2024 sorgten Franz Posch und Markus Koschuh für Begeisterungsstürme – viele forderten eine Fortsetzung der gelungenen Kooperation. Im Jahr 2025 gibt es nun tatsächlich mehrere Abende\, an denen gelacht und gestaunt werden kann: Staunen über die Musikalität von Franz Posch und Lachen über die Pointen von Markus Koschuh. Volksmusik ergänzt Kabarett ergänzt Volksmusik – ein Abend zweier Ausnahmekünstler\, den man nicht verpassen sollte!
URL:https://www.markuskoschuh.at/event-1/franz-posch-markus-koschuh-quetschn-trifft-schmaeh-9/
LOCATION:Prutz\, Winklstadl\, Winkelweg 1\, Prutz\, Tirol\, 6522\, Austria
CATEGORIES:Kabarett,Special
ATTACH;FMTTYPE=image/jpeg:https://www.markuskoschuh.at/wp-content/uploads/2025/01/FranzPosch_MarkusKoschuh_cKrug_fuerHomepage.jpg
END:VEVENT
BEGIN:VEVENT
DTSTART;TZID=Europe/Vienna:20251031T200000
DTEND;TZID=Europe/Vienna:20251031T223000
DTSTAMP:20260421T211108
CREATED:20250817T201043Z
LAST-MODIFIED:20251020T193758Z
UID:10000825-1761940800-1761949800@www.markuskoschuh.at
SUMMARY:15 Jahre Kabarett made by Koschuh
DESCRIPTION:Ein ganz spezieller Abend mit unfassbaren Geschichten und sehenswerten Szenen aus 15 Jahren humoristischer Grundlagenarbeit in Tirol. Moderation: Sybille Brunner \n\n\n\n\n\n\nTickets hier:
URL:https://www.markuskoschuh.at/event-1/15-jahre-kabarett-made-by-koschuh/
LOCATION:Innsbruck\, Treibhaus\, Angerzellgasse 8\, 6020 Innsbruck\, Österreich
CATEGORIES:Kabarett,Special
ATTACH;FMTTYPE=image/jpeg:https://www.markuskoschuh.at/wp-content/uploads/2024/11/Koschuh-Jahrmarkt-c-Boehm.jpg
END:VEVENT
END:VCALENDAR