BEGIN:VCALENDAR
VERSION:2.0
PRODID:-//Markus Koschuh - ECPv6.15.11//NONSGML v1.0//EN
CALSCALE:GREGORIAN
METHOD:PUBLISH
X-ORIGINAL-URL:https://www.markuskoschuh.at
X-WR-CALDESC:Veranstaltungen für Markus Koschuh
REFRESH-INTERVAL;VALUE=DURATION:PT1H
X-Robots-Tag:noindex
X-PUBLISHED-TTL:PT1H
BEGIN:VTIMEZONE
TZID:Europe/Vienna
BEGIN:DAYLIGHT
TZOFFSETFROM:+0100
TZOFFSETTO:+0200
TZNAME:CEST
DTSTART:20190331T010000
END:DAYLIGHT
BEGIN:STANDARD
TZOFFSETFROM:+0200
TZOFFSETTO:+0100
TZNAME:CET
DTSTART:20191027T010000
END:STANDARD
BEGIN:DAYLIGHT
TZOFFSETFROM:+0100
TZOFFSETTO:+0200
TZNAME:CEST
DTSTART:20200329T010000
END:DAYLIGHT
BEGIN:STANDARD
TZOFFSETFROM:+0200
TZOFFSETTO:+0100
TZNAME:CET
DTSTART:20201025T010000
END:STANDARD
BEGIN:DAYLIGHT
TZOFFSETFROM:+0100
TZOFFSETTO:+0200
TZNAME:CEST
DTSTART:20210328T010000
END:DAYLIGHT
BEGIN:STANDARD
TZOFFSETFROM:+0200
TZOFFSETTO:+0100
TZNAME:CET
DTSTART:20211031T010000
END:STANDARD
END:VTIMEZONE
BEGIN:VEVENT
DTSTART;TZID=Europe/Vienna:20201125T200000
DTEND;TZID=Europe/Vienna:20201125T220000
DTSTAMP:20260421T194349
CREATED:20201003T065107Z
LAST-MODIFIED:20201103T085211Z
UID:10000330-1606334400-1606341600@www.markuskoschuh.at
SUMMARY:Das neue Programm OBEN OHNE
DESCRIPTION:LEIDER ABGESAGT! \n„Make-up wegen Lachtränen unter Wasser“\, „Eines seiner bisher stärksten Programme“\, „Herzhafte Parodien“\, „Lauthalses Lachen“.\nDie Kritiken zum neuen Programm OBEN OHNE sprechen eine deutliche Sprache ..! \n„Oben ohne“ bekommt wegen eines Virus eine neue Bedeutung: Politiker\, die immer alles richtig machen\, Nachbarn\, die sich gegenseitig anzeigen\, Erntehelfer und Pflegehelferinnen\, die plötzlich systemrelevante Heldinnen und Helden sind. Was machen Maskenpflicht und Co mit uns und aus uns?\n„Oben ohne“. Das Programm zur Krise. Gespickt mit zahlreichen saukomischen und nackten Tatsachen – eben: Oben ohne.\nDas beste kabarettistische Virenschutzprogramm zurzeit! \n 
URL:https://www.markuskoschuh.at/event-1/das-neue-programm-oben-ohne-4/
LOCATION:Hall\, Kurhaus\, Stadtgraben 17\, Hall\, 6060\, Österreich
CATEGORIES:Kabarett
ATTACH;FMTTYPE=image/jpeg:https://www.markuskoschuh.at/wp-content/uploads/2020/10/koschuh-kabarett-Oben-Ohne-kurhaus-hall.jpg
END:VEVENT
BEGIN:VEVENT
DTSTART;TZID=Europe/Vienna:20201118T193000
DTEND;TZID=Europe/Vienna:20201118T213000
DTSTAMP:20260421T194349
CREATED:20200823T211354Z
LAST-MODIFIED:20201103T084839Z
UID:10000328-1605727800-1605735000@www.markuskoschuh.at
SUMMARY:Das neue Programm OBEN OHNE
DESCRIPTION:LEIDER ABGESAGT! \nWenn die Normalität dem ganz normalen Wahnsinn weicht\, kriegt man echt die Krise – und „Oben ohne“ bekommt wegen eines Virus eine neue Bedeutung: Politiker\, die immer alles richtig machen\, Nachbarn\, die sich gegenseitig anzeigen\, Erntehelfer und Pflegehelferinnen\, die plötzlich systemrelevante Heldinnen und Helden sind – und eigens eingeflogen werden. Was machen Maskenpflicht und Co mit uns und aus uns? Und ist die „alte Normalität“ tatsächlich so erstrebenswert?\n„Oben ohne“. Das Programm zur Krise\, zum Davor und zum möglichen Danach. Gespickt mit zahlreichen saukomischen und nackten Wahrheiten – eben: Oben ohne. Das beste kabarettistische Virenschutzprogramm zurzeit! \nTickets: +43 662 880219 bzw https://www.oeticket.com
URL:https://www.markuskoschuh.at/event-1/das-neue-programm-oben-ohne-3/
LOCATION:Salzburg\, Kleines Theater\, Schallmooser Hauptstraße 50\, Salzburg\, 5020
CATEGORIES:Kabarett
ATTACH;FMTTYPE=image/jpeg:https://www.markuskoschuh.at/wp-content/uploads/2020/08/koschuh-kabarett-Oben-Ohne-salzburg.jpg
END:VEVENT
BEGIN:VEVENT
DTSTART;TZID=Europe/Vienna:20201106T200000
DTEND;TZID=Europe/Vienna:20201106T220000
DTSTAMP:20260421T194349
CREATED:20200629T061014Z
LAST-MODIFIED:20211012T072148Z
UID:10000317-1604692800-1604700000@www.markuskoschuh.at
SUMMARY:Das neue Programm OBEN OHNE
DESCRIPTION:LEIDER ABGESAGT! Markus Koschuh: Oben ohne Wenn die Normalität dem ganz normalen Wahnsinn weicht\, kriegt man echt die Krise – und „Oben ohne“ bekommt wegen eines Virus eine neue Bedeutung: Politiker\, die immer alles richtig machen\, Nachbarn\, die sich gegenseitig anzeigen\, Erntehelfer und Pflegehelferinnen\, die plötzlich systemrelevante Heldinnen und Helden sind – und eigens eingeflogen werden. Was machen Maskenpflicht und Co mit uns und aus uns? Und ist die „alte Normalität“ tatsächlich so erstrebenswert? „Oben ohne“. Das Programm zur Krise\, zum Davor und zum möglichen Danach. Gespickt mit zahlreichen saukomischen und nackten Wahrheiten – eben: Oben ohne. Das beste kabarettistische Virenschutzprogramm zurzeit!
URL:https://www.markuskoschuh.at/event-1/neues-programm-2/
LOCATION:Jenbach\, VZ\, Österreich
CATEGORIES:Kabarett
ATTACH;FMTTYPE=image/jpeg:https://www.markuskoschuh.at/wp-content/uploads/2020/06/koschuh-kabarett-oben-ohne-jenbach.jpg
END:VEVENT
BEGIN:VEVENT
DTSTART;TZID=Europe/Vienna:20201017T200000
DTEND;TZID=Europe/Vienna:20201017T220000
DTSTAMP:20260421T194349
CREATED:20200629T061213Z
LAST-MODIFIED:20200823T140203Z
UID:10000318-1602964800-1602972000@www.markuskoschuh.at
SUMMARY:Das neue Programm OBEN OHNE
DESCRIPTION:Wenn die Normalität dem ganz normalen Wahnsinn weicht\, kriegt man echt die Krise – und „Oben ohne“ bekommt wegen eines Virus eine neue Bedeutung: Politiker\, die immer alles richtig machen\, Nachbarn\, die sich gegenseitig anzeigen\, Erntehelfer und Pflegehelferinnen\, die plötzlich systemrelevante Heldinnen und Helden sind – und eigens eingeflogen werden. Was machen Maskenpflicht und Co mit uns und aus uns? Und ist die „alte Normalität“ tatsächlich so erstrebenswert?\n„Oben ohne“. Das Programm zur Krise\, zum Davor und zum möglichen Danach. Gespickt mit zahlreichen saukomischen und nackten Wahrheiten – eben: Oben ohne. Das beste kabarettistische Virenschutzprogramm zurzeit! \nTickets in allen Raiffeisenbanken Tirols\, bei Bücher Zangerl (Salzburger Straße & M4 Wörgl)\, bei jeder oeticket.com Verkaufsstelle\, im VZ Komma und unter www.komma.at\, 05332/75505. \nFoto/Montage (c) schwaighofer-art.com
URL:https://www.markuskoschuh.at/event-1/neues-programm-3/
LOCATION:Wörgl\, VZ Komma\, KR. Martin-Pichlerstraße 21a\, Wörgl\, 6300\, Österreich
CATEGORIES:Kabarett
ATTACH;FMTTYPE=image/jpeg:https://www.markuskoschuh.at/wp-content/uploads/2020/06/koschuh-kabarett-oben-ohne-VAkoma.jpg
END:VEVENT
BEGIN:VEVENT
DTSTART;TZID=Europe/Vienna:20201008T200000
DTEND;TZID=Europe/Vienna:20201008T220000
DTSTAMP:20260421T194349
CREATED:20200815T083721Z
LAST-MODIFIED:20200820T102220Z
UID:10000327-1602187200-1602194400@www.markuskoschuh.at
SUMMARY:Das neue Programm OBEN OHNE
DESCRIPTION:Wenn die Normalität dem ganz normalen Wahnsinn weicht\, kriegt man echt die Krise – und „Oben ohne“ bekommt wegen eines Virus eine neue Bedeutung: Politiker\, die immer alles richtig machen\, Nachbarn\, die sich gegenseitig anzeigen\, Erntehelfer und Pflegehelferinnen\, die plötzlich systemrelevante Heldinnen und Helden sind – und eigens eingeflogen werden. Was machen Maskenpflicht und Co mit uns und aus uns? Und ist die „alte Normalität“ tatsächlich so erstrebenswert?\n„Oben ohne“. Das Programm zur Krise\, zum Davor und zum möglichen Danach. Gespickt mit zahlreichen saukomischen und nackten Wahrheiten – eben: Oben ohne. Das beste kabarettistische Virenschutzprogramm zurzeit! \nPREMIERE: 17.9.2020\, 20 Uhr\, „VierUndEinzig“\, Hallerstraße 41\, Innsbruck\nTermine im Haus VierUndEinzig: DO 17.9. (Premiere)\, FR 18.9.\, MI 23.9\, SA 26.9.\, DI\, 6.10\, MI 7.10\, DO 8.10\, 20 Uhr\nTICKETS AUSSCHLIESSLICH ÜBER www.kki.at \nFoto/Montage (c) schwaighofer-art.com
URL:https://www.markuskoschuh.at/event-1/das-neue-programm-oben-ohne-2/2020-10-08/
LOCATION:Innsbruck\, Vierundeinzig\, Hallerstraße 41\, Innsbruck\, 6020\, Österreich
CATEGORIES:Kabarett
ATTACH;FMTTYPE=image/jpeg:https://www.markuskoschuh.at/wp-content/uploads/2020/08/koschuh-kabarett-oben-ohne-vierundeinzig41.jpg
END:VEVENT
BEGIN:VEVENT
DTSTART;TZID=Europe/Vienna:20201007T200000
DTEND;TZID=Europe/Vienna:20201007T220000
DTSTAMP:20260421T194349
CREATED:20200815T083721Z
LAST-MODIFIED:20200820T102220Z
UID:10000326-1602100800-1602108000@www.markuskoschuh.at
SUMMARY:Das neue Programm OBEN OHNE
DESCRIPTION:Wenn die Normalität dem ganz normalen Wahnsinn weicht\, kriegt man echt die Krise – und „Oben ohne“ bekommt wegen eines Virus eine neue Bedeutung: Politiker\, die immer alles richtig machen\, Nachbarn\, die sich gegenseitig anzeigen\, Erntehelfer und Pflegehelferinnen\, die plötzlich systemrelevante Heldinnen und Helden sind – und eigens eingeflogen werden. Was machen Maskenpflicht und Co mit uns und aus uns? Und ist die „alte Normalität“ tatsächlich so erstrebenswert?\n„Oben ohne“. Das Programm zur Krise\, zum Davor und zum möglichen Danach. Gespickt mit zahlreichen saukomischen und nackten Wahrheiten – eben: Oben ohne. Das beste kabarettistische Virenschutzprogramm zurzeit! \nPREMIERE: 17.9.2020\, 20 Uhr\, „VierUndEinzig“\, Hallerstraße 41\, Innsbruck\nTermine im Haus VierUndEinzig: DO 17.9. (Premiere)\, FR 18.9.\, MI 23.9\, SA 26.9.\, DI\, 6.10\, MI 7.10\, DO 8.10\, 20 Uhr\nTICKETS AUSSCHLIESSLICH ÜBER www.kki.at \nFoto/Montage (c) schwaighofer-art.com
URL:https://www.markuskoschuh.at/event-1/das-neue-programm-oben-ohne-2/2020-10-07/
LOCATION:Innsbruck\, Vierundeinzig\, Hallerstraße 41\, Innsbruck\, 6020\, Österreich
CATEGORIES:Kabarett
ATTACH;FMTTYPE=image/jpeg:https://www.markuskoschuh.at/wp-content/uploads/2020/08/koschuh-kabarett-oben-ohne-vierundeinzig41.jpg
END:VEVENT
BEGIN:VEVENT
DTSTART;TZID=Europe/Vienna:20201006T200000
DTEND;TZID=Europe/Vienna:20201006T220000
DTSTAMP:20260421T194349
CREATED:20200815T083721Z
LAST-MODIFIED:20200820T102220Z
UID:10000325-1602014400-1602021600@www.markuskoschuh.at
SUMMARY:Das neue Programm OBEN OHNE
DESCRIPTION:Wenn die Normalität dem ganz normalen Wahnsinn weicht\, kriegt man echt die Krise – und „Oben ohne“ bekommt wegen eines Virus eine neue Bedeutung: Politiker\, die immer alles richtig machen\, Nachbarn\, die sich gegenseitig anzeigen\, Erntehelfer und Pflegehelferinnen\, die plötzlich systemrelevante Heldinnen und Helden sind – und eigens eingeflogen werden. Was machen Maskenpflicht und Co mit uns und aus uns? Und ist die „alte Normalität“ tatsächlich so erstrebenswert?\n„Oben ohne“. Das Programm zur Krise\, zum Davor und zum möglichen Danach. Gespickt mit zahlreichen saukomischen und nackten Wahrheiten – eben: Oben ohne. Das beste kabarettistische Virenschutzprogramm zurzeit! \nPREMIERE: 17.9.2020\, 20 Uhr\, „VierUndEinzig“\, Hallerstraße 41\, Innsbruck\nTermine im Haus VierUndEinzig: DO 17.9. (Premiere)\, FR 18.9.\, MI 23.9\, SA 26.9.\, DI\, 6.10\, MI 7.10\, DO 8.10\, 20 Uhr\nTICKETS AUSSCHLIESSLICH ÜBER www.kki.at \nFoto/Montage (c) schwaighofer-art.com
URL:https://www.markuskoschuh.at/event-1/das-neue-programm-oben-ohne-2/2020-10-06/
LOCATION:Innsbruck\, Vierundeinzig\, Hallerstraße 41\, Innsbruck\, 6020\, Österreich
CATEGORIES:Kabarett
ATTACH;FMTTYPE=image/jpeg:https://www.markuskoschuh.at/wp-content/uploads/2020/08/koschuh-kabarett-oben-ohne-vierundeinzig41.jpg
END:VEVENT
BEGIN:VEVENT
DTSTART;TZID=Europe/Vienna:20201003T193000
DTEND;TZID=Europe/Vienna:20201003T210000
DTSTAMP:20260421T194349
CREATED:20200630T080856Z
LAST-MODIFIED:20201003T130453Z
UID:10000320-1601753400-1601758800@www.markuskoschuh.at
SUMMARY:Lach mal Wieder. Das Best of!
DESCRIPTION:
URL:https://www.markuskoschuh.at/event-1/lach-mal-wieder-das-best-of/
LOCATION:Grinzens\, Gemeindesaal
CATEGORIES:Kabarett
ATTACH;FMTTYPE=image/jpeg:https://www.markuskoschuh.at/wp-content/uploads/2020/06/koschuh-lachmalwieder-grinzens.jpg
END:VEVENT
BEGIN:VEVENT
DTSTART;TZID=Europe/Vienna:20200926T200000
DTEND;TZID=Europe/Vienna:20200926T220000
DTSTAMP:20260421T194349
CREATED:20200815T083721Z
LAST-MODIFIED:20200820T102220Z
UID:10000324-1601150400-1601157600@www.markuskoschuh.at
SUMMARY:Das neue Programm OBEN OHNE
DESCRIPTION:Wenn die Normalität dem ganz normalen Wahnsinn weicht\, kriegt man echt die Krise – und „Oben ohne“ bekommt wegen eines Virus eine neue Bedeutung: Politiker\, die immer alles richtig machen\, Nachbarn\, die sich gegenseitig anzeigen\, Erntehelfer und Pflegehelferinnen\, die plötzlich systemrelevante Heldinnen und Helden sind – und eigens eingeflogen werden. Was machen Maskenpflicht und Co mit uns und aus uns? Und ist die „alte Normalität“ tatsächlich so erstrebenswert?\n„Oben ohne“. Das Programm zur Krise\, zum Davor und zum möglichen Danach. Gespickt mit zahlreichen saukomischen und nackten Wahrheiten – eben: Oben ohne. Das beste kabarettistische Virenschutzprogramm zurzeit! \nPREMIERE: 17.9.2020\, 20 Uhr\, „VierUndEinzig“\, Hallerstraße 41\, Innsbruck\nTermine im Haus VierUndEinzig: DO 17.9. (Premiere)\, FR 18.9.\, MI 23.9\, SA 26.9.\, DI\, 6.10\, MI 7.10\, DO 8.10\, 20 Uhr\nTICKETS AUSSCHLIESSLICH ÜBER www.kki.at \nFoto/Montage (c) schwaighofer-art.com
URL:https://www.markuskoschuh.at/event-1/das-neue-programm-oben-ohne-2/2020-09-26/
LOCATION:Innsbruck\, Vierundeinzig\, Hallerstraße 41\, Innsbruck\, 6020\, Österreich
CATEGORIES:Kabarett
ATTACH;FMTTYPE=image/jpeg:https://www.markuskoschuh.at/wp-content/uploads/2020/08/koschuh-kabarett-oben-ohne-vierundeinzig41.jpg
END:VEVENT
BEGIN:VEVENT
DTSTART;TZID=Europe/Vienna:20200923T200000
DTEND;TZID=Europe/Vienna:20200923T220000
DTSTAMP:20260421T194349
CREATED:20200815T083721Z
LAST-MODIFIED:20200820T102220Z
UID:10000323-1600891200-1600898400@www.markuskoschuh.at
SUMMARY:Das neue Programm OBEN OHNE
DESCRIPTION:Wenn die Normalität dem ganz normalen Wahnsinn weicht\, kriegt man echt die Krise – und „Oben ohne“ bekommt wegen eines Virus eine neue Bedeutung: Politiker\, die immer alles richtig machen\, Nachbarn\, die sich gegenseitig anzeigen\, Erntehelfer und Pflegehelferinnen\, die plötzlich systemrelevante Heldinnen und Helden sind – und eigens eingeflogen werden. Was machen Maskenpflicht und Co mit uns und aus uns? Und ist die „alte Normalität“ tatsächlich so erstrebenswert?\n„Oben ohne“. Das Programm zur Krise\, zum Davor und zum möglichen Danach. Gespickt mit zahlreichen saukomischen und nackten Wahrheiten – eben: Oben ohne. Das beste kabarettistische Virenschutzprogramm zurzeit! \nPREMIERE: 17.9.2020\, 20 Uhr\, „VierUndEinzig“\, Hallerstraße 41\, Innsbruck\nTermine im Haus VierUndEinzig: DO 17.9. (Premiere)\, FR 18.9.\, MI 23.9\, SA 26.9.\, DI\, 6.10\, MI 7.10\, DO 8.10\, 20 Uhr\nTICKETS AUSSCHLIESSLICH ÜBER www.kki.at \nFoto/Montage (c) schwaighofer-art.com
URL:https://www.markuskoschuh.at/event-1/das-neue-programm-oben-ohne-2/2020-09-23/
LOCATION:Innsbruck\, Vierundeinzig\, Hallerstraße 41\, Innsbruck\, 6020\, Österreich
CATEGORIES:Kabarett
ATTACH;FMTTYPE=image/jpeg:https://www.markuskoschuh.at/wp-content/uploads/2020/08/koschuh-kabarett-oben-ohne-vierundeinzig41.jpg
END:VEVENT
BEGIN:VEVENT
DTSTART;TZID=Europe/Vienna:20200918T200000
DTEND;TZID=Europe/Vienna:20200918T220000
DTSTAMP:20260421T194349
CREATED:20200815T083333Z
LAST-MODIFIED:20200820T102129Z
UID:10000322-1600459200-1600466400@www.markuskoschuh.at
SUMMARY:Das neue Programm OBEN OHNE
DESCRIPTION:Wenn die Normalität dem ganz normalen Wahnsinn weicht\, kriegt man echt die Krise – und „Oben ohne“ bekommt wegen eines Virus eine neue Bedeutung: Politiker\, die immer alles richtig machen\, Nachbarn\, die sich gegenseitig anzeigen\, Erntehelfer und Pflegehelferinnen\, die plötzlich systemrelevante Heldinnen und Helden sind – und eigens eingeflogen werden. Was machen Maskenpflicht und Co mit uns und aus uns? Und ist die „alte Normalität“ tatsächlich so erstrebenswert?\n„Oben ohne“. Das Programm zur Krise\, zum Davor und zum möglichen Danach. Gespickt mit zahlreichen saukomischen und nackten Wahrheiten – eben: Oben ohne. Das beste kabarettistische Virenschutzprogramm zurzeit! \nPREMIERE: 17.9.2020\, 20 Uhr\, „VierUndEinzig“\, Hallerstraße 41\, Innsbruck\nTermine im Haus VierUndEinzig: DO 17.9. (Premiere)\, FR 18.9.\, MI 23.9\, SA 26.9.\, DI\, 6.10\, MI 7.10\, DO 8.10\, 20 Uhr\nTICKETS AUSSCHLIESSLICH ÜBER www.kki.at \nFoto/Montage (c) schwaighofer-art.com
URL:https://www.markuskoschuh.at/event-1/das-neue-programm-oben-ohne/2020-09-18/
LOCATION:Innsbruck\, Vierundeinzig\, Hallerstraße 41\, Innsbruck\, 6020\, Österreich
CATEGORIES:Kabarett
ATTACH;FMTTYPE=image/jpeg:https://www.markuskoschuh.at/wp-content/uploads/2020/08/koschuh-kabarett-oben-ohne-vierundeinzig41.jpg
END:VEVENT
BEGIN:VEVENT
DTSTART;TZID=Europe/Vienna:20200917T200000
DTEND;TZID=Europe/Vienna:20200917T220000
DTSTAMP:20260421T194349
CREATED:20200815T082315Z
LAST-MODIFIED:20200823T153327Z
UID:10000321-1600372800-1600380000@www.markuskoschuh.at
SUMMARY:PREMIERE Neues Programm "OBEN OHNE"
DESCRIPTION:Wenn die Normalität dem ganz normalen Wahnsinn weicht\, kriegt man echt die Krise – und „Oben ohne“ bekommt wegen eines Virus eine neue Bedeutung: Politiker\, die immer alles richtig machen\, Nachbarn\, die sich gegenseitig anzeigen\, Erntehelfer und Pflegehelferinnen\, die plötzlich systemrelevante Heldinnen und Helden sind – und eigens eingeflogen werden. Was machen Maskenpflicht und Co mit uns und aus uns? Und ist die „alte Normalität“ tatsächlich so erstrebenswert?\n„Oben ohne“. Das Programm zur Krise\, zum Davor und zum möglichen Danach. Gespickt mit zahlreichen saukomischen und nackten Wahrheiten – eben: Oben ohne. Das beste kabarettistische Virenschutzprogramm zurzeit! \nPREMIERE: 17.9.2020\, 20 Uhr\, „VierUndEinzig“\, Hallerstraße 41\, Innsbruck\nTermine im Haus VierUndEinzig: DO 17.9. (Premiere)\, FR 18.9.\, MI 23.9\, SA 26.9.\, DI\, 6.10\, MI 7.10\, DO 8.10\, 20 Uhr\nTICKETS AUSSCHLIESSLICH ÜBER www.kki.at \nFoto/Montage (c) schwaighofer-art.com
URL:https://www.markuskoschuh.at/event-1/premiere-neues-programm-oben-ohne/
LOCATION:Innsbruck\, Vierundeinzig\, Hallerstraße 41\, Innsbruck\, 6020\, Österreich
CATEGORIES:Kabarett
ATTACH;FMTTYPE=image/jpeg:https://www.markuskoschuh.at/wp-content/uploads/2020/08/koschuh-kabarett-oben-ohne-vierundeinzig41.jpg
END:VEVENT
BEGIN:VEVENT
DTSTART;TZID=Europe/Vienna:20200605T200000
DTEND;TZID=Europe/Vienna:20200605T220000
DTSTAMP:20260421T194349
CREATED:20200328T184607Z
LAST-MODIFIED:20200525T185804Z
UID:10000308-1591387200-1591394400@www.markuskoschuh.at
SUMMARY:Hoamatl - Das Österreich-Programm
DESCRIPTION:Leider ABGESAGT/VERSCHOBEN – Neuer Termin folgt! \nIn seinem neuen Kabarettprogramm zeichnet Markus Koschuh ein gleichermaßen irrwitziges wie schonungsloses Sittenbild: Von Verbandelten & Verbandlern\, Mitmachern & Profiteuren\, Mitwissern & Wegschauern in der stets so idyllisch präsentierten rot-weiß-roten Alpenrepublik. 
URL:https://www.markuskoschuh.at/event-1/hoamatl-das-oesterreich-programm-7/
LOCATION:Innsbruck\, Treibhaus\, Angerzellgasse 8\, 6020 Innsbruck\, Österreich
CATEGORIES:Kabarett
ATTACH;FMTTYPE=image/jpeg:https://www.markuskoschuh.at/wp-content/uploads/2020/02/koschuh-kabarett-hoamatl-Treibhaus.jpg
END:VEVENT
BEGIN:VEVENT
DTSTART;TZID=Europe/Vienna:20200603T200000
DTEND;TZID=Europe/Vienna:20200603T200000
DTSTAMP:20260421T194349
CREATED:20200211T232217Z
LAST-MODIFIED:20200525T184845Z
UID:10000289-1591214400-1591214400@www.markuskoschuh.at
SUMMARY:Hoamatl. Das Österreich-Programm
DESCRIPTION:Leider ABGESAGT/VERSCHOBEN – Neuer Termin folgt! \nIn seinem neuen Kabarettprogramm zeichnet Markus Koschuh ein gleichermaßen irrwitziges wie schonungsloses Sittenbild: Von Verbandelten & Verbandlern\, Mitmachern & Profiteuren\, Mitwissern & Wegschauern in der stets so idyllisch präsentierten rot-weiß-roten Alpenrepublik.
URL:https://www.markuskoschuh.at/event-1/hoamatl-das-neue-programm-2/
LOCATION:Wörgl\, VZ Komma\, KR. Martin-Pichlerstraße 21a\, Wörgl\, 6300\, Österreich
CATEGORIES:Kabarett
ATTACH;FMTTYPE=image/jpeg:https://www.markuskoschuh.at/wp-content/uploads/2020/02/koschuh-kabarett-hoamatl-vz-koma-woergl.jpg
END:VEVENT
BEGIN:VEVENT
DTSTART;TZID=Europe/Vienna:20200522T200000
DTEND;TZID=Europe/Vienna:20200522T220000
DTSTAMP:20260421T194349
CREATED:20200326T225129Z
LAST-MODIFIED:20200424T195214Z
UID:10000303-1590177600-1590184800@www.markuskoschuh.at
SUMMARY:Hoamatl. Das Österreich-Programm
DESCRIPTION:Leider ABGESAGT/VERSCHOBEN – Neuer Termin folgt!In seinem neuen Kabarettprogramm zeichnet Markus Koschuh ein gleichermaßen irrwitziges wie schonungsloses Sittenbild: Von Verbandelten & Verbandlern\, Mitmachern & Profiteuren\, Mitwissern & Wegschauern in der stets so idyllisch präsentierten rot-weiß-roten Alpenrepublik.
URL:https://www.markuskoschuh.at/event-1/hoamatl-das-oesterreich-programm-5/
LOCATION:Innsbruck\, Treibhaus\, Angerzellgasse 8\, 6020 Innsbruck\, Österreich
CATEGORIES:Kabarett
ATTACH;FMTTYPE=image/jpeg:https://www.markuskoschuh.at/wp-content/uploads/2020/02/koschuh-kabarett-hoamatl-Treibhaus.jpg
END:VEVENT
BEGIN:VEVENT
DTSTART;TZID=Europe/Vienna:20200509T200000
DTEND;TZID=Europe/Vienna:20200509T220000
DTSTAMP:20260421T194349
CREATED:20200328T181216Z
LAST-MODIFIED:20200424T195042Z
UID:10000307-1589054400-1589061600@www.markuskoschuh.at
SUMMARY:Hoamatl - Das Österreich-Programm
DESCRIPTION:Leider ABGESAGT/VERSCHOBEN – Neuer Termin folgt! \nIn seinem neuen Kabarettprogramm zeichnet Markus Koschuh ein gleichermaßen irrwitziges wie schonungsloses Sittenbild: Von Verbandelten & Verbandlern\, Mitmachern & Profiteuren\, Mitwissern & Wegschauern in der stets so idyllisch präsentierten rot-weiß-roten Alpenrepublik. 
URL:https://www.markuskoschuh.at/event-1/hoamatl-das-oesterreich-programm-6/
LOCATION:Längenfeld\, Gemeindesaal\, Oberlängenfeld 72\, Oberlängenfeld\, 6444\, Österreich
CATEGORIES:Kabarett
ATTACH;FMTTYPE=image/jpeg:https://www.markuskoschuh.at/wp-content/uploads/2020/03/koschuh-kabarett-hoamatl-längenfeld.jpg
END:VEVENT
BEGIN:VEVENT
DTSTART;TZID=Europe/Vienna:20200508T200000
DTEND;TZID=Europe/Vienna:20200508T220000
DTSTAMP:20260421T194349
CREATED:20200326T224603Z
LAST-MODIFIED:20200424T194940Z
UID:10000302-1588968000-1588975200@www.markuskoschuh.at
SUMMARY:Hoamatl. Das Österreich-Programm
DESCRIPTION:Leider ABGESAGT / VERSCHOBEN!  \nIn seinem neuen Kabarettprogramm zeichnet Markus Koschuh ein gleichermaßen irrwitziges wie schonungsloses Sittenbild: Von Verbandelten & Verbandlern\, Mitmachern & Profiteuren\, Mitwissern & Wegschauern in der stets so idyllisch präsentierten rot-weiß-roten Alpenrepublik.
URL:https://www.markuskoschuh.at/event-1/hoamatl-das-oesterreich-programm-4/
LOCATION:Lermoos\, Kultursaal\, Österreich
CATEGORIES:Kabarett
ATTACH;FMTTYPE=image/jpeg:https://www.markuskoschuh.at/wp-content/uploads/2020/03/koschuh-kabarett-hoamatl-lermoos.jpg
END:VEVENT
BEGIN:VEVENT
DTSTART;TZID=Europe/Vienna:20200418T200000
DTEND;TZID=Europe/Vienna:20200418T220000
DTSTAMP:20260421T194349
CREATED:20200326T223702Z
LAST-MODIFIED:20200331T193402Z
UID:10000301-1587240000-1587247200@www.markuskoschuh.at
SUMMARY:Hoamatl. Das Österreich-Programm
DESCRIPTION:ABGESAGT/VERSCHOBEN – Neuer Termin folgt!In seinem neuen Kabarettprogramm zeichnet Markus Koschuh ein    gleichermaßen irrwitziges wie schonungsloses Sittenbild: Von    Verbandelten & Verbandlern\, Mitmachern & Profiteuren\, Mitwissern    & Wegschauern in der stets so idyllisch präsentierten    rot-weiß-roten Alpenrepublik.
URL:https://www.markuskoschuh.at/event-1/hoamatl-das-oesterreich-programm-3/
LOCATION:Zams\, Kultursaal\, Oberreitweg 3\, Zams\, 6511\, Österreich
CATEGORIES:Kabarett
ATTACH;FMTTYPE=image/jpeg:https://www.markuskoschuh.at/wp-content/uploads/2020/03/koschuh-kabarett-hoamatl-zams.jpg
END:VEVENT
BEGIN:VEVENT
DTSTART;TZID=Europe/Vienna:20200417T200000
DTEND;TZID=Europe/Vienna:20200417T223000
DTSTAMP:20260421T194349
CREATED:20200326T222054Z
LAST-MODIFIED:20200328T201424Z
UID:10000300-1587153600-1587162600@www.markuskoschuh.at
SUMMARY:Hoamatl. Das Österreich-Programm
DESCRIPTION:ABGESAGT/VERSCHOBEN – Neuer Termin folgt! In seinem neuen Kabarettprogramm zeichnet Markus Koschuh ein   gleichermaßen irrwitziges wie schonungsloses Sittenbild: Von   Verbandelten & Verbandlern\, Mitmachern & Profiteuren\, Mitwissern   & Wegschauern in der stets so idyllisch präsentierten   rot-weiß-roten Alpenrepublik.
URL:https://www.markuskoschuh.at/event-1/hoamatl-das-oesterreich-programm-2/
LOCATION:Silz\, Gemeindesaal\, Widumgasse 1-3\,\, Silz\, 6424\, Österreich
CATEGORIES:Kabarett
ATTACH;FMTTYPE=image/jpeg:https://www.markuskoschuh.at/wp-content/uploads/2020/03/koschuh-kabarett-hoamatl-Silz.jpg
END:VEVENT
BEGIN:VEVENT
DTSTART;TZID=Europe/Vienna:20200331T200000
DTEND;TZID=Europe/Vienna:20200331T220000
DTSTAMP:20260421T194349
CREATED:20200326T204143Z
LAST-MODIFIED:20200328T114134Z
UID:10000299-1585684800-1585692000@www.markuskoschuh.at
SUMMARY:Hoamatl. Das Österreich-Programm
DESCRIPTION:ABGESAGT/VERSCHOBEN – Neuer Termin folgt! In seinem neuen Kabarettprogramm zeichnet Markus Koschuh ein  gleichermaßen irrwitziges wie schonungsloses Sittenbild: Von  Verbandelten & Verbandlern\, Mitmachern & Profiteuren\, Mitwissern  & Wegschauern in der stets so idyllisch präsentierten  rot-weiß-roten Alpenrepublik.  (Termin auf 22.5.2020 verschoben)
URL:https://www.markuskoschuh.at/event-1/hoamatl-das-osterreich-programm/
LOCATION:Innsbruck\, Treibhaus\, Angerzellgasse 8\, 6020 Innsbruck\, Österreich
CATEGORIES:Kabarett
ATTACH;FMTTYPE=image/jpeg:https://www.markuskoschuh.at/wp-content/uploads/2020/02/koschuh-kabarett-hoamatl-Treibhaus.jpg
END:VEVENT
BEGIN:VEVENT
DTSTART;TZID=Europe/Vienna:20200326T200000
DTEND;TZID=Europe/Vienna:20200326T220000
DTSTAMP:20260421T194349
CREATED:20200326T181244Z
LAST-MODIFIED:20200327T211346Z
UID:10000297-1585252800-1585260000@www.markuskoschuh.at
SUMMARY:Hoamatl. Das Österreich-Programm
DESCRIPTION:ACHTUNG Verschoben auf den 3.Juni2020! In seinem neuen Kabarettprogramm zeichnet Markus Koschuh ein  gleichermaßen irrwitziges wie schonungsloses Sittenbild: Von  Verbandelten & Verbandlern\, Mitmachern & Profiteuren\, Mitwissern  & Wegschauern in der stets so idyllisch präsentierten  rot-weiß-roten Alpenrepublik.Gekaufte Tickets sind für den Ersatztermin gültig!
URL:https://www.markuskoschuh.at/event-1/hoamatl-das-oesterreich-programm/
LOCATION:Wörgl\, VZ Komma\, KR. Martin-Pichlerstraße 21a\, Wörgl\, 6300\, Österreich
CATEGORIES:Kabarett
ATTACH;FMTTYPE=image/jpeg:https://www.markuskoschuh.at/wp-content/uploads/2020/02/koschuh-kabarett-hoamatl-vz-koma-woergl.jpg
END:VEVENT
END:VCALENDAR