BEGIN:VCALENDAR
VERSION:2.0
PRODID:-//Markus Koschuh - ECPv6.15.11//NONSGML v1.0//EN
CALSCALE:GREGORIAN
METHOD:PUBLISH
X-WR-CALNAME:Markus Koschuh
X-ORIGINAL-URL:https://www.markuskoschuh.at
X-WR-CALDESC:Veranstaltungen für Markus Koschuh
REFRESH-INTERVAL;VALUE=DURATION:PT1H
X-Robots-Tag:noindex
X-PUBLISHED-TTL:PT1H
BEGIN:VTIMEZONE
TZID:Europe/Vienna
BEGIN:DAYLIGHT
TZOFFSETFROM:+0100
TZOFFSETTO:+0200
TZNAME:CEST
DTSTART:20240331T010000
END:DAYLIGHT
BEGIN:STANDARD
TZOFFSETFROM:+0200
TZOFFSETTO:+0100
TZNAME:CET
DTSTART:20241027T010000
END:STANDARD
BEGIN:DAYLIGHT
TZOFFSETFROM:+0100
TZOFFSETTO:+0200
TZNAME:CEST
DTSTART:20250330T010000
END:DAYLIGHT
BEGIN:STANDARD
TZOFFSETFROM:+0200
TZOFFSETTO:+0100
TZNAME:CET
DTSTART:20251026T010000
END:STANDARD
BEGIN:DAYLIGHT
TZOFFSETFROM:+0100
TZOFFSETTO:+0200
TZNAME:CEST
DTSTART:20260329T010000
END:DAYLIGHT
BEGIN:STANDARD
TZOFFSETFROM:+0200
TZOFFSETTO:+0100
TZNAME:CET
DTSTART:20261025T010000
END:STANDARD
END:VTIMEZONE
BEGIN:VEVENT
DTSTART;TZID=Europe/Vienna:20251001T193000
DTEND;TZID=Europe/Vienna:20251001T210000
DTSTAMP:20260422T220720
CREATED:20250825T204312Z
LAST-MODIFIED:20250904T192907Z
UID:10000830-1759347000-1759352400@www.markuskoschuh.at
SUMMARY:Asterix auf Tirolerisch. Präsentation/Lesung!
DESCRIPTION:Vor 25 Jahren sorgte die erste Asterix-Übersetzung ins Tirolerische durch Felix Mitterer (’s groaße Gschäft) für Furore – nun gibt es endlich einen zweiten tirolerischen Asterix: „Mander\, ’s isch Zeit!“ Verantwortlich dafür zeichnet bzw schreibt Kabarettist Markus Koschuh. Er hat den „Kampf der Häuptlinge“ übersetzt und daraus „Mander `s isch Zeit!“ gemacht. Beim Übersetzen gewährte der deutsche Egmont-Verlag viele Freiheiten – und so kann man auf diesen tirolerischen Band gespannt sein! \n\n\n\nBüchertisch! Gerne signiert Markus Koschuh Ihr persönliches Asterix-Exemplar! \n\n\n\n\nEintritt frei
URL:https://www.markuskoschuh.at/event-1/asterix-erobert-laengenfeld-praesentation/
LOCATION:Längenfeld\, Mesner Haus\, Oberlängenfeld 24\, Längenfeld\, Tirol\, 6444\, Austria
CATEGORIES:Lesung,Special
ATTACH;FMTTYPE=image/jpeg:https://www.markuskoschuh.at/wp-content/uploads/2025/04/1024_ECC_01_ASTERIX_MUN_F30-klein.jpg
END:VEVENT
BEGIN:VEVENT
DTSTART;TZID=Europe/Vienna:20251010T100000
DTEND;TZID=Europe/Vienna:20251010T110000
DTSTAMP:20260422T220720
CREATED:20251002T180255Z
LAST-MODIFIED:20251002T180258Z
UID:10000836-1760090400-1760094000@www.markuskoschuh.at
SUMMARY:Asterix auf Tirolerisch. Präsentation/Lesung!
DESCRIPTION:Eine Sonderveranstaltung für die Mittelschule Wildermieming! Vor 25 Jahren sorgte die erste Asterix-Übersetzung ins Tirolerische durch Felix Mitterer (’s groaße Gschäft) für Furore – nun gibt es endlich einen zweiten tirolerischen Asterix: „Mander\, ’s isch Zeit!“ Verantwortlich dafür zeichnet bzw schreibt Kabarettist Markus Koschuh. Er hat den „Kampf der Häuptlinge“ übersetzt und daraus „Mander `s isch Zeit!“ gemacht. Beim Übersetzen gewährte der deutsche Egmont-Verlag viele Freiheiten – und so kann man auf diesen tirolerischen Band gespannt sein! \n\n\n\n \n\n\n\n\nGeschlossene Veranstaltung
URL:https://www.markuskoschuh.at/event-1/asterix-auf-tirolerisch-praesentation-lesung-2/
LOCATION:Mieming\, Gemeindesaal\, Obermieming 175\, Mieming\, Tirol\, 6414\, Austria
CATEGORIES:Lesung,Special
ATTACH;FMTTYPE=image/jpeg:https://www.markuskoschuh.at/wp-content/uploads/2025/04/1024_ECC_01_ASTERIX_MUN_F30-klein.jpg
END:VEVENT
BEGIN:VEVENT
DTSTART;TZID=Europe/Vienna:20251017T193000
DTEND;TZID=Europe/Vienna:20251017T210000
DTSTAMP:20260422T220720
CREATED:20250825T193127Z
LAST-MODIFIED:20250904T193008Z
UID:10000828-1760729400-1760734800@www.markuskoschuh.at
SUMMARY:Asterix auf Tirolerisch. Präsentation/Lesung!
DESCRIPTION:Vor 25 Jahren sorgte die erste Asterix-Übersetzung ins Tirolerische durch Felix Mitterer (’s groaße Gschäft) für Furore – nun gibt es endlich einen zweiten tirolerischen Asterix: „Mander\, ’s isch Zeit!“ Verantwortlich dafür zeichnet bzw schreibt Kabarettist Markus Koschuh. Er hat den „Kampf der Häuptlinge“ übersetzt und daraus „Mander `s isch Zeit!“ gemacht. Beim Übersetzen gewährte der deutsche Egmont-Verlag viele Freiheiten – und so kann man auf diesen tirolerischen Band gespannt sein! \n\n\n\nBüchertisch! Gerne signiert Markus Koschuh Ihr persönliches Asterix-Exemplar! \n\n\n\n\nAnmeldung erbeten: 0664/88005681
URL:https://www.markuskoschuh.at/event-1/asterix-auf-tirolerisch-lesung-4/
LOCATION:Leutasch\, Ganghofermuseum\, Kirchplatzl 154\, Leutasch\, Tirol\, 6105\, Österreich
CATEGORIES:Lesung,Special
ATTACH;FMTTYPE=image/jpeg:https://www.markuskoschuh.at/wp-content/uploads/2025/04/1024_ECC_01_ASTERIX_MUN_F30-klein.jpg
END:VEVENT
BEGIN:VEVENT
DTSTART;TZID=Europe/Vienna:20251021T190000
DTEND;TZID=Europe/Vienna:20251021T203000
DTSTAMP:20260422T220720
CREATED:20250912T163320Z
LAST-MODIFIED:20250912T163323Z
UID:10000834-1761073200-1761078600@www.markuskoschuh.at
SUMMARY:Asterix auf Tirolerisch. Präsentation/Lesung!
DESCRIPTION:Vor 25 Jahren sorgte die erste Asterix-Übersetzung ins Tirolerische durch Felix Mitterer (’s groaße Gschäft) für Furore – nun gibt es endlich einen zweiten tirolerischen Asterix: „Mander\, ’s isch Zeit!“ Verantwortlich dafür zeichnet bzw schreibt Kabarettist Markus Koschuh. Er hat den „Kampf der Häuptlinge“ übersetzt und daraus „Mander `s isch Zeit!“ gemacht. Beim Übersetzen gewährte der deutsche Egmont-Verlag viele Freiheiten – und so kann man auf diesen tirolerischen Band gespannt sein! \n\n\n\nBüchertisch! Gerne signiert Markus Koschuh Ihr persönliches Asterix-Exemplar! \n\n\n\n\nEintritt frei!
URL:https://www.markuskoschuh.at/event-1/asterix-auf-tirolerisch-praesentation-lesung/
LOCATION:Galtür\, Alpinarium\, Hauptstraße 29c\, Galtür\, Tirol\, 6563\, Austria
CATEGORIES:Lesung,Special
ATTACH;FMTTYPE=image/jpeg:https://www.markuskoschuh.at/wp-content/uploads/2025/04/1024_ECC_01_ASTERIX_MUN_F30-klein.jpg
END:VEVENT
END:VCALENDAR