BEGIN:VCALENDAR
VERSION:2.0
PRODID:-//Markus Koschuh - ECPv6.15.11//NONSGML v1.0//EN
CALSCALE:GREGORIAN
METHOD:PUBLISH
X-WR-CALNAME:Markus Koschuh
X-ORIGINAL-URL:https://www.markuskoschuh.at
X-WR-CALDESC:Veranstaltungen für Markus Koschuh
REFRESH-INTERVAL;VALUE=DURATION:PT1H
X-Robots-Tag:noindex
X-PUBLISHED-TTL:PT1H
BEGIN:VTIMEZONE
TZID:Europe/Vienna
BEGIN:DAYLIGHT
TZOFFSETFROM:+0100
TZOFFSETTO:+0200
TZNAME:CEST
DTSTART:20230326T010000
END:DAYLIGHT
BEGIN:STANDARD
TZOFFSETFROM:+0200
TZOFFSETTO:+0100
TZNAME:CET
DTSTART:20231029T010000
END:STANDARD
BEGIN:DAYLIGHT
TZOFFSETFROM:+0100
TZOFFSETTO:+0200
TZNAME:CEST
DTSTART:20240331T010000
END:DAYLIGHT
BEGIN:STANDARD
TZOFFSETFROM:+0200
TZOFFSETTO:+0100
TZNAME:CET
DTSTART:20241027T010000
END:STANDARD
BEGIN:DAYLIGHT
TZOFFSETFROM:+0100
TZOFFSETTO:+0200
TZNAME:CEST
DTSTART:20250330T010000
END:DAYLIGHT
BEGIN:STANDARD
TZOFFSETFROM:+0200
TZOFFSETTO:+0100
TZNAME:CET
DTSTART:20251026T010000
END:STANDARD
END:VTIMEZONE
BEGIN:VEVENT
DTSTART;TZID=Europe/Vienna:20241009T183000
DTEND;TZID=Europe/Vienna:20241009T200000
DTSTAMP:20260423T093032
CREATED:20241007T073626Z
LAST-MODIFIED:20241007T073627Z
UID:10000737-1728498600-1728504000@www.markuskoschuh.at
SUMMARY:mental health awareness Podiumsdiskussion
DESCRIPTION:Das Reithmanngymnasium Innsbruck lädt zu einer spannenden\, hochkarätig besetzten Diskussion zu einem brennenden Thema: Wie steht es um die mentale Gesundheit von Jugendlichen? Wo gibt es die größten Baustellen\, wo gibt es dringenden Handlungsbedarf\, was kann jedeR EinzelneR tun? Mit: Barbara Haid (Bundesverband für Psychotherapie)\, Dr.in Katrin Sevecke (Kinder- und Jugendpsychiatrie Hall)\, Golly Marboe (Verein zur Förderung eines selbstbestimmten Umgangs mit Medien)\, Dr. Werner Mayr (Bildungsdirektion Tirol)\, Marco Wehinger (Bereichs-Schulsprecher BMHS)\, Christian Haring (GF Tirol Kliniken)
URL:https://www.markuskoschuh.at/event-1/mental-health-awareness-podiumsdiskussion/
LOCATION:Reithmanngymnasium\, Innsbruck\, Reithmannstraße 1 + 3\, Innsbruck\, Tirol\, 60020\, Österreich
CATEGORIES:Moderation
ATTACH;FMTTYPE=image/jpeg:https://www.markuskoschuh.at/wp-content/uploads/2020/02/csm_Markus_Koschuh_Schwarzmalen_c_Bullock_5fef13c356.jpg
END:VEVENT
END:VCALENDAR