BEGIN:VCALENDAR
VERSION:2.0
PRODID:-//Markus Koschuh - ECPv6.15.11//NONSGML v1.0//EN
CALSCALE:GREGORIAN
METHOD:PUBLISH
X-WR-CALNAME:Markus Koschuh
X-ORIGINAL-URL:https://www.markuskoschuh.at
X-WR-CALDESC:Veranstaltungen für Markus Koschuh
REFRESH-INTERVAL;VALUE=DURATION:PT1H
X-Robots-Tag:noindex
X-PUBLISHED-TTL:PT1H
BEGIN:VTIMEZONE
TZID:Europe/Vienna
BEGIN:DAYLIGHT
TZOFFSETFROM:+0100
TZOFFSETTO:+0200
TZNAME:CEST
DTSTART:20240331T010000
END:DAYLIGHT
BEGIN:STANDARD
TZOFFSETFROM:+0200
TZOFFSETTO:+0100
TZNAME:CET
DTSTART:20241027T010000
END:STANDARD
BEGIN:DAYLIGHT
TZOFFSETFROM:+0100
TZOFFSETTO:+0200
TZNAME:CEST
DTSTART:20250330T010000
END:DAYLIGHT
BEGIN:STANDARD
TZOFFSETFROM:+0200
TZOFFSETTO:+0100
TZNAME:CET
DTSTART:20251026T010000
END:STANDARD
BEGIN:DAYLIGHT
TZOFFSETFROM:+0100
TZOFFSETTO:+0200
TZNAME:CEST
DTSTART:20260329T010000
END:DAYLIGHT
BEGIN:STANDARD
TZOFFSETFROM:+0200
TZOFFSETTO:+0100
TZNAME:CET
DTSTART:20261025T010000
END:STANDARD
END:VTIMEZONE
BEGIN:VEVENT
DTSTART;TZID=Europe/Vienna:20250108T160000
DTEND;TZID=Europe/Vienna:20250108T173000
DTSTAMP:20260423T052100
CREATED:20241124T090554Z
LAST-MODIFIED:20241124T090556Z
UID:10000746-1736352000-1736357400@www.markuskoschuh.at
SUMMARY:Uni-Lehre Plus. Die Preisverleihung
DESCRIPTION:
URL:https://www.markuskoschuh.at/event-1/uni-lehre-plus-die-preisverleihung/
LOCATION:Universität Innsbruck\, Aula\, Innrain 152\, Innsbruck\, Tirol\, 6020\, Österreich
CATEGORIES:Moderation
ATTACH;FMTTYPE=image/jpeg:https://www.markuskoschuh.at/wp-content/uploads/2023/03/koschuh_c_Thomas_Boehm3web.jpg
END:VEVENT
END:VCALENDAR