BEGIN:VCALENDAR
VERSION:2.0
PRODID:-//Markus Koschuh - ECPv6.15.11//NONSGML v1.0//EN
CALSCALE:GREGORIAN
METHOD:PUBLISH
X-ORIGINAL-URL:https://www.markuskoschuh.at
X-WR-CALDESC:Veranstaltungen für Markus Koschuh
REFRESH-INTERVAL;VALUE=DURATION:PT1H
X-Robots-Tag:noindex
X-PUBLISHED-TTL:PT1H
BEGIN:VTIMEZONE
TZID:Europe/Vienna
BEGIN:DAYLIGHT
TZOFFSETFROM:+0100
TZOFFSETTO:+0200
TZNAME:CEST
DTSTART:20240331T010000
END:DAYLIGHT
BEGIN:STANDARD
TZOFFSETFROM:+0200
TZOFFSETTO:+0100
TZNAME:CET
DTSTART:20241027T010000
END:STANDARD
BEGIN:DAYLIGHT
TZOFFSETFROM:+0100
TZOFFSETTO:+0200
TZNAME:CEST
DTSTART:20250330T010000
END:DAYLIGHT
BEGIN:STANDARD
TZOFFSETFROM:+0200
TZOFFSETTO:+0100
TZNAME:CET
DTSTART:20251026T010000
END:STANDARD
BEGIN:DAYLIGHT
TZOFFSETFROM:+0100
TZOFFSETTO:+0200
TZNAME:CEST
DTSTART:20260329T010000
END:DAYLIGHT
BEGIN:STANDARD
TZOFFSETFROM:+0200
TZOFFSETTO:+0100
TZNAME:CET
DTSTART:20261025T010000
END:STANDARD
BEGIN:DAYLIGHT
TZOFFSETFROM:+0100
TZOFFSETTO:+0200
TZNAME:CEST
DTSTART:20270328T010000
END:DAYLIGHT
BEGIN:STANDARD
TZOFFSETFROM:+0200
TZOFFSETTO:+0100
TZNAME:CET
DTSTART:20271031T010000
END:STANDARD
END:VTIMEZONE
BEGIN:VEVENT
DTSTART;TZID=Europe/Vienna:20250829T160000
DTEND;TZID=Europe/Vienna:20250829T170000
DTSTAMP:20260423T000032
CREATED:20250810T084113Z
LAST-MODIFIED:20250810T084115Z
UID:10000820-1756483200-1756486800@www.markuskoschuh.at
SUMMARY:Zum Kuckuck. Das Open Mic. Ein Special im Rahmen des BOTANICA Festivals
DESCRIPTION:Innsbruck\, Patagonia Store \n\n\n\n\nBotanica Festival Tickets\n\n\n\n\n\n\n\n\n\n\n\n\n\n\n\n\n\n\n„ZUM KUCKUCK – Your voice for a change“ bietet eine Bühne für alle\, die ihre Stimme erheben wollen: Für Natur und Umwelt\, das Klima\, unseren Planeten\, unsere Lebensqualität.Wir stellen Dir eine Bühne\, ein Mikrofon und fünf Minuten zur Verfügung. Sag was\, lies was\, erhebe deine Stimme! Auch Liedermacher:innen sind gerne willkommen! Anmeldung unter: info@zumkuckuck.tirol \n\n\n\n \n\n\n\nZUM KUCKUCK – OPEN MIC your voice for a change. Ein Special im Rahmen des BOTANICA. 29. August 2025\, ca 16 – 17 Uhr.Moderation: Markus KoschuhEin Event von Tiroler Umweltanwaltschaft und Botanica.
URL:https://www.markuskoschuh.at/event-1/zum-kuckuck-das-open-mic-ein-special-im-rahmen-des-botanica-festivals/
LOCATION:Innsbruck\, Botanischer Garten\, Sternwartestraße 15\, Innsbruck\, Tirol\, 6020\, Austria
CATEGORIES:Moderation,Special
ATTACH;FMTTYPE=image/jpeg:https://www.markuskoschuh.at/wp-content/uploads/2023/03/koschuh-kabarett-zumKuckuck-patagonia-innsbruck.jpg
END:VEVENT
BEGIN:VEVENT
DTSTART;TZID=Europe/Vienna:20250923T160000
DTEND;TZID=Europe/Vienna:20250923T190000
DTSTAMP:20260423T000032
CREATED:20250902T093933Z
LAST-MODIFIED:20250902T093936Z
UID:10000831-1758643200-1758654000@www.markuskoschuh.at
SUMMARY:40 Jahre ZEMIT! Ein Fest aus (Migrationshinter)Gründen
DESCRIPTION:Das Zentrum für Migrantinnen und Migranten in Tirol ZEMIT wollte schon sein 35-jähriges Bestehen gebührend feiern. Corona machte einen Strich durch die Rechnung. Der 40er wird umso ausgiebiger gefeiert. Und das aus Gründen. Vielen Gründen. Kaum eine Einrichtung\, die derart beständig und kompetente Beratung und Hilfeleistung anbietet!
URL:https://www.markuskoschuh.at/event-1/40-jahre-zemit-ein-fest-aus-migrationshintergruenden/
LOCATION:Innsbruck\, Landhaus\, Eduard-Wallnöfer-Platz 2\, Innsbruck\, 6020\, Österreich
CATEGORIES:Kabarett,Moderation
ATTACH;FMTTYPE=image/jpeg:https://www.markuskoschuh.at/wp-content/uploads/2023/03/koschuh_c_Thomas_Boehm3web.jpg
END:VEVENT
BEGIN:VEVENT
DTSTART;TZID=Europe/Vienna:20251008T150000
DTEND;TZID=Europe/Vienna:20251008T223000
DTSTAMP:20260423T000032
CREATED:20250817T202634Z
LAST-MODIFIED:20250817T203012Z
UID:10000826-1759935600-1759962600@www.markuskoschuh.at
SUMMARY:coolnest Poetry Slam incl Workshop
DESCRIPTION:Ein ganz besonderer Workshop und Poetry Slam im Rahmen der art&soul-Week im Megahotel coolnest in Mayrhofen! Infos: www.coolnest.at!
URL:https://www.markuskoschuh.at/event-1/coolnest-poetry-slam-incl-workshop/
LOCATION:Ramsau im Zillertal\, Hotel coolnest\, Ramsau 425\, Ramsau im Zillertal\, Tirol\, 6284\, Austria
CATEGORIES:Moderation,Poetry-Slam
ATTACH;FMTTYPE=image/jpeg:https://www.markuskoschuh.at/wp-content/uploads/2022/11/koschuh_obenohne_TOB0090-scaled-e1667924563455.jpg
END:VEVENT
BEGIN:VEVENT
DTSTART;TZID=Europe/Vienna:20251015T190000
DTEND;TZID=Europe/Vienna:20251015T210000
DTSTAMP:20260423T000032
CREATED:20250810T083221Z
LAST-MODIFIED:20250810T083224Z
UID:10000819-1760554800-1760562000@www.markuskoschuh.at
SUMMARY:Zum Kuckuck. Das Open Mic.
DESCRIPTION:Innsbruck\, Patagonia Store \n\n\n\n\n Eintritt frei/ Anmeldung\n\n\n\n\n\n\n\n\n\n\n\n\n\n\n\n\n\n\n„ZUM KUCKUCK – Your voice for a change“ bietet eine Bühne für alle\, die ihre Stimme erheben wollen: Für Natur und Umwelt\, das Klima\, unseren Planeten\, unsere Lebensqualität.Wir stellen Dir eine Bühne\, ein Mikrofon und fünf Minuten zur Verfügung. Sag was\, lies was\, erhebe deine Stimme! Auch Liedermacher:innen sind gerne willkommen! Anmeldung unter: info@zumkuckuck.tirol \n\n\n\nEINTRITT FREI! \n\n\n\nZUM KUCKUCK – OPEN MIC your voice for a change: 15. Oktober 2025\, 19 Uhr.Patagonia Store Innsbruck. Moderation: Markus KoschuhEin Event von Tiroler Umweltanwaltschaft und Patagonia.
URL:https://www.markuskoschuh.at/event-1/zum-kuckuck-das-open-mic-7/
LOCATION:Innsbruck\, Patagonia Store\, Maria-Theresien-Straße 57\, 6020 Innsbruck\, Österreich
CATEGORIES:Moderation
ATTACH;FMTTYPE=image/jpeg:https://www.markuskoschuh.at/wp-content/uploads/2023/03/koschuh-kabarett-zumKuckuck-patagonia-innsbruck.jpg
END:VEVENT
BEGIN:VEVENT
DTSTART;TZID=Europe/Vienna:20251121T180000
DTEND;TZID=Europe/Vienna:20251121T200000
DTSTAMP:20260423T000032
CREATED:20251020T191016Z
LAST-MODIFIED:20251020T191019Z
UID:10000838-1763748000-1763755200@www.markuskoschuh.at
SUMMARY:Spielweisen Teil 1. Was Blasmusik sein kann. Diskussion
DESCRIPTION:
URL:https://www.markuskoschuh.at/event-1/spielweisen-teil-1-was-blasmusik-sein-kann-diskussion/
LOCATION:Innsbruck\, Tirol Panorama Museum\, Bergiselstraße 1-2\, Innsbruck\, Tirol\, 6020\, Austria
CATEGORIES:Moderation
ATTACH;FMTTYPE=image/jpeg:https://www.markuskoschuh.at/wp-content/uploads/2022/01/Markus-Koschuh-jpeg-c-Birgit-Pichler.jpg
END:VEVENT
BEGIN:VEVENT
DTSTART;TZID=Europe/Vienna:20251211T193000
DTEND;TZID=Europe/Vienna:20251211T210000
DTSTAMP:20260423T000032
CREATED:20250406T175231Z
LAST-MODIFIED:20250406T175235Z
UID:10000779-1765481400-1765486800@www.markuskoschuh.at
SUMMARY:Der HDM Salon - Zum guten Ton. Der VIP-Talk. Gast: Corinna Milborn
DESCRIPTION:Tickets demnächst!\n\n\n\n\n \n\n\n\nDas Haus der Musik Innsbruck wird zum Salon für VIP’S – allerdings steht «VIP» nicht für Mitglieder der High Society\, sondern für: «Very Interesting People». Umrahmt vom Innsbrucker Salonquintett lädt Kabarettist Markus Koschuh ausgesprochen interessante Menschen zum Gespräch. Thematisch kann es dabei durchaus auch kontroversiell zugehen – doch zu beachten wird sein: Der Ton macht die Musik. Welche sind die Motive für ihre Arbeit und wo sehen sie die größten Herausforderungen? Dies werden unter anderen die Fragen an die Gäste sein. Und auch das Persönliche\, der Mensch hinter dem öffentlichen Menschen\, nimmt Raum ein. Gast bei Auflage 1 von «Zum guten Ton» wird Puls- 4-Nachrichtenchefin Corinna Milborn sein. Freuen Sie sich auf hochinteressante Einblicke mittels unterhaltsamer Moderation\, umrahmt von erstklassiger Musik!
URL:https://www.markuskoschuh.at/event-1/der-hdm-salon-zum-guten-ton-der-vip-talk-gast-corinna-milborn/
LOCATION:Innsbruck\, Haus der Musik\, Universitätsstraße 1\, Innsbruck\, Tirol\, 6020\, Austria
CATEGORIES:Moderation,Special
ATTACH;FMTTYPE=image/jpeg:https://www.markuskoschuh.at/wp-content/uploads/2025/04/Koschuh_Milborn.jpg
END:VEVENT
BEGIN:VEVENT
DTSTART;TZID=Europe/Vienna:20260116T180000
DTEND;TZID=Europe/Vienna:20260116T200000
DTSTAMP:20260423T000032
CREATED:20251020T191349Z
LAST-MODIFIED:20251020T191352Z
UID:10000839-1768586400-1768593600@www.markuskoschuh.at
SUMMARY:Spielweisen Teil 2. Was Blasmusik sein kann. Diskussion
DESCRIPTION:
URL:https://www.markuskoschuh.at/event-1/spielweisen-teil-2-was-blasmusik-sein-kann-diskussion/
LOCATION:Innsbruck\, Tirol Panorama Museum\, Bergiselstraße 1-2\, Innsbruck\, Tirol\, 6020\, Austria
CATEGORIES:Moderation
ATTACH;FMTTYPE=image/jpeg:https://www.markuskoschuh.at/wp-content/uploads/2022/01/Markus-Koschuh-jpeg-c-Birgit-Pichler.jpg
END:VEVENT
BEGIN:VEVENT
DTSTART;TZID=Europe/Vienna:20260220T180000
DTEND;TZID=Europe/Vienna:20260220T200000
DTSTAMP:20260423T000032
CREATED:20251020T191838Z
LAST-MODIFIED:20251020T191840Z
UID:10000840-1771610400-1771617600@www.markuskoschuh.at
SUMMARY:Spielweisen Teil 3. Was Blasmusik sein kann. Diskussion
DESCRIPTION:
URL:https://www.markuskoschuh.at/event-1/spielweisen-teil-3-was-blasmusik-sein-kann-diskussion/
LOCATION:Innsbruck\, Tirol Panorama Museum\, Bergiselstraße 1-2\, Innsbruck\, Tirol\, 6020\, Austria
CATEGORIES:Moderation
ATTACH;FMTTYPE=image/jpeg:https://www.markuskoschuh.at/wp-content/uploads/2022/01/Markus-Koschuh-jpeg-c-Birgit-Pichler.jpg
END:VEVENT
BEGIN:VEVENT
DTSTART;TZID=Europe/Vienna:20260306T180000
DTEND;TZID=Europe/Vienna:20260306T200000
DTSTAMP:20260423T000032
CREATED:20251020T191958Z
LAST-MODIFIED:20251020T192000Z
UID:10000841-1772820000-1772827200@www.markuskoschuh.at
SUMMARY:Spielweisen Teil 4. Was Blasmusik sein kann. Diskussion
DESCRIPTION:
URL:https://www.markuskoschuh.at/event-1/spielweisen-teil-4-was-blasmusik-sein-kann-diskussion/
LOCATION:Innsbruck\, Tirol Panorama Museum\, Bergiselstraße 1-2\, Innsbruck\, Tirol\, 6020\, Austria
CATEGORIES:Moderation
ATTACH;FMTTYPE=image/jpeg:https://www.markuskoschuh.at/wp-content/uploads/2022/01/Markus-Koschuh-jpeg-c-Birgit-Pichler.jpg
END:VEVENT
BEGIN:VEVENT
DTSTART;TZID=Europe/Vienna:20260420T080000
DTEND;TZID=Europe/Vienna:20260420T170000
DTSTAMP:20260423T000032
CREATED:20250406T180904Z
LAST-MODIFIED:20250406T180906Z
UID:10000782-1776672000-1776704400@www.markuskoschuh.at
SUMMARY:Landesjugendsingen 2026
DESCRIPTION:Das Landesjugendsingen ruft und da kann man schlecht Nein sagen. Eine Veranstaltung\, die Markus Koschuh gerne moderiert.
URL:https://www.markuskoschuh.at/event-1/landesjugendsingen-2026/
LOCATION:Schwaz\, SZentrum\, Andreas-Hofer-Straße 10\, Schwaz\, Tirol\, 6130\, Österreich
CATEGORIES:Moderation,Special
ATTACH;FMTTYPE=image/jpeg:https://www.markuskoschuh.at/wp-content/uploads/2023/03/koschuh_c_Thomas_Boehm3web.jpg
END:VEVENT
BEGIN:VEVENT
DTSTART;TZID=Europe/Vienna:20260422T080000
DTEND;TZID=Europe/Vienna:20260422T170000
DTSTAMP:20260423T000032
CREATED:20250406T181202Z
LAST-MODIFIED:20250406T181205Z
UID:10000784-1776844800-1776877200@www.markuskoschuh.at
SUMMARY:Landesjugendsingen 2026
DESCRIPTION:Das Landesjugendsingen ruft und da kann man schlecht Nein sagen. Eine Veranstaltung\, die Markus Koschuh gerne moderiert.
URL:https://www.markuskoschuh.at/event-1/landesjugendsingen-2026-3/
LOCATION:Schwaz\, SZentrum\, Andreas-Hofer-Straße 10\, Schwaz\, Tirol\, 6130\, Österreich
CATEGORIES:Moderation,Special
ATTACH;FMTTYPE=image/jpeg:https://www.markuskoschuh.at/wp-content/uploads/2023/03/koschuh_c_Thomas_Boehm3web.jpg
END:VEVENT
BEGIN:VEVENT
DTSTART;TZID=Europe/Vienna:20260423T080000
DTEND;TZID=Europe/Vienna:20260423T170000
DTSTAMP:20260423T000032
CREATED:20250406T181338Z
LAST-MODIFIED:20250406T181340Z
UID:10000785-1776931200-1776963600@www.markuskoschuh.at
SUMMARY:Landesjugendsingen 2026
DESCRIPTION:Das Landesjugendsingen ruft und da kann man schlecht Nein sagen. Eine Veranstaltung\, die Markus Koschuh gerne moderiert.
URL:https://www.markuskoschuh.at/event-1/landesjugendsingen-2026-4/
LOCATION:Schwaz\, SZentrum\, Andreas-Hofer-Straße 10\, Schwaz\, Tirol\, 6130\, Österreich
CATEGORIES:Moderation,Special
ATTACH;FMTTYPE=image/jpeg:https://www.markuskoschuh.at/wp-content/uploads/2023/03/koschuh_c_Thomas_Boehm3web.jpg
END:VEVENT
BEGIN:VEVENT
DTSTART;TZID=Europe/Vienna:20260424T080000
DTEND;TZID=Europe/Vienna:20260424T170000
DTSTAMP:20260423T000032
CREATED:20250406T181547Z
LAST-MODIFIED:20250406T181549Z
UID:10000786-1777017600-1777050000@www.markuskoschuh.at
SUMMARY:Landesjugendsingen 2026. Der Festakt
DESCRIPTION:Das Landesjugendsingen ruft und da kann man schlecht Nein sagen. Eine Veranstaltung\, die Markus Koschuh gerne moderiert. Der Festakt im Innsbrucker Congress nach vier Tagen Singen im SZentrum Schwaz.
URL:https://www.markuskoschuh.at/event-1/landesjugendsingen-2026-der-festakt/
LOCATION:Innsbruck\, Congress Innsbruck\, Rennweg 3\, Innsbruck\, Tirol\, 6020
CATEGORIES:Moderation,Special
ATTACH;FMTTYPE=image/jpeg:https://www.markuskoschuh.at/wp-content/uploads/2023/03/koschuh_c_Thomas_Boehm3web.jpg
END:VEVENT
END:VCALENDAR