BEGIN:VCALENDAR
VERSION:2.0
PRODID:-//Markus Koschuh - ECPv6.15.11//NONSGML v1.0//EN
CALSCALE:GREGORIAN
METHOD:PUBLISH
X-WR-CALNAME:Markus Koschuh
X-ORIGINAL-URL:https://www.markuskoschuh.at
X-WR-CALDESC:Veranstaltungen für Markus Koschuh
REFRESH-INTERVAL;VALUE=DURATION:PT1H
X-Robots-Tag:noindex
X-PUBLISHED-TTL:PT1H
BEGIN:VTIMEZONE
TZID:Europe/Vienna
BEGIN:DAYLIGHT
TZOFFSETFROM:+0100
TZOFFSETTO:+0200
TZNAME:CEST
DTSTART:20200329T010000
END:DAYLIGHT
BEGIN:STANDARD
TZOFFSETFROM:+0200
TZOFFSETTO:+0100
TZNAME:CET
DTSTART:20201025T010000
END:STANDARD
BEGIN:DAYLIGHT
TZOFFSETFROM:+0100
TZOFFSETTO:+0200
TZNAME:CEST
DTSTART:20210328T010000
END:DAYLIGHT
BEGIN:STANDARD
TZOFFSETFROM:+0200
TZOFFSETTO:+0100
TZNAME:CET
DTSTART:20211031T010000
END:STANDARD
BEGIN:DAYLIGHT
TZOFFSETFROM:+0100
TZOFFSETTO:+0200
TZNAME:CEST
DTSTART:20220327T010000
END:DAYLIGHT
BEGIN:STANDARD
TZOFFSETFROM:+0200
TZOFFSETTO:+0100
TZNAME:CET
DTSTART:20221030T010000
END:STANDARD
END:VTIMEZONE
BEGIN:VEVENT
DTSTART;TZID=Europe/Vienna:20211015T200000
DTEND;TZID=Europe/Vienna:20211015T223000
DTSTAMP:20260424T133024
CREATED:20210624T131902Z
LAST-MODIFIED:20210624T131902Z
UID:10000344-1634328000-1634337000@www.markuskoschuh.at
SUMMARY:Kabarettfestival frisch&fröhlich
DESCRIPTION:Zum zweiten Mal lädt der Tuxer Kulturverein SchwindelFREI zusammen mit Markus Koschuh zum Kabarettfestival frisch&fröhlich. Festivalort ist das 1280 Meter hoch gelegene Tux am hintersten Ende des Zillertals. Der erste Tag gehört einem Großen des österreichischen Kabaretts: Robert Palfrader. Der zweite Festivaltag gehört ganz und gar den kabarettistischen Newcomerinnen und Newcomern aus Nord-\, Ost- und Südtirol: Sechs Auftretende stellen sich einer Fachjury und natürlich dem strengen Auge des Publikums. Es winken attraktive Sach- und Geldpreise und vor allem eine Auftrittsserie auf den besten Kabarettbühnen Tirols\, dem Treibaus Innsbruck\, dem Haller Stromboli und dem Wörgler VZ Komma! \nModeration: Markus Koschuh – Begrüßung: Florian Warum\, Kulturverein SchwindelFREI \nTICKETS: www.schwindelfrei.at
URL:https://www.markuskoschuh.at/event-1/kabarettfestival-frischfroehlich-2/
LOCATION:Tux\, Tux Center\, Lanersbach 401\, Tux\, 6293\, Österreich
CATEGORIES:Moderation
ATTACH;FMTTYPE=image/jpeg:https://www.markuskoschuh.at/wp-content/uploads/2021/01/koschuh-kabarett-tux-kabarettfestival-schwindelfrei.jpg
END:VEVENT
BEGIN:VEVENT
DTSTART;TZID=Europe/Vienna:20211016T200000
DTEND;TZID=Europe/Vienna:20211016T223000
DTSTAMP:20260424T133024
CREATED:20210103T161425Z
LAST-MODIFIED:20211012T065022Z
UID:10000337-1634414400-1634423400@www.markuskoschuh.at
SUMMARY:Kabarettfestival frisch&fröhlich
DESCRIPTION:Zum zweiten Mal lädt der Tuxer Kulturverein SchwindelFREI zusammen mit Markus Koschuh zum Kabarettfestival frisch&fröhlich. Festivalort ist das 1280 Meter hoch gelegene Tux am hintersten Ende des Zillertals. Der erste Tag gehört einem Großen des österreichischen Kabaretts: Robert Palfrader. Der zweite Festivaltag gehört ganz und gar den kabarettistischen Newcomerinnen und Newcomern aus Nord-\, Ost- und Südtirol: Sechs Auftretende stellen sich einer Fachjury und natürlich dem strengen Auge des Publikums. Es winken attraktive Sach- und Geldpreise und vor allem eine Auftrittsserie auf den besten Kabarettbühnen Tirols\, dem Treibaus Innsbruck\, dem Haller Stromboli und dem Wörgler VZ Komma!\n\nModeration: Markus Koschuh – Begrüßung: Florian Warum\, Kulturverein SchwindelFREI\n\nTICKETS: www.schwindelfrei.at
URL:https://www.markuskoschuh.at/event-1/kabarettfestival-frischfroehlich/2021-10-16/
LOCATION:Tux\, Tux Center\, Lanersbach 401\, Tux\, 6293\, Österreich
CATEGORIES:Moderation
ATTACH;FMTTYPE=image/jpeg:https://www.markuskoschuh.at/wp-content/uploads/2021/01/koschuh-kabarett-tux-kabarettfestival-schwindelfrei.jpg
END:VEVENT
BEGIN:VEVENT
DTSTART;TZID=Europe/Vienna:20211105T200000
DTEND;TZID=Europe/Vienna:20211105T220000
DTSTAMP:20260424T133024
CREATED:20210928T073059Z
LAST-MODIFIED:20210928T073059Z
UID:10000347-1636142400-1636149600@www.markuskoschuh.at
SUMMARY:Oben ohne. Das brandaktuelle Programm
DESCRIPTION:Markus Koschuh: OBEN OHNE. Das brandaktuelle Programm. „Oben ohne“ bekommt wegen eines Virus eine neue Bedeutung: Politiker\, die immer alles richtig machen. Nachbarn\, die sich gegenseitig anzeigen. Supermarktkassierinnen\, die plötzlich systemrelevante Heldinnen sind. Was haben machen Maskenpflicht und Co mit uns und aus uns gemacht? „Oben ohne“. Das Programm zur Krise. Gespickt mit zahlreichen saukomischen und nackten Tatsachen. Das beste kabarettistische Virenschutzprogramm zurzeit! Medienecho: „Eines seiner bisher stärksten Programme!“\, „Herzhafte Parodien massieren das Zwerchfall“\, „Make-up wegen Lachtränen unter Wasser“! Tickets: oeticket.com\, Info: VZ Jenbach
URL:https://www.markuskoschuh.at/event-1/oben-ohne-das-brandaktuelle-programm-7/
LOCATION:Tirol
CATEGORIES:Kabarett
ATTACH;FMTTYPE=image/jpeg:https://www.markuskoschuh.at/wp-content/uploads/2021/06/koschuh-kabarett-oben-ohne-vz-jenbach-2021.jpg
END:VEVENT
BEGIN:VEVENT
DTSTART;VALUE=DATE:20211106
DTEND;VALUE=DATE:20211107
DTSTAMP:20260424T133024
CREATED:20210925T092655Z
LAST-MODIFIED:20210925T093950Z
UID:10000254-1636156800-1636243199@www.markuskoschuh.at
SUMMARY:Bergrettungskongress. Special "Rette sich wer kann!"
DESCRIPTION:Bergrettungskongress. Special „Rette sich wer kann!“
URL:https://www.markuskoschuh.at/event-1/wagnerische-innsbruckspiel/
LOCATION:Innsbruck\, Congress Innsbruck\, Rennweg 3\, Innsbruck\, Tirol\, 6020
CATEGORIES:Special
ATTACH;FMTTYPE=image/jpeg:https://www.markuskoschuh.at/wp-content/uploads/2021/09/koschuh-bergrettungskongress-innsbruck.jpg
END:VEVENT
BEGIN:VEVENT
DTSTART;TZID=Europe/Vienna:20211112T180000
DTEND;TZID=Europe/Vienna:20211112T220000
DTSTAMP:20260424T133024
CREATED:20211109T115134Z
LAST-MODIFIED:20211109T115134Z
UID:10000348-1636740000-1636754400@www.markuskoschuh.at
SUMMARY:Roll on - Benefizgala
DESCRIPTION:Villa Blanka\, Innsbruck
URL:https://www.markuskoschuh.at/event-1/roll-on-benefizgala/
LOCATION:Innsbruck\, Villa Blanka\, Weiherburggasse 31\, Innsbruck\, Tirol\, 6020\, Österreich
CATEGORIES:Kabarett,Special
ATTACH;FMTTYPE=image/jpeg:https://www.markuskoschuh.at/wp-content/uploads/2021/11/koschuh-roll-on-villa-blanka.jpg
END:VEVENT
BEGIN:VEVENT
DTSTART;TZID=Europe/Vienna:20211120T150000
DTEND;TZID=Europe/Vienna:20211120T170000
DTSTAMP:20260424T133024
CREATED:20211109T115608Z
LAST-MODIFIED:20211109T115745Z
UID:10000349-1637420400-1637427600@www.markuskoschuh.at
SUMMARY:ÖkoFair - Special
DESCRIPTION:Tiroler Nachhaltigkeitsmesse\, Mehr Info auch auf www.oeko-fair.at
URL:https://www.markuskoschuh.at/event-1/messe-oekofair-special-2/
LOCATION:Innsbruck\, Messe\, Ing.-Etzel-Straße\, Innsbruck\, 6020\, Österreich
CATEGORIES:Special
ATTACH;FMTTYPE=image/jpeg:https://www.markuskoschuh.at/wp-content/uploads/2020/03/koschuh-termin-messe.jpg
END:VEVENT
BEGIN:VEVENT
DTSTART;TZID=Europe/Vienna:20211229T200000
DTEND;TZID=Europe/Vienna:20211229T220000
DTSTAMP:20260424T133024
CREATED:20210925T095334Z
LAST-MODIFIED:20211217T083256Z
UID:10000255-1640808000-1640815200@www.markuskoschuh.at
SUMMARY:Jahrmarkt der Heiterkeiten 2021 - Der Jahresrückblick
DESCRIPTION:DER JAHRMARKT DER HEITERKEITEN 2021 FINDET STATT. Grad z’fleiß.\nJa mei. Vielleich ist alles für nix\, vielleicht derspielen wir gerade mal die Premiere am 29. Dezember. Vielleicht gehen sich alle Termine aus\, wer weiß. Fix ist: Der „Jahrmarkt der Heiterkeiten 2021“ findet statt (oder besser: will stattfinden und wir nicht einfach jetzt schon abgesagt weil wo kämen wir denn da hin?) – und er ist garantiert keine Mutation des Jahrmarkts der Heiterkeiten 2020. Denn der fiel corona- und lockdownbedingt aus. Vielleicht ist auch heuer die viele Arbeit für’n Hugo. Aber in Erinnerung an einen der größten Österreicher\, Hugo Portisch\, wird gerne geschrieben\, getüftelt und geprobt.\nDie Vorzeichen könnten kaum schlechter sein: Corona wie ein Damoklesschwert über dem Veranstaltungsbetrieb\, aus Besonnenheit halbe Auslastung im Innsbrucker Treibhaus und dem Wörgler Komma\, ein Arbeiten hart an der Rentabilitätsgrenze.\nFrage: Ja aber was\, wenn ich Karten kaufe und dann findet das nicht statt?\nAntwort: So schnell können’s gar nicht schauen\, haben’s das Geld wieder am Konto. Treibhaus und Komma sind da so ziemlich unschlagbar.\nFrage: Also soll ich schon jetzt Karten kaufen?\nAntwort: Bingo. Vor allem\, weil bei halber Kapazität ein G’riss um die Karten ist und auch weil die Veranstalter und ich beruhigter schlafen. Bittedanke.\nWenn sich die Kultur nix mehr traut\, wer dann? Also\, gemmas eben an: \nJahrmarkt der Heiterkeiten 2021\nDer kabarettistische Jahresrückblick\nLetztes Jahr hätt’s den „Jahrmarkt der Heiterkeiten“ zum bereits 12. Mal gegeben\, aber was nutzt das ganze Nachgetrauere. Wird das Dutzend an Jahresrückblicken halt ein Jahr später voll. An Material mangelt es ja nie – die Pointenschreiber vom Bundeskanzleramt abwärts und seitwärts liefern täglich frei Haus. Da wäre zum Beispiel ein Landeshauptmann\, der meint\, dass man „das Buch nicht von hinten lesen kann“ – was nicht weiter verwundert\, wenn die Lesekompetenz nicht einmal für 104 kurze Seiten Hausdurchsuchungsanordnung von vorne reicht … \nAber auch abseits des Politischen ist das Pointenangeln kein Fischen im Trüben. Penibel wird über viel Passiertes\, Absurdes&Skurriles Buch geführt und das Ganze bühnentauglich aufbereitet – und zwar so\, dass man gar nicht anders kann als trotz mancher Tristesse herzhaft zu lachen. Ein Heuler bei Koschuhs Jahrmarkt sind wie immer die High- und Lowlights des Jahres\, das heitere Zitateranking\, die Schnapsidee des Jahres und\, und\, und …\nÄhnlichkeiten mit handelnden Personen sind nicht frei erfunden und genau so beabsichtigt. Soll den Erwähnten doch das Geimpfte aufgehen ….\nJahrmarkt der Heiterkeiten – der kabarettistische Jahresrückblick mit Biss&Witz\, Kurz&Schluss. \nKarten für Treibbhaus\, am 29. JÄNNER 2021 jetzt ONLINE kaufen \n  \n29. DEZ. + 4./5./6./7. JÄNNER\, Innsbruck\n13. JÄNNER\, VZ Komma\, Wörgl \n 
URL:https://www.markuskoschuh.at/event-1/jahrmarkt-der-heiterkeiten-2021-der-jahresrueckblick/
LOCATION:Innsbruck\, Treibhaus\, Angerzellgasse 8\, 6020 Innsbruck\, Österreich
CATEGORIES:Kabarett
ATTACH;FMTTYPE=image/jpeg:https://www.markuskoschuh.at/wp-content/uploads/2021/09/koschuh-kabarett-Jahrmarkt-der-Heiterkeiten-treibhaus-2021.jpg
END:VEVENT
END:VCALENDAR