BEGIN:VCALENDAR
VERSION:2.0
PRODID:-//Markus Koschuh - ECPv6.15.11//NONSGML v1.0//EN
CALSCALE:GREGORIAN
METHOD:PUBLISH
X-WR-CALNAME:Markus Koschuh
X-ORIGINAL-URL:https://www.markuskoschuh.at
X-WR-CALDESC:Veranstaltungen für Markus Koschuh
REFRESH-INTERVAL;VALUE=DURATION:PT1H
X-Robots-Tag:noindex
X-PUBLISHED-TTL:PT1H
BEGIN:VTIMEZONE
TZID:Europe/Vienna
BEGIN:DAYLIGHT
TZOFFSETFROM:+0100
TZOFFSETTO:+0200
TZNAME:CEST
DTSTART:20210328T010000
END:DAYLIGHT
BEGIN:STANDARD
TZOFFSETFROM:+0200
TZOFFSETTO:+0100
TZNAME:CET
DTSTART:20211031T010000
END:STANDARD
BEGIN:DAYLIGHT
TZOFFSETFROM:+0100
TZOFFSETTO:+0200
TZNAME:CEST
DTSTART:20220327T010000
END:DAYLIGHT
BEGIN:STANDARD
TZOFFSETFROM:+0200
TZOFFSETTO:+0100
TZNAME:CET
DTSTART:20221030T010000
END:STANDARD
BEGIN:DAYLIGHT
TZOFFSETFROM:+0100
TZOFFSETTO:+0200
TZNAME:CEST
DTSTART:20230326T010000
END:DAYLIGHT
BEGIN:STANDARD
TZOFFSETFROM:+0200
TZOFFSETTO:+0100
TZNAME:CET
DTSTART:20231029T010000
END:STANDARD
END:VTIMEZONE
BEGIN:VEVENT
DTSTART;TZID=Europe/Vienna:20220914T200000
DTEND;TZID=Europe/Vienna:20220914T220000
DTSTAMP:20260424T004009
CREATED:20220617T151234Z
LAST-MODIFIED:20220804T081728Z
UID:10000362-1663185600-1663192800@www.markuskoschuh.at
SUMMARY:PREMIERE: wOHNMACHT. Das neue Programm.
DESCRIPTION:In „wOHNMACHT“ zeichnet Markus Koschuh ein aufrüttelndes Bild dessen\, was dazu führt\, dass halb Österreich unter explodierenden Kosten für Miete\, Kauf und Hausbau leidet. Er geht hart ins Gericht mit einer mutlosen österreichischen Politik\, Irrläufern des Lobbyismus\, Banken\, Immobilien- und Grundstücksspekulanten und deren Wegbereitern. Penible Recherche\, satirische Überhöhung\, aberwitzige Rasanz und Körperlichkeit zeichnen die Programme des Paradekabarettisten aus Tirol und 2-fachen Österreichischen Poetry-Slam-Meisters aus. wOHNMACHT ist ein eindringlicher kabarettistischer Weckruf an die rot-weiß-rote Politik und ein irrwitziger Hilferuf stellvertretend für viele. Regie: Harald Windisch
URL:https://www.markuskoschuh.at/event-1/premiere-wohnmacht-das-neue-programm/
LOCATION:Innsbruck\, Treibhaus\, Angerzellgasse 8\, 6020 Innsbruck\, Österreich
CATEGORIES:Kabarett
ATTACH;FMTTYPE=image/jpeg:https://www.markuskoschuh.at/wp-content/uploads/2022/06/koschuh-wohnmacht-website-512x272px.jpg
END:VEVENT
BEGIN:VEVENT
DTSTART;TZID=Europe/Vienna:20220916T200000
DTEND;TZID=Europe/Vienna:20220916T220000
DTSTAMP:20260424T004009
CREATED:20220617T151521Z
LAST-MODIFIED:20220804T082029Z
UID:10000363-1663358400-1663365600@www.markuskoschuh.at
SUMMARY:wOHNMACHT. Das neue Programm.
DESCRIPTION:In „wOHNMACHT“ zeichnet Markus Koschuh ein aufrüttelndes Bild dessen\, was dazu führt\, dass halb Österreich unter explodierenden Kosten für Miete\, Kauf und Hausbau leidet. Er geht hart ins Gericht mit einer mutlosen österreichischen Politik\, Irrläufern des Lobbyismus\, Banken\, Immobilien- und Grundstücksspekulanten und deren Wegbereitern. \n\n\n\nPenible Recherche\, satirische Überhöhung\, aberwitzige Rasanz und Körperlichkeit zeichnen die Programme des Paradekabarettisten aus Tirol und 2-fachen Österreichischen Poetry-Slam-Meisters aus. wOHNMACHT ist ein eindringlicher kabarettistischer Weckruf an die rot-weiß-rote Politik und ein irrwitziger Hilferuf stellvertretend für viele. \n\n\n\nRegie: Harald Windisch
URL:https://www.markuskoschuh.at/event-1/wohnmacht-das-neue-programm-2/
LOCATION:Innsbruck\, Treibhaus\, Angerzellgasse 8\, 6020 Innsbruck\, Österreich
CATEGORIES:Kabarett
ATTACH;FMTTYPE=image/jpeg:https://www.markuskoschuh.at/wp-content/uploads/2022/06/koschuh-wohnmacht-website-512x272px.jpg
END:VEVENT
BEGIN:VEVENT
DTSTART;TZID=Europe/Vienna:20220920T200000
DTEND;TZID=Europe/Vienna:20220920T220000
DTSTAMP:20260424T004009
CREATED:20220617T151658Z
LAST-MODIFIED:20220804T082251Z
UID:10000364-1663704000-1663711200@www.markuskoschuh.at
SUMMARY:wOHNMACHT. Das neue Programm.
DESCRIPTION:In „wOHNMACHT“ zeichnet Markus Koschuh ein aufrüttelndes Bild dessen\, was dazu führt\, dass halb Österreich unter explodierenden Kosten für Miete\, Kauf und Hausbau leidet. Er geht hart ins Gericht mit einer mutlosen österreichischen Politik\, Irrläufern des Lobbyismus\, Banken\, Immobilien- und Grundstücksspekulanten und deren Wegbereitern. \n\n\n\nPenible Recherche\, satirische Überhöhung\, aberwitzige Rasanz und Körperlichkeit zeichnen die Programme des Paradekabarettisten aus Tirol und 2-fachen Österreichischen Poetry-Slam-Meisters aus. wOHNMACHT ist ein eindringlicher kabarettistischer Weckruf an die rot-weiß-rote Politik und ein irrwitziger Hilferuf stellvertretend für viele. \n\n\n\nRegie: Harald Windisch
URL:https://www.markuskoschuh.at/event-1/wohnmacht-das-neue-programm-3/
LOCATION:Innsbruck\, Treibhaus\, Angerzellgasse 8\, 6020 Innsbruck\, Österreich
CATEGORIES:Kabarett
ATTACH;FMTTYPE=image/jpeg:https://www.markuskoschuh.at/wp-content/uploads/2022/06/koschuh-wohnmacht-website-512x272px.jpg
END:VEVENT
BEGIN:VEVENT
DTSTART;TZID=Europe/Vienna:20220921T200000
DTEND;TZID=Europe/Vienna:20220921T220000
DTSTAMP:20260424T004009
CREATED:20220617T151846Z
LAST-MODIFIED:20220804T082423Z
UID:10000270-1663790400-1663797600@www.markuskoschuh.at
SUMMARY:wOHNMACHT. Das neue Programm.
DESCRIPTION:In „wOHNMACHT“ zeichnet Markus Koschuh ein aufrüttelndes Bild dessen\, was dazu führt\, dass halb Österreich unter explodierenden Kosten für Miete\, Kauf und Hausbau leidet. Er geht hart ins Gericht mit einer mutlosen österreichischen Politik\, Irrläufern des Lobbyismus\, Banken\, Immobilien- und Grundstücksspekulanten und deren Wegbereitern. \n\n\n\nPenible Recherche\, satirische Überhöhung\, aberwitzige Rasanz und Körperlichkeit zeichnen die Programme des Paradekabarettisten aus Tirol und 2-fachen Österreichischen Poetry-Slam-Meisters aus. wOHNMACHT ist ein eindringlicher kabarettistischer Weckruf an die rot-weiß-rote Politik und ein irrwitziger Hilferuf stellvertretend für viele. \n\n\n\nRegie: Harald Windisch
URL:https://www.markuskoschuh.at/event-1/wohnmacht-das-neue-programm-4/
LOCATION:Innsbruck\, Treibhaus\, Angerzellgasse 8\, 6020 Innsbruck\, Österreich
CATEGORIES:Kabarett
ATTACH;FMTTYPE=image/jpeg:https://www.markuskoschuh.at/wp-content/uploads/2022/06/koschuh-wohnmacht-website-512x272px.jpg
END:VEVENT
BEGIN:VEVENT
DTSTART;TZID=Europe/Vienna:20220923T200000
DTEND;TZID=Europe/Vienna:20220923T220000
DTSTAMP:20260424T004009
CREATED:20220617T152001Z
LAST-MODIFIED:20220723T091242Z
UID:10000271-1663963200-1663970400@www.markuskoschuh.at
SUMMARY:wOHNMACHT. Das neue Programm.
DESCRIPTION:In „wOHNMACHT“ zeichnet Markus Koschuh ein aufrüttelndes Bild dessen\, was dazu führt\, dass halb Österreich unter explodierenden Kosten für Miete\, Kauf und Hausbau leidet. Er geht hart ins Gericht mit einer mutlosen österreichischen Politik\, Irrläufern des Lobbyismus\, Banken\, Immobilien- und Grundstücksspekulanten und deren Wegbereitern. \n\n\n\nPenible Recherche\, satirische Überhöhung\, aberwitzige Rasanz und Körperlichkeit zeichnen die Programme des Paradekabarettisten aus Tirol und 2-fachen Österreichischen Poetry-Slam-Meisters aus. wOHNMACHT ist ein eindringlicher kabarettistischer Weckruf an die rot-weiß-rote Politik und ein irrwitziger Hilferuf stellvertretend für viele. \n\n\n\nRegie: Harald Windisch
URL:https://www.markuskoschuh.at/event-1/wohnmacht-das-neue-programm-5/
LOCATION:Innsbruck\, Treibhaus\, Angerzellgasse 8\, 6020 Innsbruck\, Österreich
CATEGORIES:Kabarett
ATTACH;FMTTYPE=image/jpeg:https://www.markuskoschuh.at/wp-content/uploads/2022/06/koschuh-wohnmacht-website-512x272px.jpg
END:VEVENT
BEGIN:VEVENT
DTSTART;TZID=Europe/Vienna:20220927T200000
DTEND;TZID=Europe/Vienna:20220927T220000
DTSTAMP:20260424T004009
CREATED:20220617T152120Z
LAST-MODIFIED:20220804T091014Z
UID:10000272-1664308800-1664316000@www.markuskoschuh.at
SUMMARY:wOHNMACHT. Das neue Programm.
DESCRIPTION:In „wOHNMACHT“ zeichnet Markus Koschuh ein aufrüttelndes Bild dessen\, was dazu führt\, dass halb Österreich unter explodierenden Kosten für Miete\, Kauf und Hausbau leidet. Er geht hart ins Gericht mit einer mutlosen österreichischen Politik\, Irrläufern des Lobbyismus\, Banken\, Immobilien- und Grundstücksspekulanten und deren Wegbereitern. \n\n\n\nPenible Recherche\, satirische Überhöhung\, aberwitzige Rasanz und Körperlichkeit zeichnen die Programme des Paradekabarettisten aus Tirol und 2-fachen Österreichischen Poetry-Slam-Meisters aus. wOHNMACHT ist ein eindringlicher kabarettistischer Weckruf an die rot-weiß-rote Politik und ein irrwitziger Hilferuf stellvertretend für viele. \n\n\n\nRegie: Harald Windisch/Klaus Rohrmoser \nTickets: http://www.treibhaus.at
URL:https://www.markuskoschuh.at/event-1/wohnmacht-das-neue-programm-6/
LOCATION:Innsbruck\, Treibhaus\, Angerzellgasse 8\, 6020 Innsbruck\, Österreich
CATEGORIES:Kabarett
ATTACH;FMTTYPE=image/jpeg:https://www.markuskoschuh.at/wp-content/uploads/2022/06/koschuh-wohnmacht-website-512x272px.jpg
END:VEVENT
BEGIN:VEVENT
DTSTART;TZID=Europe/Vienna:20220928T200000
DTEND;TZID=Europe/Vienna:20220928T220000
DTSTAMP:20260424T004009
CREATED:20220617T152342Z
LAST-MODIFIED:20220804T091129Z
UID:10000273-1664395200-1664402400@www.markuskoschuh.at
SUMMARY:wOHNMACHT. Das neue Programm.
DESCRIPTION:In „wOHNMACHT“ zeichnet Markus Koschuh ein aufrüttelndes Bild dessen\, was dazu führt\, dass halb Österreich unter explodierenden Kosten für Miete\, Kauf und Hausbau leidet. Er geht hart ins Gericht mit einer mutlosen österreichischen Politik\, Irrläufern des Lobbyismus\, Banken\, Immobilien- und Grundstücksspekulanten und deren Wegbereitern. \n\n\n \nPenible Recherche\, satirische Überhöhung\, aberwitzige Rasanz und Körperlichkeit zeichnen die Programme des Paradekabarettisten aus Tirol und 2-fachen Österreichischen Poetry-Slam-Meisters aus. wOHNMACHT ist ein eindringlicher kabarettistischer Weckruf an die rot-weiß-rote Politik und ein irrwitziger Hilferuf stellvertretend für viele. \n\n\n \nRegie: Harald Windisch/Klaus Rohrmoser \nTickets: http://www.treibhaus.at
URL:https://www.markuskoschuh.at/event-1/wohnmacht-das-neue-programm-7/2022-09-28/
LOCATION:Innsbruck\, Treibhaus\, Angerzellgasse 8\, 6020 Innsbruck\, Österreich
CATEGORIES:Kabarett
ATTACH;FMTTYPE=image/jpeg:https://www.markuskoschuh.at/wp-content/uploads/2022/06/koschuh-wohnmacht-website-512x272px.jpg
END:VEVENT
BEGIN:VEVENT
DTSTART;TZID=Europe/Vienna:20221001T200000
DTEND;TZID=Europe/Vienna:20221001T220000
DTSTAMP:20260424T004009
CREATED:20220617T152944Z
LAST-MODIFIED:20220804T085909Z
UID:10000275-1664654400-1664661600@www.markuskoschuh.at
SUMMARY:wOHNMACHT. Das neue Programm.
DESCRIPTION:In „wOHNMACHT“ zeichnet Markus Koschuh ein aufrüttelndes Bild dessen\, was dazu führt\, dass halb Österreich unter explodierenden Kosten für Miete\, Kauf und Hausbau leidet. Er geht hart ins Gericht mit einer mutlosen österreichischen Politik\, Irrläufern des Lobbyismus\, Banken\, Immobilien- und Grundstücksspekulanten und deren Wegbereitern. \n\n\n\nPenible Recherche\, satirische Überhöhung\, aberwitzige Rasanz und Körperlichkeit zeichnen die Programme des Paradekabarettisten aus Tirol und 2-fachen Österreichischen Poetry-Slam-Meisters aus. wOHNMACHT ist ein eindringlicher kabarettistischer Weckruf an die rot-weiß-rote Politik und ein irrwitziger Hilferuf stellvertretend für viele. \n\n\n\nRegie: Harald Windisch/Klaus Rohrmoser \n\n\n\nTickets: http://www.treibhaus.at
URL:https://www.markuskoschuh.at/event-1/wohnmacht-das-neue-programm/
LOCATION:Tirol
CATEGORIES:Kabarett
ATTACH;FMTTYPE=image/jpeg:https://www.markuskoschuh.at/wp-content/uploads/2022/06/koschuh-wohnmacht-website-512x272px.jpg
END:VEVENT
BEGIN:VEVENT
DTSTART;TZID=Europe/Vienna:20221013T190000
DTEND;TZID=Europe/Vienna:20221013T210000
DTSTAMP:20260424T004009
CREATED:20221010T184131Z
LAST-MODIFIED:20221010T184406Z
UID:10000371-1665687600-1665694800@www.markuskoschuh.at
SUMMARY:Zum Kuckuck. Das Open Mic.
DESCRIPTION:„ZUM KUCKUCK – Your voice for a change“ bietet eine Bühne für alle\, die ihre Stimme erheben wollen: Für unsere Natur und Umwelt\, das Klima\, unseren Planeten\, unsere Lebensqualität.Wir stellen Dir eine Bühne\, ein Mikrofon und fünf Minuten zur Verfügung. Sag was\, lies was\, erhebe deine Stimme! Auch Liedermacher:innen sind gerne willkommen!Anmeldung unter: info@zumkuckuck.tirol \n\n\n\nEintritt frei!ZUM KUCKUCK – OPEN MIC your voice for a change 13.10.\, 19 Uhr. Patagonia Store Innsbruck. Moderation: Markus KoschuhSupport act: Tobi TroppmairEin Event von Tiroler Umweltanwaltschaft\, Patagonia und Verein Naturgut.
URL:https://www.markuskoschuh.at/event-1/zum-kuckuck-das-open-mic/
LOCATION:Innsbruck\, Patagonia Store\, Maria-Theresien-Straße 57\, 6020 Innsbruck\, Österreich
ATTACH;FMTTYPE=image/jpeg:https://www.markuskoschuh.at/wp-content/uploads/2022/10/Zum_Kuckuck_Quer_Web_Text.jpg
END:VEVENT
BEGIN:VEVENT
DTSTART;TZID=Europe/Vienna:20221014T200000
DTEND;TZID=Europe/Vienna:20221014T220000
DTSTAMP:20260424T004009
CREATED:20221007T130206Z
LAST-MODIFIED:20221007T130526Z
UID:10000370-1665777600-1665784800@www.markuskoschuh.at
SUMMARY:wOHNMACHT. Das umjubelte Programm!
DESCRIPTION:Markus Koschuh ist mit „wOHNMACHT“ein neuer Geniestreich gelungen – die Presse überschlägt sich in Lobeshymnen: „Wer herzhaft lachen möchte …kommt bei wOHNMACHT voll auf seine Kosten“ (Tiroler Tageszeitung) „Full-Service Kabarett“\, „wagemutiger als je zuvor“\, „…weiß zu beeindrucken“ (Kronen Zeitung)\, „begeistertes Publikum“\, „absolut sehenswert!“ (Bezirksblätter)\, „genau recherchiert\, grimmig\, bissig!“ (ORF) \n\n\n \nUnd das ist wOHNMACHT: „Wohnen muss wieder leistbar werden!“ Markus Koschuh haut der rot-weiß-roten Politik den Spruch um die Ohren\, eckt an\, rüttelt auf. In „wOHNMACHT“ geht Markus Koschuh hart ins Gericht mit einer mutlosen Politik\, Irrläufern des Lobbyismus\, Banken\, Immobilien- und Grundstückspekulanten und deren Wegbereitern und zeichnet ein aufrüttelndes Bild übler Machenschaften\, die mit dazu führen\, dass halb Österreich und da vor allem Tirol unter davongaloppierenden Kosten für Miete oder Hausbau leidet. \nRegie: Der für den Deutschen Schauspielpreis 2022 nominierte Harald Windisch \nTickets: http://www.treibhaus.at
URL:https://www.markuskoschuh.at/event-1/wohnmacht-das-umjubelte-programm-2/
LOCATION:Innsbruck\, Treibhaus\, Angerzellgasse 8\, 6020 Innsbruck\, Österreich
ATTACH;FMTTYPE=image/jpeg:https://www.markuskoschuh.at/wp-content/uploads/2022/06/koschuh-kabarett-Venue-wOHNMACHT.jpg
END:VEVENT
BEGIN:VEVENT
DTSTART;TZID=Europe/Vienna:20221014T200000
DTEND;TZID=Europe/Vienna:20221014T220000
DTSTAMP:20260424T004009
CREATED:20221004T091258Z
LAST-MODIFIED:20221205T101650Z
UID:10000368-1665777600-1665784800@www.markuskoschuh.at
SUMMARY:wOHNMACHT. Das neue Programm.
DESCRIPTION:In „wOHNMACHT“ zeichnet Markus Koschuh ein aufrüttelndes Bild dessen\, was dazu führt\, dass halb Österreich unter explodierenden Kosten für Miete\, Kauf und Hausbau leidet. Er geht hart ins Gericht mit einer mutlosen österreichischen Politik\, Irrläufern des Lobbyismus\, Banken\, Immobilien- und Grundstücksspekulanten und deren Wegbereitern. \n\n\n\nPenible Recherche\, satirische Überhöhung\, aberwitzige Rasanz und Körperlichkeit zeichnen die Programme des Paradekabarettisten aus Tirol und 2-fachen Österreichischen Poetry-Slam-Meisters aus. wOHNMACHT ist ein eindringlicher kabarettistischer Weckruf an die rot-weiß-rote Politik und ein irrwitziger Hilferuf stellvertretend für viele. \n\n\n\nRegie: Harald Windisch/Klaus Rohrmoser \n\n\n\nTickets: https://www.treibhaus.at/karten/2022/10/14/11638-markus-koschuh-wohnmacht-kabarett
URL:https://www.markuskoschuh.at/event-1/wohnmacht-das-neue-programm-13/
LOCATION:Innsbruck\, Treibhaus\, Angerzellgasse 8\, 6020 Innsbruck\, Österreich
ATTACH;FMTTYPE=image/jpeg:https://www.markuskoschuh.at/wp-content/uploads/2022/06/koschuh-kabarett-Venue-wOHNMACHT.jpg
END:VEVENT
BEGIN:VEVENT
DTSTART;TZID=Europe/Vienna:20221015T200000
DTEND;TZID=Europe/Vienna:20221015T220000
DTSTAMP:20260424T004009
CREATED:20220617T152459Z
LAST-MODIFIED:20221007T130438Z
UID:10000274-1665864000-1665871200@www.markuskoschuh.at
SUMMARY:wOHNMACHT. Das umjubelte Programm!
DESCRIPTION:Markus Koschuh ist mit „wOHNMACHT“ein neuer Geniestreich gelungen – die Presse überschlägt sich in Lobeshymnen: „Wer herzhaft lachen möchte …kommt bei wOHNMACHT voll auf seine Kosten“ (Tiroler Tageszeitung) „Full-Service Kabarett“\, „wagemutiger als je zuvor“\, „…weiß zu beeindrucken“ (Kronen Zeitung)\, „begeistertes Publikum“\, „absolut sehenswert!“ (Bezirksblätter)\, „genau recherchiert\, grimmig\, bissig!“ (ORF) \nUnd das ist wOHNMACHT: „Wohnen muss wieder leistbar werden!“ Markus Koschuh haut der rot-weiß-roten Politik den Spruch um die Ohren\, eckt an\, rüttelt auf. In „wOHNMACHT“ geht Markus Koschuh hart ins Gericht mit einer mutlosen Politik\, Irrläufern des Lobbyismus\, Banken\, Immobilien- und Grundstückspekulanten und deren Wegbereitern und zeichnet ein aufrüttelndes Bild übler Machenschaften\, die mit dazu führen\, dass halb Österreich und da vor allem Tirol unter davongaloppierenden Kosten für Miete oder Hausbau leidet. \nRegie: Der für den Deutschen Schauspielpreis 2022 nominierte Harald Windisch \n\n\n\nTickets: http://www.treibhaus.at
URL:https://www.markuskoschuh.at/event-1/wohnmacht-das-neue-programm-8/
LOCATION:Innsbruck\, Treibhaus\, Angerzellgasse 8\, 6020 Innsbruck\, Österreich
CATEGORIES:Kabarett
ATTACH;FMTTYPE=image/jpeg:https://www.markuskoschuh.at/wp-content/uploads/2022/06/koschuh-kabarett-Venue-wOHNMACHT.jpg
END:VEVENT
BEGIN:VEVENT
DTSTART;TZID=Europe/Vienna:20221020T193000
DTEND;TZID=Europe/Vienna:20221020T213000
DTSTAMP:20260424T004009
CREATED:20221002T215517Z
LAST-MODIFIED:20221020T071512Z
UID:10000278-1666294200-1666301400@www.markuskoschuh.at
SUMMARY:wOHNMACHT. Das umjubelte Programm! *VERSCHOBEN AUF 11.11.2022*
DESCRIPTION:Markus Koschuh ist mit „wOHNMACHT“ein neuer Geniestreich gelungen – die Presse überschlägt sich in Lobeshymnen: „Wer herzhaft lachen möchte …kommt bei wOHNMACHT voll auf seine Kosten“ (Tiroler Tageszeitung) „Full-Service Kabarett“\, „wagemutiger als je zuvor“\, „…weiß zu beeindrucken“ (Kronen Zeitung)\, „begeistertes Publikum“\, „absolut sehenswert!“ (Bezirksblätter)\, „genau recherchiert\, grimmig\, bissig!“ (ORF) \nUnd das ist wOHNMACHT: „Wohnen muss wieder leistbar werden!“ Markus Koschuh haut der rot-weiß-roten Politik den Spruch um die Ohren\, eckt an\, rüttelt auf. In „wOHNMACHT“ geht Markus Koschuh hart ins Gericht mit einer mutlosen Politik\, Irrläufern des Lobbyismus\, Banken\, Immobilien- und Grundstückspekulanten und deren Wegbereitern und zeichnet ein aufrüttelndes Bild übler Machenschaften\, die mit dazu führen\, dass halb Österreich und da vor allem Tirol unter davongaloppierenden Kosten für Miete oder Hausbau leidet. \nRegie: Der für den Deutschen Schauspielpreis 2022 nominierte Harald Windisch \n\n\n\nPlatzreservierung erforderlich! WhatsApp: +43 664 22005681 oder Mail: kulturhaus@leutasch.tirol.gv.at
URL:https://www.markuskoschuh.at/event-1/wohnmacht-das-neue-programm-9/
LOCATION:Leutasch\, Ganghofermuseum\, Kirchplatzl 154\, Leutasch\, Tirol\, 6105\, Österreich
CATEGORIES:Kabarett
ATTACH;FMTTYPE=image/jpeg:https://www.markuskoschuh.at/wp-content/uploads/2022/10/koschuh-kabarett-leutasch-Kulturhaus-Ganghofer-wOHNMACHT.jpg
END:VEVENT
BEGIN:VEVENT
DTSTART;TZID=Europe/Vienna:20221022T203000
DTEND;TZID=Europe/Vienna:20221022T230000
DTSTAMP:20260424T004009
CREATED:20221022T083449Z
LAST-MODIFIED:20221022T083451Z
UID:10000373-1666470600-1666479600@www.markuskoschuh.at
SUMMARY:Poetry Slam Länder Battle
DESCRIPTION:Das Gipfeltreffen der besten Slampoet:innen aus Deutschland\, Österreich und der Schweiz.\n\n\n\nVieles von dem\, was in der Schweiz politisch oder gesellschaftlich neu und brisant scheint\, ist in Österreich und Deutschland längst normal oder umgekehrt. Jedes Land hat seine Geschichten. Manche haben tausende\, manche die eine ganz besondere. Geschichten von all den kleinen Momenten und Gedanken\, von den Nachhauswegen und langen Nächten\, vom Scheitern und von der Liebe\, vom Taumeln und vom Aufstehen. Es wird Zeit\, den drei Ländern zuzuhören. \n\n\n\nDies tun wir mit einem grossen\, ultimativen Poetry Slam Länderbattle im Volkshaus Zürich. Ob Wortspiele\, Politisches\, Nachdenkliches oder Comedy – eine Auswahl der besten und spannendesten Slammer:innen aus Deutschland\, Österreich und der Schweiz kämpfen mit Worten um die Gunst des Publikums und um den Sieg. Aus jedem dieser drei Länder treten drei Poet:innen im literarischen Wettstreit gegeneinander an\, das Publikum bestimmt nicht nur den oder die Einzelsieger:in\, sondern auch über den Gewinn als beste deutschsprachige Slamnation!
URL:https://www.markuskoschuh.at/event-1/poetry-slam-laender-battle/
LOCATION:Zürich\, Volkshaus\, Stauffacherstraße 60\, Zürich\, 8004\, Schweiz
ATTACH;FMTTYPE=image/jpeg:https://www.markuskoschuh.at/wp-content/uploads/2020/03/Poetry-Slam.jpg
END:VEVENT
BEGIN:VEVENT
DTSTART;TZID=Europe/Vienna:20221028T190000
DTEND;TZID=Europe/Vienna:20221028T230000
DTSTAMP:20260424T004009
CREATED:20221028T125203Z
LAST-MODIFIED:20221028T125207Z
UID:10000281-1666983600-1666998000@www.markuskoschuh.at
SUMMARY:Bäckerei Poetry Slam wird 20
DESCRIPTION:Der BPS ist der dienstälteste Poetry Slam Österreichs. Bis 2010 wurde im Bierstindl geslammt. Seit 2011 in der Bäckerei und zwar jeden letzten Freitag des Monats\, wenn nicht grad eine Pandemie was dagegen hatte. \n\n\n\nDas wird gefeiert und zwar mit einem Poetry Slam mit lauter tollen Gästen. Es werden u. a. dabei sein MYLF (Mieze Medusa und Yasmo)\, Henrik Szanto\, Yannick Steinkellner\, Sevi… Die Innsbruck-Slamily ist ohnehin am Start und auch beim Jubiläums-Slam gilt – alle dürfen mitmachen! \n\n\n\nMartin Fritz wird jinglen\, Markus Köhle moderieren\, mit Überraschungen ist zu rechnen. Das sollte sich niemand entgehen lassen.  \n\n\n\nTickets: diebaeckerei.kupfticket.at/events/20-jahre-poetry-slam-innsbruck \n\n\n\n \n\n\n\nEinlass: 18:00 UhrBeginn: 19 Uhr
URL:https://www.markuskoschuh.at/event-1/baeckerei-poetry-slam-wird-20/
LOCATION:Innsbruck\, Bäckerei\, Dreiheiligenstraße 21a\, Innsbruck\, Tirol\, Österreich
ATTACH;FMTTYPE=image/jpeg:https://www.markuskoschuh.at/wp-content/uploads/2022/10/312115671_482532213909261_8582280337748540595_n.jpg
END:VEVENT
END:VCALENDAR