BEGIN:VCALENDAR
VERSION:2.0
PRODID:-//Markus Koschuh - ECPv6.15.11//NONSGML v1.0//EN
CALSCALE:GREGORIAN
METHOD:PUBLISH
X-WR-CALNAME:Markus Koschuh
X-ORIGINAL-URL:https://www.markuskoschuh.at
X-WR-CALDESC:Veranstaltungen für Markus Koschuh
REFRESH-INTERVAL;VALUE=DURATION:PT1H
X-Robots-Tag:noindex
X-PUBLISHED-TTL:PT1H
BEGIN:VTIMEZONE
TZID:Europe/Vienna
BEGIN:DAYLIGHT
TZOFFSETFROM:+0100
TZOFFSETTO:+0200
TZNAME:CEST
DTSTART:20220327T010000
END:DAYLIGHT
BEGIN:STANDARD
TZOFFSETFROM:+0200
TZOFFSETTO:+0100
TZNAME:CET
DTSTART:20221030T010000
END:STANDARD
BEGIN:DAYLIGHT
TZOFFSETFROM:+0100
TZOFFSETTO:+0200
TZNAME:CEST
DTSTART:20230326T010000
END:DAYLIGHT
BEGIN:STANDARD
TZOFFSETFROM:+0200
TZOFFSETTO:+0100
TZNAME:CET
DTSTART:20231029T010000
END:STANDARD
BEGIN:DAYLIGHT
TZOFFSETFROM:+0100
TZOFFSETTO:+0200
TZNAME:CEST
DTSTART:20240331T010000
END:DAYLIGHT
BEGIN:STANDARD
TZOFFSETFROM:+0200
TZOFFSETTO:+0100
TZNAME:CET
DTSTART:20241027T010000
END:STANDARD
END:VTIMEZONE
BEGIN:VEVENT
DTSTART;TZID=Europe/Vienna:20231104T200000
DTEND;TZID=Europe/Vienna:20231104T223000
DTSTAMP:20260423T070746
CREATED:20230711T095118Z
LAST-MODIFIED:20231007T084112Z
UID:10000409-1699128000-1699137000@www.markuskoschuh.at
SUMMARY:wOHNMACHT. Das umjubelte Programm!
DESCRIPTION:Reith bei Seefeld\, Gemeindesaal \n\n\n\n\n\n\n\n\nTickets\n\n\n\n\n\n\n\n\n\n\n\n\n\n\n\n\n\n\nwOHNMACHT.  „Wohnen muss wieder leistbar werden!“ Markus Koschuh haut der rot-weiß-roten Politik den Spruch um die Ohren\, eckt an\, rüttelt auf. Ein irrer&witziger Hilferuf stellvertretend für viele. In „wOHNMACHT“ geht Markus Koschuh hart ins Gericht mit einer mutlosen Politik\, Irrläufern des Lobbyismus\, Banken\, Immobilien- und Grundstückspekulanten und deren Wegbereitern und zeichnet ein aufrüttelndes Bild übler Machenschaften\, die mit dazu führen\, dass halb Österreich und da vor allem Tirol unter davongaloppierenden Kosten für Miete oder Hausbau leidet. Regie: Der für den Deutschen Schauspielpreis 2022 nominierte Harald Windisch.Penible Recherche\, satirische Überhöhung\, aberwitzige Rasanz und Körperlichkeit – das zeichnet Koschuhs Programme aus. wOHNMACHT erhielt 2022 das Österreichische Kabarettstipendium. Die Presse überschlägt sich in Lobeshymnen:„Wer herzhaft lachen möchte … kommt bei wOHNMACHT voll auf seine Kosten“\, „Full-Service Kabarett“\,  „begeistertes Publikum“\, „absolut sehenswert!“\, „genau recherchiert\, grimmig\, bissig!“  \n\n\n\nTickets owie per Tel: 0681/10840986
URL:https://www.markuskoschuh.at/event-1/wohnmacht-das-umjubelte-programm-13/
LOCATION:Reith bei Seefeld\, Gemeindesaal
ATTACH;FMTTYPE=image/jpeg:https://www.markuskoschuh.at/wp-content/uploads/2023/07/koschuh-kabarett-wohnmacht-Reith-bei-Seefeld.jpg
END:VEVENT
END:VCALENDAR