BEGIN:VCALENDAR
VERSION:2.0
PRODID:-//Markus Koschuh - ECPv6.15.11//NONSGML v1.0//EN
CALSCALE:GREGORIAN
METHOD:PUBLISH
X-WR-CALNAME:Markus Koschuh
X-ORIGINAL-URL:https://www.markuskoschuh.at
X-WR-CALDESC:Veranstaltungen für Markus Koschuh
REFRESH-INTERVAL;VALUE=DURATION:PT1H
X-Robots-Tag:noindex
X-PUBLISHED-TTL:PT1H
BEGIN:VTIMEZONE
TZID:Europe/Vienna
BEGIN:DAYLIGHT
TZOFFSETFROM:+0100
TZOFFSETTO:+0200
TZNAME:CEST
DTSTART:20230326T010000
END:DAYLIGHT
BEGIN:STANDARD
TZOFFSETFROM:+0200
TZOFFSETTO:+0100
TZNAME:CET
DTSTART:20231029T010000
END:STANDARD
BEGIN:DAYLIGHT
TZOFFSETFROM:+0100
TZOFFSETTO:+0200
TZNAME:CEST
DTSTART:20240331T010000
END:DAYLIGHT
BEGIN:STANDARD
TZOFFSETFROM:+0200
TZOFFSETTO:+0100
TZNAME:CET
DTSTART:20241027T010000
END:STANDARD
BEGIN:DAYLIGHT
TZOFFSETFROM:+0100
TZOFFSETTO:+0200
TZNAME:CEST
DTSTART:20250330T010000
END:DAYLIGHT
BEGIN:STANDARD
TZOFFSETFROM:+0200
TZOFFSETTO:+0100
TZNAME:CET
DTSTART:20251026T010000
END:STANDARD
END:VTIMEZONE
BEGIN:VEVENT
DTSTART;TZID=Europe/Vienna:20240411T093000
DTEND;TZID=Europe/Vienna:20240411T112000
DTSTAMP:20260423T003032
CREATED:20240403T174733Z
LAST-MODIFIED:20240408T142137Z
UID:10000685-1712827800-1712834400@www.markuskoschuh.at
SUMMARY:Poetry Slam. Der spaßige Workshop!
DESCRIPTION:Stams\, Mittelschule Stams-Rietz \n\n\n\n\n\n\n\n\n\n\n\n\n\nEin Workshop der ganz besonderen Art: In 2 Schulstunden tauchen die SchülerInnen in die Welt des Poetry Slam ein\, erhalten wertvolle Tipps zum Schreiben und Präsentieren und haben einen Riesenspaß an Sprache! Der zweifache österreichische Poetry-Slam-Meister\, Vize-Europameister im Poetry Slam und Kabarettist Markus Koschuh holt die SchülerInnen mit Kompetenz und Witz ab und staunt am Ende meist selbst\, welch (Schreib-)Talente nur darauf gewartet haben\, geweckt zu werden! Eine Veranstaltung des Tiroler Kulturservice.
URL:https://www.markuskoschuh.at/event-1/poetry-slam-der-spassige-workshop-10/
LOCATION:Mittelschule Stams-Rietz\, Thomas-Riss-Weg 10\, Stams\, 6422\, Österreich
CATEGORIES:Poetry-Slam
ATTACH;FMTTYPE=image/jpeg:https://www.markuskoschuh.at/wp-content/uploads/2024/03/Workshop-BG-Kufstein-c-Bezirksblaetter_Noggler.jpg
END:VEVENT
BEGIN:VEVENT
DTSTART;TZID=Europe/Vienna:20240415T093000
DTEND;TZID=Europe/Vienna:20240415T112000
DTSTAMP:20260423T003032
CREATED:20240403T180102Z
LAST-MODIFIED:20240408T153808Z
UID:10000689-1713173400-1713180000@www.markuskoschuh.at
SUMMARY:Poetry Slam. Der spaßige Workshop!
DESCRIPTION:Wattens\, Polytechnische Schule \n\n\n\n\n\n\n\n\n\n\n\n\n\nEin Workshop der ganz besonderen Art: In 2 Schulstunden tauchen die SchülerInnen in die Welt des Poetry Slam ein\, erhalten wertvolle Tipps zum Schreiben und Präsentieren und haben einen Riesenspaß an Sprache! Der zweifache österreichische Poetry-Slam-Meister\, Vize-Europameister im Poetry Slam und Kabarettist Markus Koschuh holt die SchülerInnen mit Kompetenz und Witz ab und staunt am Ende meist selbst\, welch (Schreib-)Talente nur darauf gewartet haben\, geweckt zu werden! Eine Veranstaltung des Tiroler Kulturservice.
URL:https://www.markuskoschuh.at/event-1/poetry-slam-der-spassige-workshop-14/
LOCATION:Wattens\, Polytechnische Schule\, Kirchplatz 14a\, Wattens\, Tirol\, 6112\, Österreich
CATEGORIES:Poetry-Slam
ATTACH;FMTTYPE=image/jpeg:https://www.markuskoschuh.at/wp-content/uploads/2024/03/Workshop-BG-Kufstein-c-Bezirksblaetter_Noggler.jpg
END:VEVENT
BEGIN:VEVENT
DTSTART;TZID=Europe/Vienna:20240417T085000
DTEND;TZID=Europe/Vienna:20240417T094000
DTSTAMP:20260423T003032
CREATED:20240315T083452Z
LAST-MODIFIED:20240406T191550Z
UID:10000658-1713343800-1713346800@www.markuskoschuh.at
SUMMARY:Wort fetzt! Poetry Slam Lesung
DESCRIPTION:Innsbruck\, BRG Sillgasse \n\n\n\n\n\n\n\n\n\n\n\n\n\nEine Lesung\, die eigentlich keine ist: Witzig\, wortspielerisch\, rasant und beeindruckend. Kabarettist und Poetry Slammer Markus Koschuh zeigt eindrucksvoll\, was mit Sprache(n) alles möglich ist und bringt sein Publikum dazu\, herzhaft zu lachen und zu staunen. Eine Stunde mit Nachhaltigkeitsgarantie in den Zwerchfellen des Publikums. Eine Veranstaltung des Tiroler Kulturservice.
URL:https://www.markuskoschuh.at/event-1/wort-fetzt-poetry-slam-lesung-4/
LOCATION:Innsbruck\, BRG Sillgasse\, Sillgasse 10\, Innsbruck\, Tirol\, 6020\, Österreich
CATEGORIES:Poetry-Slam
ATTACH;FMTTYPE=image/jpeg:https://www.markuskoschuh.at/wp-content/uploads/2022/11/koschuh_obenohne_TOB0090-scaled-e1667924563455.jpg
END:VEVENT
BEGIN:VEVENT
DTSTART;TZID=Europe/Vienna:20240418T074000
DTEND;TZID=Europe/Vienna:20240418T092000
DTSTAMP:20260423T003032
CREATED:20240403T175556Z
LAST-MODIFIED:20240408T143436Z
UID:10000687-1713426000-1713432000@www.markuskoschuh.at
SUMMARY:Poetry Slam. Der spaßige Workshop!
DESCRIPTION:Westendorf\, Mittelschule Westendorf \n\n\n\n\n\n\n\n\n\n\n\n\n\nEin Workshop der ganz besonderen Art: In 2 Schulstunden tauchen die SchülerInnen in die Welt des Poetry Slam ein\, erhalten wertvolle Tipps zum Schreiben und Präsentieren und haben einen Riesenspaß an Sprache! Der zweifache österreichische Poetry-Slam-Meister\, Vize-Europameister im Poetry Slam und Kabarettist Markus Koschuh holt die SchülerInnen mit Kompetenz und Witz ab und staunt am Ende meist selbst\, welch (Schreib-)Talente nur darauf gewartet haben\, geweckt zu werden! Eine Veranstaltung des Tiroler Kulturservice.
URL:https://www.markuskoschuh.at/event-1/poetry-slam-der-spassige-workshop-12/
LOCATION:Mittelschule Westendorf\, Sennereiweg 4\, Westendorf\, Tirol\, 6363\, Österreich
CATEGORIES:Poetry-Slam
ATTACH;FMTTYPE=image/jpeg:https://www.markuskoschuh.at/wp-content/uploads/2024/03/Workshop-BG-Kufstein-c-Bezirksblaetter_Noggler.jpg
END:VEVENT
BEGIN:VEVENT
DTSTART;TZID=Europe/Vienna:20240418T102000
DTEND;TZID=Europe/Vienna:20240418T120000
DTSTAMP:20260423T003032
CREATED:20240315T102732Z
LAST-MODIFIED:20240408T143602Z
UID:10000671-1713435600-1713441600@www.markuskoschuh.at
SUMMARY:Poetry Slam. Der spaßige Workshop!
DESCRIPTION:Westendorf\, Mittelschule Westendorf \n\n\n\n\n\n\n\n\n\n\n\n\n\nEin Workshop der ganz besonderen Art: In 2 Schulstunden tauchen die SchülerInnen in die Welt des Poetry Slam ein\, erhalten wertvolle Tipps zum Schreiben und Präsentieren und haben einen Riesenspaß an Sprache! Der zweifache österreichische Poetry-Slam-Meister\, Vize-Europameister im Poetry Slam und Kabarettist Markus Koschuh holt die SchülerInnen mit Kompetenz und Witz ab und staunt am Ende meist selbst\, welch (Schreib-)Talente nur darauf gewartet haben\, geweckt zu werden! Eine Veranstaltung des Tiroler Kulturservice.
URL:https://www.markuskoschuh.at/event-1/poetry-slam-der-workshop-4/
LOCATION:Mittelschule Westendorf\, Sennereiweg 4\, Westendorf\, Tirol\, 6363\, Österreich
CATEGORIES:Poetry-Slam
ATTACH;FMTTYPE=image/jpeg:https://www.markuskoschuh.at/wp-content/uploads/2024/03/Workshop-BG-Kufstein-c-Bezirksblaetter_Noggler.jpg
END:VEVENT
BEGIN:VEVENT
DTSTART;TZID=Europe/Vienna:20240419T100000
DTEND;TZID=Europe/Vienna:20240419T120000
DTSTAMP:20260423T003032
CREATED:20230907T072837Z
LAST-MODIFIED:20240401T183015Z
UID:10000607-1713520800-1713528000@www.markuskoschuh.at
SUMMARY:40 Jahre Ho&Ruck!
DESCRIPTION:Innsbruck\, Ho&Ruck \n\n\n\n\n\n\n\n\n\nHo&Ruck 40 Jahre – ein Jubel-läum
URL:https://www.markuskoschuh.at/event-1/40-jahre-horuck/
LOCATION:Tirol
ATTACH;FMTTYPE=image/jpeg:https://www.markuskoschuh.at/wp-content/uploads/2020/02/csm_Markus_Koschuh_Schwarzmalen_c_Bullock_5fef13c356.jpg
END:VEVENT
BEGIN:VEVENT
DTSTART;TZID=Europe/Vienna:20240422T190000
DTEND;TZID=Europe/Vienna:20240422T210000
DTSTAMP:20260423T003032
CREATED:20240417T140013Z
LAST-MODIFIED:20240418T185217Z
UID:10000700-1713812400-1713819600@www.markuskoschuh.at
SUMMARY:Sprechstund mit den Bürgermeistern. Zur Innsbruck-Stichwahl am 28. April 2024
DESCRIPTION:Georg Willi und Hannes Anzengruber kommen 6 Tage vor der Bürgermeister-Stichwahl ins Treibhaus\, um sich im Turm von Markus Koschuh auf den Zahn fühlen zu lassen. Bei dieser Wurzelbehandlung fungiert Politikwissenschafterin LORE HAYEK als Sprechstundenhilfe mit detailliertem Wissen und Einschätzungen. Duelle sollen andere veranstalten: Es ist das wort STICH-WAHL für einen demokratischen Akt schon martialisch genug. Es darf gelacht werden\, geklatscht auch\, kratzen\, beißen und spucken ist verboten. Norbert Pleifer möchte beiden einen Blumenstrauß überreichen: um Danke zu sagen – weil beide mit ihrem Ergebnis im ersten Wahlgang uns und der Stadt viel erspart haben …
URL:https://www.markuskoschuh.at/event-1/sprechstund-mit-den-buergermeistern-zur-innsbruck-stichwahl-am-28-april-2024/
LOCATION:Innsbruck\, Treibhaus\, Angerzellgasse 8\, 6020 Innsbruck\, Österreich
CATEGORIES:Moderation
ATTACH;FMTTYPE=image/jpeg:https://www.markuskoschuh.at/wp-content/uploads/2024/04/anzengruberwilli.jpg
END:VEVENT
BEGIN:VEVENT
DTSTART;TZID=Europe/Vienna:20240423T092000
DTEND;TZID=Europe/Vienna:20240423T110000
DTSTAMP:20260423T003032
CREATED:20240403T183837Z
LAST-MODIFIED:20240403T210333Z
UID:10000693-1713864000-1713870000@www.markuskoschuh.at
SUMMARY:Poetry Slam. Der spaßige Workshop!
DESCRIPTION:Maurach\, Mittelschule Achensee \n\n\n\n\n\n\n\nEin Workshop der ganz besonderen Art: In 2 Schulstunden tauchen die SchülerInnen in die Welt des Poetry Slam ein\, erhalten wertvolle Tipps zum Schreiben und Präsentieren und haben einen Riesenspaß an Sprache! Der zweifache österreichische Poetry-Slam-Meister\, Vize-Europameister im Poetry Slam und Kabarettist Markus Koschuh holt die SchülerInnen mit Kompetenz und Witz ab und staunt am Ende meist selbst\, welch (Schreib-)Talente nur darauf gewartet haben\, geweckt zu werden! Eine Veranstaltung des Tiroler Kulturservice.
URL:https://www.markuskoschuh.at/event-1/poetry-slam-der-spassige-workshop-16/
LOCATION:Maurach\, Mittelschule Achensee\, Pertisauer Straße 2\, Maurach\, Tirol\, 6212\, Österreich
CATEGORIES:Poetry-Slam
ATTACH;FMTTYPE=image/jpeg:https://www.markuskoschuh.at/wp-content/uploads/2024/03/Workshop-BG-Kufstein-c-Bezirksblaetter_Noggler.jpg
END:VEVENT
BEGIN:VEVENT
DTSTART;TZID=Europe/Vienna:20240424T190000
DTEND;TZID=Europe/Vienna:20240424T210000
DTSTAMP:20260423T003032
CREATED:20240202T083229Z
LAST-MODIFIED:20240401T172258Z
UID:10000637-1713985200-1713992400@www.markuskoschuh.at
SUMMARY:Zum Kuckuck. Das Open Mic.
DESCRIPTION:Innsbruck\, Patagonia Store \n\n\n\n\n Eintritt frei/ Anmeldung\n\n\n\n\n\n\n\n\n\n\n\n\n\n\n\n\n\n\n„ZUM KUCKUCK – Your voice for a change“ bietet eine Bühne für alle\, die ihre Stimme erheben wollen: Für Natur und Umwelt\, das Klima\, unseren Planeten\, unsere Lebensqualität.Wir stellen Dir eine Bühne\, ein Mikrofon und fünf Minuten zur Verfügung. Sag was\, lies was\, erhebe deine Stimme! Auch Liedermacher:innen sind gerne willkommen! Anmeldung unter: info@zumkuckuck.tirol \n\n\n\nEINTRITT FREI! \n\n\n\nZUM KUCKUCK – OPEN MIC your voice for a change 24. April + 5. November\, 19 Uhr.Patagonia Store Innsbruck. Moderation: Markus KoschuhEin Event von Tiroler Umweltanwaltschaft\, Patagonia und Verein Naturgut.
URL:https://www.markuskoschuh.at/event-1/zum-kuckuck-das-open-mic-4/
LOCATION:Innsbruck\, Patagonia Store\, Maria-Theresien-Straße 57\, 6020 Innsbruck\, Österreich
ATTACH;FMTTYPE=image/jpeg:https://www.markuskoschuh.at/wp-content/uploads/2023/03/koschuh-kabarett-zumKuckuck-patagonia-innsbruck.jpg
END:VEVENT
END:VCALENDAR