BEGIN:VCALENDAR
VERSION:2.0
PRODID:-//Markus Koschuh - ECPv6.15.11//NONSGML v1.0//EN
CALSCALE:GREGORIAN
METHOD:PUBLISH
X-WR-CALNAME:Markus Koschuh
X-ORIGINAL-URL:https://www.markuskoschuh.at
X-WR-CALDESC:Veranstaltungen für Markus Koschuh
REFRESH-INTERVAL;VALUE=DURATION:PT1H
X-Robots-Tag:noindex
X-PUBLISHED-TTL:PT1H
BEGIN:VTIMEZONE
TZID:Europe/Vienna
BEGIN:DAYLIGHT
TZOFFSETFROM:+0100
TZOFFSETTO:+0200
TZNAME:CEST
DTSTART:20190331T010000
END:DAYLIGHT
BEGIN:STANDARD
TZOFFSETFROM:+0200
TZOFFSETTO:+0100
TZNAME:CET
DTSTART:20191027T010000
END:STANDARD
BEGIN:DAYLIGHT
TZOFFSETFROM:+0100
TZOFFSETTO:+0200
TZNAME:CEST
DTSTART:20200329T010000
END:DAYLIGHT
BEGIN:STANDARD
TZOFFSETFROM:+0200
TZOFFSETTO:+0100
TZNAME:CET
DTSTART:20201025T010000
END:STANDARD
BEGIN:DAYLIGHT
TZOFFSETFROM:+0100
TZOFFSETTO:+0200
TZNAME:CEST
DTSTART:20210328T010000
END:DAYLIGHT
BEGIN:STANDARD
TZOFFSETFROM:+0200
TZOFFSETTO:+0100
TZNAME:CET
DTSTART:20211031T010000
END:STANDARD
END:VTIMEZONE
BEGIN:VEVENT
DTSTART;TZID=Europe/Vienna:20200504T200000
DTEND;TZID=Europe/Vienna:20200504T220000
DTSTAMP:20260425T165017
CREATED:20200328T153149Z
LAST-MODIFIED:20200424T194008Z
UID:10000305-1588622400-1588629600@www.markuskoschuh.at
SUMMARY:LIVESTREAM. Sprechstund mit dem Bürgermeister
DESCRIPTION:Leider ABGESAGT! \nBis Jänner fand die „Sprechstund mit dem Bürgermeister“ monatlich im Treibhaus mit Publikum statt: Innsbrucks Bürgermeister Georg Willi stellt sich unter der Moderation von mir und Thomas Pupp Fragen zu aktuellen und brisanten Themen. Das Informationsbedürfnis in Corona-Zeiten ist groß – die „Sprechstund“ wird deshalb voraussichtlich auch ohne Publikum\, unter Wahrung des empfohlenen Sicherheitsabstands und per LIVESTREAM und Live-Übertragung auf Freirad 105\,9 stattfinden. Wir arbeiten daran\, Publikumsfragen per Anruf zu ermöglichen.Nähere Infos folgen!
URL:https://www.markuskoschuh.at/event-1/livestream-sprechstund-mit-dem-buergermeister-2/
LOCATION:Live-Stream\, Österreich
ATTACH;FMTTYPE=image/jpeg:https://www.markuskoschuh.at/wp-content/uploads/2020/03/koschuh-kabarett-hoamatl-Livestream-buergermeister.jpg
END:VEVENT
BEGIN:VEVENT
DTSTART;TZID=Europe/Vienna:20200505T090000
DTEND;TZID=Europe/Vienna:20200505T140000
DTSTAMP:20260425T165017
CREATED:20200328T160835Z
LAST-MODIFIED:20200424T194709Z
UID:10000306-1588669200-1588687200@www.markuskoschuh.at
SUMMARY:Landesredewettbewerb Jury
DESCRIPTION:Leider ABGESAGT!
URL:https://www.markuskoschuh.at/event-1/landesredewettbewerb-jury/
LOCATION:Innsbruck\, Landhaus\, Eduard-Wallnöfer-Platz 2\, Innsbruck\, 6020\, Österreich
CATEGORIES:Jury
ATTACH;FMTTYPE=image/jpeg:https://www.markuskoschuh.at/wp-content/uploads/2020/03/koschuh-kabarett-hoamatl-TERMIN.jpg
END:VEVENT
BEGIN:VEVENT
DTSTART;TZID=Europe/Vienna:20200508T200000
DTEND;TZID=Europe/Vienna:20200508T220000
DTSTAMP:20260425T165017
CREATED:20200326T224603Z
LAST-MODIFIED:20200424T194940Z
UID:10000302-1588968000-1588975200@www.markuskoschuh.at
SUMMARY:Hoamatl. Das Österreich-Programm
DESCRIPTION:Leider ABGESAGT / VERSCHOBEN!  \nIn seinem neuen Kabarettprogramm zeichnet Markus Koschuh ein gleichermaßen irrwitziges wie schonungsloses Sittenbild: Von Verbandelten & Verbandlern\, Mitmachern & Profiteuren\, Mitwissern & Wegschauern in der stets so idyllisch präsentierten rot-weiß-roten Alpenrepublik.
URL:https://www.markuskoschuh.at/event-1/hoamatl-das-oesterreich-programm-4/
LOCATION:Lermoos\, Kultursaal\, Österreich
CATEGORIES:Kabarett
ATTACH;FMTTYPE=image/jpeg:https://www.markuskoschuh.at/wp-content/uploads/2020/03/koschuh-kabarett-hoamatl-lermoos.jpg
END:VEVENT
BEGIN:VEVENT
DTSTART;TZID=Europe/Vienna:20200509T200000
DTEND;TZID=Europe/Vienna:20200509T220000
DTSTAMP:20260425T165017
CREATED:20200328T181216Z
LAST-MODIFIED:20200424T195042Z
UID:10000307-1589054400-1589061600@www.markuskoschuh.at
SUMMARY:Hoamatl - Das Österreich-Programm
DESCRIPTION:Leider ABGESAGT/VERSCHOBEN – Neuer Termin folgt! \nIn seinem neuen Kabarettprogramm zeichnet Markus Koschuh ein gleichermaßen irrwitziges wie schonungsloses Sittenbild: Von Verbandelten & Verbandlern\, Mitmachern & Profiteuren\, Mitwissern & Wegschauern in der stets so idyllisch präsentierten rot-weiß-roten Alpenrepublik. 
URL:https://www.markuskoschuh.at/event-1/hoamatl-das-oesterreich-programm-6/
LOCATION:Längenfeld\, Gemeindesaal\, Oberlängenfeld 72\, Oberlängenfeld\, 6444\, Österreich
CATEGORIES:Kabarett
ATTACH;FMTTYPE=image/jpeg:https://www.markuskoschuh.at/wp-content/uploads/2020/03/koschuh-kabarett-hoamatl-längenfeld.jpg
END:VEVENT
BEGIN:VEVENT
DTSTART;TZID=Europe/Vienna:20200522T200000
DTEND;TZID=Europe/Vienna:20200522T220000
DTSTAMP:20260425T165017
CREATED:20200326T225129Z
LAST-MODIFIED:20200424T195214Z
UID:10000303-1590177600-1590184800@www.markuskoschuh.at
SUMMARY:Hoamatl. Das Österreich-Programm
DESCRIPTION:Leider ABGESAGT/VERSCHOBEN – Neuer Termin folgt!In seinem neuen Kabarettprogramm zeichnet Markus Koschuh ein gleichermaßen irrwitziges wie schonungsloses Sittenbild: Von Verbandelten & Verbandlern\, Mitmachern & Profiteuren\, Mitwissern & Wegschauern in der stets so idyllisch präsentierten rot-weiß-roten Alpenrepublik.
URL:https://www.markuskoschuh.at/event-1/hoamatl-das-oesterreich-programm-5/
LOCATION:Innsbruck\, Treibhaus\, Angerzellgasse 8\, 6020 Innsbruck\, Österreich
CATEGORIES:Kabarett
ATTACH;FMTTYPE=image/jpeg:https://www.markuskoschuh.at/wp-content/uploads/2020/02/koschuh-kabarett-hoamatl-Treibhaus.jpg
END:VEVENT
END:VCALENDAR