BEGIN:VCALENDAR
VERSION:2.0
PRODID:-//Markus Koschuh - ECPv6.15.11//NONSGML v1.0//EN
CALSCALE:GREGORIAN
METHOD:PUBLISH
X-ORIGINAL-URL:https://www.markuskoschuh.at
X-WR-CALDESC:Veranstaltungen für Markus Koschuh
REFRESH-INTERVAL;VALUE=DURATION:PT1H
X-Robots-Tag:noindex
X-PUBLISHED-TTL:PT1H
BEGIN:VTIMEZONE
TZID:Europe/Vienna
BEGIN:DAYLIGHT
TZOFFSETFROM:+0100
TZOFFSETTO:+0200
TZNAME:CEST
DTSTART:20190331T010000
END:DAYLIGHT
BEGIN:STANDARD
TZOFFSETFROM:+0200
TZOFFSETTO:+0100
TZNAME:CET
DTSTART:20191027T010000
END:STANDARD
BEGIN:DAYLIGHT
TZOFFSETFROM:+0100
TZOFFSETTO:+0200
TZNAME:CEST
DTSTART:20200329T010000
END:DAYLIGHT
BEGIN:STANDARD
TZOFFSETFROM:+0200
TZOFFSETTO:+0100
TZNAME:CET
DTSTART:20201025T010000
END:STANDARD
BEGIN:DAYLIGHT
TZOFFSETFROM:+0100
TZOFFSETTO:+0200
TZNAME:CEST
DTSTART:20210328T010000
END:DAYLIGHT
BEGIN:STANDARD
TZOFFSETFROM:+0200
TZOFFSETTO:+0100
TZNAME:CET
DTSTART:20211031T010000
END:STANDARD
END:VTIMEZONE
BEGIN:VEVENT
DTSTART;TZID=Europe/Vienna:20200603T200000
DTEND;TZID=Europe/Vienna:20200603T200000
DTSTAMP:20260425T150333
CREATED:20200211T232217Z
LAST-MODIFIED:20200525T184845Z
UID:10000289-1591214400-1591214400@www.markuskoschuh.at
SUMMARY:Hoamatl. Das Österreich-Programm
DESCRIPTION:Leider ABGESAGT/VERSCHOBEN – Neuer Termin folgt! \nIn seinem neuen Kabarettprogramm zeichnet Markus Koschuh ein gleichermaßen irrwitziges wie schonungsloses Sittenbild: Von Verbandelten & Verbandlern\, Mitmachern & Profiteuren\, Mitwissern & Wegschauern in der stets so idyllisch präsentierten rot-weiß-roten Alpenrepublik.
URL:https://www.markuskoschuh.at/event-1/hoamatl-das-neue-programm-2/
LOCATION:Wörgl\, VZ Komma\, KR. Martin-Pichlerstraße 21a\, Wörgl\, 6300\, Österreich
CATEGORIES:Kabarett
ATTACH;FMTTYPE=image/jpeg:https://www.markuskoschuh.at/wp-content/uploads/2020/02/koschuh-kabarett-hoamatl-vz-koma-woergl.jpg
END:VEVENT
BEGIN:VEVENT
DTSTART;TZID=Europe/Vienna:20200605T200000
DTEND;TZID=Europe/Vienna:20200605T220000
DTSTAMP:20260425T150333
CREATED:20200328T184607Z
LAST-MODIFIED:20200525T185804Z
UID:10000308-1591387200-1591394400@www.markuskoschuh.at
SUMMARY:Hoamatl - Das Österreich-Programm
DESCRIPTION:Leider ABGESAGT/VERSCHOBEN – Neuer Termin folgt! \nIn seinem neuen Kabarettprogramm zeichnet Markus Koschuh ein gleichermaßen irrwitziges wie schonungsloses Sittenbild: Von Verbandelten & Verbandlern\, Mitmachern & Profiteuren\, Mitwissern & Wegschauern in der stets so idyllisch präsentierten rot-weiß-roten Alpenrepublik. 
URL:https://www.markuskoschuh.at/event-1/hoamatl-das-oesterreich-programm-7/
LOCATION:Innsbruck\, Treibhaus\, Angerzellgasse 8\, 6020 Innsbruck\, Österreich
CATEGORIES:Kabarett
ATTACH;FMTTYPE=image/jpeg:https://www.markuskoschuh.at/wp-content/uploads/2020/02/koschuh-kabarett-hoamatl-Treibhaus.jpg
END:VEVENT
BEGIN:VEVENT
DTSTART;TZID=Europe/Vienna:20200608T200000
DTEND;TZID=Europe/Vienna:20200608T220000
DTSTAMP:20260425T150333
CREATED:20200328T195055Z
LAST-MODIFIED:20200606T074924Z
UID:10000310-1591646400-1591653600@www.markuskoschuh.at
SUMMARY:Sprechstund mit dem Bürgermeister
DESCRIPTION:Höchste Zeit: Die Sprechstund mit dem Bürgermeister findet wieder statt – OpenAir\, bei jedem Wetter im Treibhaus-Garten! \nWort am Montag. Innsbrucks Bürgermeister Georg Willi stellt sich unter Moderation von Markus Koschuh und Thomas Pupp den Fragen des Publikums. Wieder im Treibhaus.Musikalisch umrahmt wird die Sprechstund wie immer von Ander Tentschert\, Flo Hupfauf und Georg Tausch – die Jam-Session danach entfällt leider\, weil in Innsbruck openair ab 22 Uhr musikalisch Schluss mit lustig ist …
URL:https://www.markuskoschuh.at/event-1/sprechstund-mit-dem-buergermeister/2020-06-08/
LOCATION:Innsbruck\, Treibhaus\, Angerzellgasse 8\, 6020 Innsbruck\, Österreich
CATEGORIES:Moderation
ATTACH;FMTTYPE=image/jpeg:https://www.markuskoschuh.at/wp-content/uploads/2020/03/koschuh-sprechstund-treibhaus.jpg
END:VEVENT
BEGIN:VEVENT
DTSTART;TZID=Europe/Vienna:20200616T190000
DTEND;TZID=Europe/Vienna:20200616T210000
DTSTAMP:20260425T150333
CREATED:20200329T215551Z
LAST-MODIFIED:20200612T090522Z
UID:10000312-1592334000-1592341200@www.markuskoschuh.at
SUMMARY:Väter-Enquete Special
DESCRIPTION:Männliche Lebensweisheiten – von Männern für Männer … \nImpuls\, Kabarett und Gespräch mit Mag. Martin Christandl und Markus Koschuh  \nEin Grund für den Rückgang der Kinderzahl hat u.a. mit der Verweigerung von Männern zu tun\, Vater zu werden. Der Beruf hat Vorrang; der Respekt vor der Verantwortung ist zu groß. Wenn es in einer Beziehung zu einem Bruch kommt\, sind es oft die Männer\, die scheinbar auf ihr Vatersein weitgehend verzichten müsssen. So scheint es einfacher zu sein. In beiden Fällen gilt es: Mut zum Vater sein. Um ein Kind groß zu ziehen braucht es bekanntlich ein ganzes Dorf\, oder anders formuliert: viele Netzwerke. Man(n) muss es nicht allein schaffen. Andererseits: Auch nach einer Trennung bleibt Man(n) Vater. Trotz Schwierigkeiten sollten Männer auf ihre Rolle als Vater nicht verzichten: Kinder brauchen ihre Väter und Vater sein ist ein Gewinn für das Leben. \nVeranstalter: Männerreferat der Diözese Innsbruck\, Anmeldung: maennerreferat@dibk.at(Quelle: Haus der Begegnung)
URL:https://www.markuskoschuh.at/event-1/vaeter-enquete-special/
LOCATION:Innsbruck\, Haus der Begegnung\, Rennweg 12\, Innsbruck\, 6020\, Österreich
CATEGORIES:Moderation
ATTACH;FMTTYPE=image/jpeg:https://www.markuskoschuh.at/wp-content/uploads/2020/03/koschuh-kabarett-hoamatl-TERMIN.jpg
END:VEVENT
BEGIN:VEVENT
DTSTART;TZID=Europe/Vienna:20200618T093000
DTEND;TZID=Europe/Vienna:20200618T113000
DTSTAMP:20260425T150333
CREATED:20200330T100246Z
LAST-MODIFIED:20200330T100247Z
UID:10000313-1592472600-1592479800@www.markuskoschuh.at
SUMMARY:IVB. Schnupperfahrt
DESCRIPTION:Um Interessierten einen Einblick in den Beruf als Busfahrer zu geben\, veranstaltet  die IVB jährlich „Schnupperfahrten“\, bei denen sich Teilnehmer und Teilnehmerinnen  Informationen einholen können. Mit dabei ist Kabarettist Markus Koschuh!
URL:https://www.markuskoschuh.at/event-1/ivb-schnupperfahrt/
LOCATION:Tirol
CATEGORIES:Moderation
ATTACH;FMTTYPE=image/jpeg:https://www.markuskoschuh.at/wp-content/uploads/2020/03/koschuh-kabarett-hoamatl-TERMIN.jpg
END:VEVENT
END:VCALENDAR