BEGIN:VCALENDAR
VERSION:2.0
PRODID:-//Markus Koschuh - ECPv6.15.11//NONSGML v1.0//EN
CALSCALE:GREGORIAN
METHOD:PUBLISH
X-ORIGINAL-URL:https://www.markuskoschuh.at
X-WR-CALDESC:Veranstaltungen für Markus Koschuh
REFRESH-INTERVAL;VALUE=DURATION:PT1H
X-Robots-Tag:noindex
X-PUBLISHED-TTL:PT1H
BEGIN:VTIMEZONE
TZID:Europe/Vienna
BEGIN:DAYLIGHT
TZOFFSETFROM:+0100
TZOFFSETTO:+0200
TZNAME:CEST
DTSTART:20190331T010000
END:DAYLIGHT
BEGIN:STANDARD
TZOFFSETFROM:+0200
TZOFFSETTO:+0100
TZNAME:CET
DTSTART:20191027T010000
END:STANDARD
BEGIN:DAYLIGHT
TZOFFSETFROM:+0100
TZOFFSETTO:+0200
TZNAME:CEST
DTSTART:20200329T010000
END:DAYLIGHT
BEGIN:STANDARD
TZOFFSETFROM:+0200
TZOFFSETTO:+0100
TZNAME:CET
DTSTART:20201025T010000
END:STANDARD
BEGIN:DAYLIGHT
TZOFFSETFROM:+0100
TZOFFSETTO:+0200
TZNAME:CEST
DTSTART:20210328T010000
END:DAYLIGHT
BEGIN:STANDARD
TZOFFSETFROM:+0200
TZOFFSETTO:+0100
TZNAME:CET
DTSTART:20211031T010000
END:STANDARD
END:VTIMEZONE
BEGIN:VEVENT
DTSTART;TZID=Europe/Vienna:20200706T170000
DTEND;TZID=Europe/Vienna:20200706T180000
DTSTAMP:20260425T132323
CREATED:20200629T061441Z
LAST-MODIFIED:20200629T061441Z
UID:10000319-1594054800-1594058400@www.markuskoschuh.at
SUMMARY:IVB Schnupperfahrt
DESCRIPTION:Die unterhaltsame Fahrt durch Innsbruck – für jene\, die in die IVB einsteigen wollen um BusfahrerIn zu werden.\nNähere Infos: www.ivb.at – Voranmeldung erforderlich!
URL:https://www.markuskoschuh.at/event-1/ivb-schnupperfahrt-2/
LOCATION:Innsbruck\, IVB-Zentrale Pastorstraße\, Österreich
END:VEVENT
BEGIN:VEVENT
DTSTART;TZID=Europe/Vienna:20200706T200000
DTEND;TZID=Europe/Vienna:20200706T220000
DTSTAMP:20260425T132323
CREATED:20200328T195055Z
LAST-MODIFIED:20200525T191017Z
UID:10000311-1594065600-1594072800@www.markuskoschuh.at
SUMMARY:Sprechstund mit dem Bürgermeister
DESCRIPTION:Wort am Montag. Innsbrucks Bürgermeister Georg Willi stellt sich unter Moderation von Markus Koschuh und Thomas Pupp den Fragen des Publikums. Wieder im Treibhaus.
URL:https://www.markuskoschuh.at/event-1/sprechstund-mit-dem-buergermeister-2020-07-06/2020-07-06/
LOCATION:Innsbruck\, Treibhaus\, Angerzellgasse 8\, 6020 Innsbruck\, Österreich
CATEGORIES:Moderation
ATTACH;FMTTYPE=image/jpeg:https://www.markuskoschuh.at/wp-content/uploads/2020/03/koschuh-sprechstund-treibhaus.jpg
END:VEVENT
END:VCALENDAR