BEGIN:VCALENDAR
VERSION:2.0
PRODID:-//Markus Koschuh - ECPv6.15.11//NONSGML v1.0//EN
CALSCALE:GREGORIAN
METHOD:PUBLISH
X-ORIGINAL-URL:https://www.markuskoschuh.at
X-WR-CALDESC:Veranstaltungen für Markus Koschuh
REFRESH-INTERVAL;VALUE=DURATION:PT1H
X-Robots-Tag:noindex
X-PUBLISHED-TTL:PT1H
BEGIN:VTIMEZONE
TZID:Europe/Vienna
BEGIN:DAYLIGHT
TZOFFSETFROM:+0100
TZOFFSETTO:+0200
TZNAME:CEST
DTSTART:20190331T010000
END:DAYLIGHT
BEGIN:STANDARD
TZOFFSETFROM:+0200
TZOFFSETTO:+0100
TZNAME:CET
DTSTART:20191027T010000
END:STANDARD
BEGIN:DAYLIGHT
TZOFFSETFROM:+0100
TZOFFSETTO:+0200
TZNAME:CEST
DTSTART:20200329T010000
END:DAYLIGHT
BEGIN:STANDARD
TZOFFSETFROM:+0200
TZOFFSETTO:+0100
TZNAME:CET
DTSTART:20201025T010000
END:STANDARD
BEGIN:DAYLIGHT
TZOFFSETFROM:+0100
TZOFFSETTO:+0200
TZNAME:CEST
DTSTART:20210328T010000
END:DAYLIGHT
BEGIN:STANDARD
TZOFFSETFROM:+0200
TZOFFSETTO:+0100
TZNAME:CET
DTSTART:20211031T010000
END:STANDARD
END:VTIMEZONE
BEGIN:VEVENT
DTSTART;TZID=Europe/Vienna:20201228T200000
DTEND;TZID=Europe/Vienna:20201228T220000
DTSTAMP:20260425T044028
CREATED:20200321T114054Z
LAST-MODIFIED:20201203T075721Z
UID:10000292-1609185600-1609192800@www.markuskoschuh.at
SUMMARY:Jahrmarkt der Heiterkeiten 2020 - Der Jahresrückblick
DESCRIPTION:LEIDER ABGESAGT! \nDer kabarettistische Jahresrückblick.Seit 2009 ein Pflichttermin für alle\, die ein Jahr so richtig auslachen wollen – noch wie war das notwendiger als für das Jahr 2020. Denn: Wenn gar nichts mehr hilft\, hilft nur mehr Lachen\, bis das Zwerchfell die Krise kriegt. Der Jahresrückblick mit einer Prise Corona\, starkem regionalem Akzent und lokaler Note. Seit mittlerweile 12 Jahren jeweils zwischen Weihnachten und den Hl. 3 Königen. Seien Sie gespannt\, was Markus Koschuh abseits Corona&Co noch so alles auf- und besser gleich weder zudeckt.  \nwww.kki.at
URL:https://www.markuskoschuh.at/event-1/jahrmarkt-der-heiterkeiten-2020/2020-12-28/
LOCATION:Innsbruck\, Vierundeinzig\, Hallerstraße 41\, Innsbruck\, 6020\, Österreich
CATEGORIES:Kabarett
ATTACH;FMTTYPE=image/jpeg:https://www.markuskoschuh.at/wp-content/uploads/2020/03/koschuh-kabarett-jahrmarkt-haus41.jpg
END:VEVENT
BEGIN:VEVENT
DTSTART;TZID=Europe/Vienna:20201229T200000
DTEND;TZID=Europe/Vienna:20201229T220000
DTSTAMP:20260425T044028
CREATED:20200321T114054Z
LAST-MODIFIED:20201203T075721Z
UID:10000293-1609272000-1609279200@www.markuskoschuh.at
SUMMARY:Jahrmarkt der Heiterkeiten 2020 - Der Jahresrückblick
DESCRIPTION:LEIDER ABGESAGT! \nDer kabarettistische Jahresrückblick.Seit 2009 ein Pflichttermin für alle\, die ein Jahr so richtig auslachen wollen – noch wie war das notwendiger als für das Jahr 2020. Denn: Wenn gar nichts mehr hilft\, hilft nur mehr Lachen\, bis das Zwerchfell die Krise kriegt. Der Jahresrückblick mit einer Prise Corona\, starkem regionalem Akzent und lokaler Note. Seit mittlerweile 12 Jahren jeweils zwischen Weihnachten und den Hl. 3 Königen. Seien Sie gespannt\, was Markus Koschuh abseits Corona&Co noch so alles auf- und besser gleich weder zudeckt.  \nwww.kki.at
URL:https://www.markuskoschuh.at/event-1/jahrmarkt-der-heiterkeiten-2020/2020-12-29/
LOCATION:Innsbruck\, Vierundeinzig\, Hallerstraße 41\, Innsbruck\, 6020\, Österreich
CATEGORIES:Kabarett
ATTACH;FMTTYPE=image/jpeg:https://www.markuskoschuh.at/wp-content/uploads/2020/03/koschuh-kabarett-jahrmarkt-haus41.jpg
END:VEVENT
BEGIN:VEVENT
DTSTART;TZID=Europe/Vienna:20201230T200000
DTEND;TZID=Europe/Vienna:20201230T220000
DTSTAMP:20260425T044028
CREATED:20200321T114054Z
LAST-MODIFIED:20201203T075721Z
UID:10000294-1609358400-1609365600@www.markuskoschuh.at
SUMMARY:Jahrmarkt der Heiterkeiten 2020 - Der Jahresrückblick
DESCRIPTION:LEIDER ABGESAGT! \nDer kabarettistische Jahresrückblick.Seit 2009 ein Pflichttermin für alle\, die ein Jahr so richtig auslachen wollen – noch wie war das notwendiger als für das Jahr 2020. Denn: Wenn gar nichts mehr hilft\, hilft nur mehr Lachen\, bis das Zwerchfell die Krise kriegt. Der Jahresrückblick mit einer Prise Corona\, starkem regionalem Akzent und lokaler Note. Seit mittlerweile 12 Jahren jeweils zwischen Weihnachten und den Hl. 3 Königen. Seien Sie gespannt\, was Markus Koschuh abseits Corona&Co noch so alles auf- und besser gleich weder zudeckt.  \nwww.kki.at
URL:https://www.markuskoschuh.at/event-1/jahrmarkt-der-heiterkeiten-2020/2020-12-30/
LOCATION:Innsbruck\, Vierundeinzig\, Hallerstraße 41\, Innsbruck\, 6020\, Österreich
CATEGORIES:Kabarett
ATTACH;FMTTYPE=image/jpeg:https://www.markuskoschuh.at/wp-content/uploads/2020/03/koschuh-kabarett-jahrmarkt-haus41.jpg
END:VEVENT
END:VCALENDAR