BEGIN:VCALENDAR
VERSION:2.0
PRODID:-//Markus Koschuh - ECPv6.15.11//NONSGML v1.0//EN
CALSCALE:GREGORIAN
METHOD:PUBLISH
X-ORIGINAL-URL:https://www.markuskoschuh.at
X-WR-CALDESC:Veranstaltungen für Markus Koschuh
REFRESH-INTERVAL;VALUE=DURATION:PT1H
X-Robots-Tag:noindex
X-PUBLISHED-TTL:PT1H
BEGIN:VTIMEZONE
TZID:Europe/Vienna
BEGIN:DAYLIGHT
TZOFFSETFROM:+0100
TZOFFSETTO:+0200
TZNAME:CEST
DTSTART:20200329T010000
END:DAYLIGHT
BEGIN:STANDARD
TZOFFSETFROM:+0200
TZOFFSETTO:+0100
TZNAME:CET
DTSTART:20201025T010000
END:STANDARD
BEGIN:DAYLIGHT
TZOFFSETFROM:+0100
TZOFFSETTO:+0200
TZNAME:CEST
DTSTART:20210328T010000
END:DAYLIGHT
BEGIN:STANDARD
TZOFFSETFROM:+0200
TZOFFSETTO:+0100
TZNAME:CET
DTSTART:20211031T010000
END:STANDARD
BEGIN:DAYLIGHT
TZOFFSETFROM:+0100
TZOFFSETTO:+0200
TZNAME:CEST
DTSTART:20220327T010000
END:DAYLIGHT
BEGIN:STANDARD
TZOFFSETFROM:+0200
TZOFFSETTO:+0100
TZNAME:CET
DTSTART:20221030T010000
END:STANDARD
END:VTIMEZONE
BEGIN:VEVENT
DTSTART;TZID=Europe/Vienna:20210102T200000
DTEND;TZID=Europe/Vienna:20210102T220000
DTSTAMP:20260425T025324
CREATED:20200321T114054Z
LAST-MODIFIED:20201203T075721Z
UID:10000295-1609617600-1609624800@www.markuskoschuh.at
SUMMARY:Jahrmarkt der Heiterkeiten 2020 - Der Jahresrückblick
DESCRIPTION:LEIDER ABGESAGT! \nDer kabarettistische Jahresrückblick.Seit 2009 ein Pflichttermin für alle\, die ein Jahr so richtig auslachen wollen – noch wie war das notwendiger als für das Jahr 2020. Denn: Wenn gar nichts mehr hilft\, hilft nur mehr Lachen\, bis das Zwerchfell die Krise kriegt. Der Jahresrückblick mit einer Prise Corona\, starkem regionalem Akzent und lokaler Note. Seit mittlerweile 12 Jahren jeweils zwischen Weihnachten und den Hl. 3 Königen. Seien Sie gespannt\, was Markus Koschuh abseits Corona&Co noch so alles auf- und besser gleich weder zudeckt.  \nwww.kki.at
URL:https://www.markuskoschuh.at/event-1/jahrmarkt-der-heiterkeiten-2020/2021-01-02/
LOCATION:Innsbruck\, Vierundeinzig\, Hallerstraße 41\, Innsbruck\, 6020\, Österreich
CATEGORIES:Kabarett
ATTACH;FMTTYPE=image/jpeg:https://www.markuskoschuh.at/wp-content/uploads/2020/03/koschuh-kabarett-jahrmarkt-haus41.jpg
END:VEVENT
BEGIN:VEVENT
DTSTART;TZID=Europe/Vienna:20210105T200000
DTEND;TZID=Europe/Vienna:20210105T220000
DTSTAMP:20260425T025324
CREATED:20200321T114054Z
LAST-MODIFIED:20201203T075721Z
UID:10000296-1609876800-1609884000@www.markuskoschuh.at
SUMMARY:Jahrmarkt der Heiterkeiten 2020 - Der Jahresrückblick
DESCRIPTION:LEIDER ABGESAGT! \nDer kabarettistische Jahresrückblick.Seit 2009 ein Pflichttermin für alle\, die ein Jahr so richtig auslachen wollen – noch wie war das notwendiger als für das Jahr 2020. Denn: Wenn gar nichts mehr hilft\, hilft nur mehr Lachen\, bis das Zwerchfell die Krise kriegt. Der Jahresrückblick mit einer Prise Corona\, starkem regionalem Akzent und lokaler Note. Seit mittlerweile 12 Jahren jeweils zwischen Weihnachten und den Hl. 3 Königen. Seien Sie gespannt\, was Markus Koschuh abseits Corona&Co noch so alles auf- und besser gleich weder zudeckt.  \nwww.kki.at
URL:https://www.markuskoschuh.at/event-1/jahrmarkt-der-heiterkeiten-2020/2021-01-05/
LOCATION:Innsbruck\, Vierundeinzig\, Hallerstraße 41\, Innsbruck\, 6020\, Österreich
CATEGORIES:Kabarett
ATTACH;FMTTYPE=image/jpeg:https://www.markuskoschuh.at/wp-content/uploads/2020/03/koschuh-kabarett-jahrmarkt-haus41.jpg
END:VEVENT
BEGIN:VEVENT
DTSTART;TZID=Europe/Vienna:20210108T200000
DTEND;TZID=Europe/Vienna:20210108T220000
DTSTAMP:20260425T025324
CREATED:20201103T080849Z
LAST-MODIFIED:20201203T080319Z
UID:10000334-1610136000-1610143200@www.markuskoschuh.at
SUMMARY:Jahrmarkt der Heiterkeiten 2020 - Der Jahresrückblick
DESCRIPTION:LEIDER ABGESAGT! \nDer kabarettistische Jahresrückblick.\nSeit 2009 ein Pflichttermin für alle\, die ein Jahr so richtig auslachen wollen – noch wie war das notwendiger als für das Jahr 2020. Denn: Wenn gar nichts mehr hilft\, hilft nur mehr Lachen\, bis das Zwerchfell die Krise kriegt. Der Jahresrückblick mit einer Prise Corona\, starkem regionalem Akzent und lokaler Note. Seit mittlerweile 12 Jahren jeweils zwischen Weihnachten und den Hl. 3 Königen. Seien Sie gespannt\, was Markus Koschuh abseits Corona&Co noch so alles auf- und besser gleich weder zudeckt. \nwww.komma.at
URL:https://www.markuskoschuh.at/event-1/jahrmarkt-der-heiterkeiten-2020-der-jahresrueckblick/
LOCATION:Wörgl\, VZ Komma\, KR. Martin-Pichlerstraße 21a\, Wörgl\, 6300\, Österreich
CATEGORIES:Kabarett
ATTACH;FMTTYPE=image/jpeg:https://www.markuskoschuh.at/wp-content/uploads/2020/11/koschuh-kabarett-Jahrmarkt-woergl.jpg
END:VEVENT
END:VCALENDAR