BEGIN:VCALENDAR
VERSION:2.0
PRODID:-//Markus Koschuh - ECPv6.15.11//NONSGML v1.0//EN
CALSCALE:GREGORIAN
METHOD:PUBLISH
X-WR-CALNAME:Markus Koschuh
X-ORIGINAL-URL:https://www.markuskoschuh.at
X-WR-CALDESC:Veranstaltungen für Markus Koschuh
REFRESH-INTERVAL;VALUE=DURATION:PT1H
X-Robots-Tag:noindex
X-PUBLISHED-TTL:PT1H
BEGIN:VTIMEZONE
TZID:Europe/Vienna
BEGIN:DAYLIGHT
TZOFFSETFROM:+0100
TZOFFSETTO:+0200
TZNAME:CEST
DTSTART:20200329T010000
END:DAYLIGHT
BEGIN:STANDARD
TZOFFSETFROM:+0200
TZOFFSETTO:+0100
TZNAME:CET
DTSTART:20201025T010000
END:STANDARD
BEGIN:DAYLIGHT
TZOFFSETFROM:+0100
TZOFFSETTO:+0200
TZNAME:CEST
DTSTART:20210328T010000
END:DAYLIGHT
BEGIN:STANDARD
TZOFFSETFROM:+0200
TZOFFSETTO:+0100
TZNAME:CET
DTSTART:20211031T010000
END:STANDARD
BEGIN:DAYLIGHT
TZOFFSETFROM:+0100
TZOFFSETTO:+0200
TZNAME:CEST
DTSTART:20220327T010000
END:DAYLIGHT
BEGIN:STANDARD
TZOFFSETFROM:+0200
TZOFFSETTO:+0100
TZNAME:CET
DTSTART:20221030T010000
END:STANDARD
END:VTIMEZONE
BEGIN:VEVENT
DTSTART;TZID=Europe/Vienna:20210327T193000
DTEND;TZID=Europe/Vienna:20210327T213000
DTSTAMP:20260424T233945
CREATED:20210103T155213Z
LAST-MODIFIED:20210316T125356Z
UID:10000335-1616873400-1616880600@www.markuskoschuh.at
SUMMARY:8. St. Johanner Spoken Word Tage
DESCRIPTION:Veranstaltung leider verschoben! \nJährlich treffen sich kurz vor Ostern in St. Johann die renommiertesten Poetry-SlammerInnen der Nation zum zweitägigen Fest der sprühenden Bühnenpoesie. Die Spoken Word-Tage sind eine einzigartige Veranstaltung\, die dem Publikum ermöglicht\, an jedem Abend gleich drei VertreterInnen der Slamszene kennenzulernen. Reihum werden pointengeladene Kurztexte performt\, die Alltag\, Zeitgeschehen und das Menschsein rücksichtslos aufs Korn nehmen\, die unterhalten\, anregen oder wachrütteln. \nProgramm 2021:\nFreitag\, 26. März: \n19.30 Uhr DJ-Session mit Dei Mama&Kafunkl\n20.00 Uhr Textperformances mit Martin Fritz\, Lena Johanna Hödl und Xaver Wienerroither \nSamstag\, 27. März:\n19.30 Uhr DJ Session mit Dei Mama&Kafunkl\n20.00 Uhr Textperformances mit Hierkönntemein Namestehen\, Markus Koschuh sowie einem weiteren Überraschungsgast \nEintritt frei ..!
URL:https://www.markuskoschuh.at/event-1/8-st-johanner-spoken-word-tage-2/
LOCATION:St. Johann im Pongau\, Haus der Musik\, kultur:plattform\, Ing. Ludwig-Pech-Straße 7\, St. Johann im Pongau\, 5600\, Österreich
CATEGORIES:Poetry-Slam
ATTACH;FMTTYPE=image/jpeg:https://www.markuskoschuh.at/wp-content/uploads/2020/03/Poetry-Slam.jpg
END:VEVENT
BEGIN:VEVENT
DTSTART;TZID=Europe/Vienna:20210331T200000
DTEND;TZID=Europe/Vienna:20210331T213000
DTSTAMP:20260424T233945
CREATED:20210103T155913Z
LAST-MODIFIED:20210316T125709Z
UID:10000336-1617220800-1617226200@www.markuskoschuh.at
SUMMARY:Oben ohne. Das brandaktuelle Programm!
DESCRIPTION:Veranstaltung leider verschoben! \n„Oben ohne“ bekommt wegen eines Virus eine neue Bedeutung: Politiker\, die immer alles richtig machen\, Nachbarn\, die sich gegenseitig anzeigen\, Erntehelfer und Pflegehelferinnen\, die plötzlich systemrelevante Heldinnen und Helden sind. Was machen Maskenpflicht und Co mit uns und aus uns? „Oben ohne“. Das Programm zur Krise. Gespickt mit zahlreichen saukomischen und nackten Tatsachen – eben: Oben ohne. Das beste kabarettistische Virenschutzprogramm zurzeit! \nMedienecho: „Eines seiner bisher stärksten Programm!“\, „Herzhafte Parodien massieren das Zwerchfall“\, „Make-up wegen Lachtränen unter Wasser“ \nTickets auf oeticket.com
URL:https://www.markuskoschuh.at/event-1/oben-ohne-das-brandaktuelle-programm/
LOCATION:Jenbach\, VZ\, Österreich
CATEGORIES:Kabarett
ATTACH;FMTTYPE=image/png:https://www.markuskoschuh.at/wp-content/uploads/2020/08/Termin-Sujet-Markus-Koschuh.png
END:VEVENT
END:VCALENDAR