BEGIN:VCALENDAR
VERSION:2.0
PRODID:-//Markus Koschuh - ECPv6.15.11//NONSGML v1.0//EN
CALSCALE:GREGORIAN
METHOD:PUBLISH
X-WR-CALNAME:Markus Koschuh
X-ORIGINAL-URL:https://www.markuskoschuh.at
X-WR-CALDESC:Veranstaltungen für Markus Koschuh
REFRESH-INTERVAL;VALUE=DURATION:PT1H
X-Robots-Tag:noindex
X-PUBLISHED-TTL:PT1H
BEGIN:VTIMEZONE
TZID:Europe/Vienna
BEGIN:DAYLIGHT
TZOFFSETFROM:+0100
TZOFFSETTO:+0200
TZNAME:CEST
DTSTART:20210328T010000
END:DAYLIGHT
BEGIN:STANDARD
TZOFFSETFROM:+0200
TZOFFSETTO:+0100
TZNAME:CET
DTSTART:20211031T010000
END:STANDARD
BEGIN:DAYLIGHT
TZOFFSETFROM:+0100
TZOFFSETTO:+0200
TZNAME:CEST
DTSTART:20220327T010000
END:DAYLIGHT
BEGIN:STANDARD
TZOFFSETFROM:+0200
TZOFFSETTO:+0100
TZNAME:CET
DTSTART:20221030T010000
END:STANDARD
BEGIN:DAYLIGHT
TZOFFSETFROM:+0100
TZOFFSETTO:+0200
TZNAME:CEST
DTSTART:20230326T010000
END:DAYLIGHT
BEGIN:STANDARD
TZOFFSETFROM:+0200
TZOFFSETTO:+0100
TZNAME:CET
DTSTART:20231029T010000
END:STANDARD
END:VTIMEZONE
BEGIN:VEVENT
DTSTART;TZID=Europe/Vienna:20220505T180000
DTEND;TZID=Europe/Vienna:20220505T200000
DTSTAMP:20260424T010507
CREATED:20220321T193050Z
LAST-MODIFIED:20220321T193053Z
UID:10000263-1651773600-1651780800@www.markuskoschuh.at
SUMMARY:70 Jahre CIPRA Alpenschutzkommission
DESCRIPTION:
URL:https://www.markuskoschuh.at/event-1/70-jahre-cipra-alpenschutzkommission/
LOCATION:Tirol
END:VEVENT
BEGIN:VEVENT
DTSTART;TZID=Europe/Vienna:20220517T180000
DTEND;TZID=Europe/Vienna:20220517T200000
DTSTAMP:20260424T010507
CREATED:20220430T070337Z
LAST-MODIFIED:20220430T070601Z
UID:10000361-1652810400-1652817600@www.markuskoschuh.at
SUMMARY:Special. Regionalmedien Führungskräftetagung.
DESCRIPTION:Geschlossene Veranstaltung
URL:https://www.markuskoschuh.at/event-1/special-regionalmedien-fuehrungskraeftetagung/
LOCATION:Mils\, Reschenhof\, Bundesstraße 7\, Mils\, Tirol\, 6068\, Österreich
END:VEVENT
BEGIN:VEVENT
DTSTART;TZID=Europe/Vienna:20220520T200000
DTEND;TZID=Europe/Vienna:20220520T220000
DTSTAMP:20260424T010507
CREATED:20220321T193247Z
LAST-MODIFIED:20220321T193250Z
UID:10000264-1653076800-1653084000@www.markuskoschuh.at
SUMMARY:Lach mal wieder. Das Best of.
DESCRIPTION:
URL:https://www.markuskoschuh.at/event-1/lach-mal-wieder-das-best-of-5/
LOCATION:Tirol
END:VEVENT
END:VCALENDAR