BEGIN:VCALENDAR
VERSION:2.0
PRODID:-//Markus Koschuh - ECPv6.15.11//NONSGML v1.0//EN
CALSCALE:GREGORIAN
METHOD:PUBLISH
X-WR-CALNAME:Markus Koschuh
X-ORIGINAL-URL:https://www.markuskoschuh.at
X-WR-CALDESC:Veranstaltungen für Markus Koschuh
REFRESH-INTERVAL;VALUE=DURATION:PT1H
X-Robots-Tag:noindex
X-PUBLISHED-TTL:PT1H
BEGIN:VTIMEZONE
TZID:Europe/Vienna
BEGIN:DAYLIGHT
TZOFFSETFROM:+0100
TZOFFSETTO:+0200
TZNAME:CEST
DTSTART:20210328T010000
END:DAYLIGHT
BEGIN:STANDARD
TZOFFSETFROM:+0200
TZOFFSETTO:+0100
TZNAME:CET
DTSTART:20211031T010000
END:STANDARD
BEGIN:DAYLIGHT
TZOFFSETFROM:+0100
TZOFFSETTO:+0200
TZNAME:CEST
DTSTART:20220327T010000
END:DAYLIGHT
BEGIN:STANDARD
TZOFFSETFROM:+0200
TZOFFSETTO:+0100
TZNAME:CET
DTSTART:20221030T010000
END:STANDARD
BEGIN:DAYLIGHT
TZOFFSETFROM:+0100
TZOFFSETTO:+0200
TZNAME:CEST
DTSTART:20230326T010000
END:DAYLIGHT
BEGIN:STANDARD
TZOFFSETFROM:+0200
TZOFFSETTO:+0100
TZNAME:CET
DTSTART:20231029T010000
END:STANDARD
END:VTIMEZONE
BEGIN:VEVENT
DTSTART;TZID=Europe/Vienna:20220610T180000
DTEND;TZID=Europe/Vienna:20220610T190000
DTSTAMP:20260423T232832
CREATED:20220408T103614Z
LAST-MODIFIED:20220408T103616Z
UID:10000355-1654884000-1654887600@www.markuskoschuh.at
SUMMARY:Tagung Elementarpädagogik Special
DESCRIPTION:
URL:https://www.markuskoschuh.at/event-1/tagung-elementarpaedagogik-special/
LOCATION:bfi Tirol\, Ing.-Etzel-Straße 7\, Innsbruck\, Tirol\, 6020\, Österreich
CATEGORIES:Kabarett,Special
END:VEVENT
BEGIN:VEVENT
DTSTART;TZID=Europe/Vienna:20220611T150000
DTEND;TZID=Europe/Vienna:20220611T160000
DTSTAMP:20260423T232832
CREATED:20220122T094449Z
LAST-MODIFIED:20220122T094451Z
UID:10000354-1654959600-1654963200@www.markuskoschuh.at
SUMMARY:Öko fair - Special
DESCRIPTION:
URL:https://www.markuskoschuh.at/event-1/oeko-fair-special/
LOCATION:Innsbruck\, Messe\, Ing.-Etzel-Straße\, Innsbruck\, 6020\, Österreich
CATEGORIES:Kabarett
ATTACH;FMTTYPE=image/jpeg:https://www.markuskoschuh.at/wp-content/uploads/2020/03/koschuh-termin-messe.jpg
END:VEVENT
BEGIN:VEVENT
DTSTART;TZID=Europe/Vienna:20220617T203000
DTEND;TZID=Europe/Vienna:20220617T220000
DTSTAMP:20260423T232832
CREATED:20220122T094054Z
LAST-MODIFIED:20220617T153112Z
UID:10000353-1655497800-1655503200@www.markuskoschuh.at
SUMMARY:Lach mal wieder! Das Best of. VERSCHOBEN!
DESCRIPTION:
URL:https://www.markuskoschuh.at/event-1/lach-mal-wieder-das-best-of-4/
LOCATION:Tux\, Tux Center\, Lanersbach 401\, Tux\, 6293\, Österreich
CATEGORIES:Kabarett
ATTACH;FMTTYPE=image/jpeg:https://www.markuskoschuh.at/wp-content/uploads/2022/01/koschuh-kabarett-Lach-mal-wieder-tux-Center.jpg
END:VEVENT
BEGIN:VEVENT
DTSTART;TZID=Europe/Vienna:20220620T200000
DTEND;TZID=Europe/Vienna:20220620T210000
DTSTAMP:20260423T232832
CREATED:20220408T101853Z
LAST-MODIFIED:20220408T101856Z
UID:10000267-1655755200-1655758800@www.markuskoschuh.at
SUMMARY:Special zur Caritas-Tagung
DESCRIPTION:
URL:https://www.markuskoschuh.at/event-1/special-zur-caritas-tagung/
LOCATION:Tirol
CATEGORIES:Kabarett,Special
ATTACH;FMTTYPE=image/jpeg:https://www.markuskoschuh.at/wp-content/uploads/2022/01/Markus-Koschuh-jpeg-c-Birgit-Pichler.jpg
END:VEVENT
BEGIN:VEVENT
DTSTART;TZID=Europe/Vienna:20220621T190000
DTEND;TZID=Europe/Vienna:20220621T210000
DTSTAMP:20260423T232832
CREATED:20220321T192838Z
LAST-MODIFIED:20220321T192840Z
UID:10000262-1655838000-1655845200@www.markuskoschuh.at
SUMMARY:Zum Kuckuck. Your voice for a change. Das Open mic
DESCRIPTION:Unter dem Titel „ZUM KUCKUCK“ laden die Tiroler Umweltanwaltschaft\, Patagonia und der Verein Naturgut ab Ende April mehrmals pro Jahr zum „Open Mic“. Unter der Moderation von Kabarettist Markus Koschuh dürfen sich alle Gehör verschaffen\, die etwas zu sagen haben. Aber auch Liedermacher:innen sind herzlich willkommen. Ein als Parkplatz genutzter Innenhof zwischen den Standorten der Tirol Werbung und der TIWAG\, das Landhaus in Hörweite\, wird dafür eigens in einen Veranstaltungsort umgewandelt – ganz nach dem Motto von „ZUM KUCKUCK“: Your voice for a change.Der Auftakt am 27. April wird von den special guests „Von Seiten der Gemeinde“ musikalisch umrahmt und soll Lust auf Mehr machen. Denn „ZUM KUCKUCK“ ist gekommen\, um zu bleiben. Geplant ist pro Termin ein thematischer Schwerpunkt\, der im Vorfeld auf www.tiroler-umweltanwaltschaft.gv.at/zumkuckuck und via social media bekanntgegeben wird.  \n\n\n\nZUM KUCKUCK. Open Mic – your voice for a change. Bei Schlechtwetter findet die Veranstaltung im Patagonia-Store statt. \n\n\n\nAnmeldung für Auftrittswillige: info@zumkuckuck.tirol \n\n\n\nInfo: www.tiroler-umweltanwaltschaft.gv.at/zumkuckuckZUM KUCKUCK ist eine gemeinsame Veranstaltungsreihe von Tiroler Umweltanwaltschaft\, Patagonia und dem Verein Naturgut. Die Tiroler Umweltanwaltschaft ist die Stimme der Natur wenn‘s brenzlig wird\, der Name des Vereins Naturgut spricht für sich und das Bekleidungsunternehmen Patagonia hat sich auf vielen Ebenen dem „social and environmental change“ verschrieben.
URL:https://www.markuskoschuh.at/event-1/zum-kuckuck-your-voice-for-a-change-das-open-mic/
LOCATION:Tirol
END:VEVENT
END:VCALENDAR