BEGIN:VCALENDAR
VERSION:2.0
PRODID:-//Markus Koschuh - ECPv6.15.11//NONSGML v1.0//EN
CALSCALE:GREGORIAN
METHOD:PUBLISH
X-ORIGINAL-URL:https://www.markuskoschuh.at
X-WR-CALDESC:Veranstaltungen für Markus Koschuh
REFRESH-INTERVAL;VALUE=DURATION:PT1H
X-Robots-Tag:noindex
X-PUBLISHED-TTL:PT1H
BEGIN:VTIMEZONE
TZID:Europe/Vienna
BEGIN:DAYLIGHT
TZOFFSETFROM:+0100
TZOFFSETTO:+0200
TZNAME:CEST
DTSTART:20220327T010000
END:DAYLIGHT
BEGIN:STANDARD
TZOFFSETFROM:+0200
TZOFFSETTO:+0100
TZNAME:CET
DTSTART:20221030T010000
END:STANDARD
BEGIN:DAYLIGHT
TZOFFSETFROM:+0100
TZOFFSETTO:+0200
TZNAME:CEST
DTSTART:20230326T010000
END:DAYLIGHT
BEGIN:STANDARD
TZOFFSETFROM:+0200
TZOFFSETTO:+0100
TZNAME:CET
DTSTART:20231029T010000
END:STANDARD
BEGIN:DAYLIGHT
TZOFFSETFROM:+0100
TZOFFSETTO:+0200
TZNAME:CEST
DTSTART:20240331T010000
END:DAYLIGHT
BEGIN:STANDARD
TZOFFSETFROM:+0200
TZOFFSETTO:+0100
TZNAME:CET
DTSTART:20241027T010000
END:STANDARD
END:VTIMEZONE
BEGIN:VEVENT
DTSTART;TZID=Europe/Vienna:20230102T200000
DTEND;TZID=Europe/Vienna:20230102T223000
DTSTAMP:20260423T131418
CREATED:20221027T151852Z
LAST-MODIFIED:20221222T143219Z
UID:10000280-1672689600-1672698600@www.markuskoschuh.at
SUMMARY:Jahrmarkt der Heiterkeiten 2022 - LEIDER ABGESAGT!
DESCRIPTION:*** aus gesundheitlichen Gründen leider abgesagt ***Penibel wird Jahr für Jahr über viel Passiertes\, Absurdes&Skurriles Buch geführt und das Ganze bühnentauglich aufbereitet – und zwar so\, dass man gar nicht anders kann als trotz mancher Tristesse herzhaft zu lachen. Ein Heuler bei Koschuhs Jahrmarkt der Heiterkeiten sind wie immer die High- und Lowlights des Jahres\, das heitere Zitateranking\, die Schnapsidee des Jahres und\, und\, und …Ähnlichkeiten mit handelnden Personen sind leider nicht frei erfunden …Jahrmarkt der Heiterkeiten – der mittlerweile 13. (!) kabarettistische Jahresrückblick mit Biss&Witz!
URL:https://www.markuskoschuh.at/event-1/jahrmarkt-der-heiterkeiten-2022-5/
LOCATION:Innsbruck\, Treibhaus\, Angerzellgasse 8\, 6020 Innsbruck\, Österreich
ATTACH;FMTTYPE=image/jpeg:https://www.markuskoschuh.at/wp-content/uploads/2022/04/koschuh-kabarett-treibhaus-wOHNMACHT.jpg
END:VEVENT
BEGIN:VEVENT
DTSTART;TZID=Europe/Vienna:20230104T200000
DTEND;TZID=Europe/Vienna:20230104T223000
DTSTAMP:20260423T131418
CREATED:20220430T065552Z
LAST-MODIFIED:20221222T143346Z
UID:10000359-1672862400-1672871400@www.markuskoschuh.at
SUMMARY:Jahrmarkt der Heiterkeiten 2022 - LEIDER ABGESAGT!
DESCRIPTION:*** aus gesundheitlichen Gründen leider abgesagt ***Penibel wird Jahr für Jahr über viel Passiertes\, Absurdes&Skurriles Buch geführt und das Ganze bühnentauglich aufbereitet – und zwar so\, dass man gar nicht anders kann als trotz mancher Tristesse herzhaft zu lachen. Ein Heuler bei Koschuhs Jahrmarkt der Heiterkeiten sind wie immer die High- und Lowlights des Jahres\, das heitere Zitateranking\, die Schnapsidee des Jahres und\, und\, und …Ähnlichkeiten mit handelnden Personen sind leider nicht frei erfunden … Jahrmarkt der Heiterkeiten – der mittlerweile 13. (!) kabarettistische Jahresrückblick mit Biss&Witz!
URL:https://www.markuskoschuh.at/event-1/jahrmarkt-der-heiterkeiten-2022-6/
LOCATION:Innsbruck\, Treibhaus\, Angerzellgasse 8\, 6020 Innsbruck\, Österreich
ATTACH;FMTTYPE=image/jpeg:https://www.markuskoschuh.at/wp-content/uploads/2022/04/koschuh-kabarett-treibhaus-wOHNMACHT.jpg
END:VEVENT
BEGIN:VEVENT
DTSTART;TZID=Europe/Vienna:20230105T200000
DTEND;TZID=Europe/Vienna:20230105T223000
DTSTAMP:20260423T131418
CREATED:20220430T065717Z
LAST-MODIFIED:20221222T143536Z
UID:10000360-1672948800-1672957800@www.markuskoschuh.at
SUMMARY:Jahrmarkt der Heiterkeiten 2022 - LEIDER ABGESAGT!
DESCRIPTION:*** aus gesundheitlichen Gründen leider abgesagt ***Penibel wird Jahr für Jahr über viel Passiertes\, Absurdes&Skurriles Buch geführt und das Ganze bühnentauglich aufbereitet – und zwar so\, dass man gar nicht anders kann als trotz mancher Tristesse herzhaft zu lachen. Ein Heuler bei Koschuhs Jahrmarkt der Heiterkeiten sind wie immer die High- und Lowlights des Jahres\, das heitere Zitateranking\, die Schnapsidee des Jahres und\, und\, und …Ähnlichkeiten mit handelnden Personen sind leider nicht frei erfunden … Jahrmarkt der Heiterkeiten – der mittlerweile 13. (!) kabarettistische Jahresrückblick mit Biss&Witz!
URL:https://www.markuskoschuh.at/event-1/jahrmarkt-der-heiterkeiten-2022-7/
LOCATION:Innsbruck\, Treibhaus\, Angerzellgasse 8\, 6020 Innsbruck\, Österreich
ATTACH;FMTTYPE=image/jpeg:https://www.markuskoschuh.at/wp-content/uploads/2022/04/koschuh-kabarett-treibhaus-wOHNMACHT.jpg
END:VEVENT
BEGIN:VEVENT
DTSTART;TZID=Europe/Vienna:20230113T200000
DTEND;TZID=Europe/Vienna:20230113T220000
DTSTAMP:20260423T131418
CREATED:20220129T085257Z
LAST-MODIFIED:20221222T143917Z
UID:10000260-1673640000-1673647200@www.markuskoschuh.at
SUMMARY:Jahrmarkt der Heiterkeiten 2022 - LEIDER ABGESAGT!
DESCRIPTION:*** aus gesundheitlichen Gründen leider abgesagt ***
URL:https://www.markuskoschuh.at/event-1/jahrmarkt-der-heiterkeiten-2022/
LOCATION:Wörgl\, VZ Komma\, KR. Martin-Pichlerstraße 21a\, Wörgl\, 6300\, Österreich
CATEGORIES:Kabarett
ATTACH;FMTTYPE=image/jpeg:https://www.markuskoschuh.at/wp-content/uploads/2022/01/koschuh-kabarett-jahrmarkt-der-heiterkeiten-komma-2022.jpg
END:VEVENT
END:VCALENDAR