BEGIN:VCALENDAR
VERSION:2.0
PRODID:-//Markus Koschuh - ECPv6.15.11//NONSGML v1.0//EN
CALSCALE:GREGORIAN
METHOD:PUBLISH
X-ORIGINAL-URL:https://www.markuskoschuh.at
X-WR-CALDESC:Veranstaltungen für Markus Koschuh
REFRESH-INTERVAL;VALUE=DURATION:PT1H
X-Robots-Tag:noindex
X-PUBLISHED-TTL:PT1H
BEGIN:VTIMEZONE
TZID:Europe/Vienna
BEGIN:DAYLIGHT
TZOFFSETFROM:+0100
TZOFFSETTO:+0200
TZNAME:CEST
DTSTART:20220327T010000
END:DAYLIGHT
BEGIN:STANDARD
TZOFFSETFROM:+0200
TZOFFSETTO:+0100
TZNAME:CET
DTSTART:20221030T010000
END:STANDARD
BEGIN:DAYLIGHT
TZOFFSETFROM:+0100
TZOFFSETTO:+0200
TZNAME:CEST
DTSTART:20230326T010000
END:DAYLIGHT
BEGIN:STANDARD
TZOFFSETFROM:+0200
TZOFFSETTO:+0100
TZNAME:CET
DTSTART:20231029T010000
END:STANDARD
BEGIN:DAYLIGHT
TZOFFSETFROM:+0100
TZOFFSETTO:+0200
TZNAME:CEST
DTSTART:20240331T010000
END:DAYLIGHT
BEGIN:STANDARD
TZOFFSETFROM:+0200
TZOFFSETTO:+0100
TZNAME:CET
DTSTART:20241027T010000
END:STANDARD
END:VTIMEZONE
BEGIN:VEVENT
DTSTART;TZID=Europe/Vienna:20230316T193000
DTEND;TZID=Europe/Vienna:20230316T213000
DTSTAMP:20260423T101545
CREATED:20230208T204027Z
LAST-MODIFIED:20230321T170131Z
UID:10000279-1678995000-1679002200@www.markuskoschuh.at
SUMMARY:wOHNMACHT. Das umjubelte Programm! SALZBURG-PREMIERE
DESCRIPTION:Tickets\n\n\n\n\n\n\n\n\n\n\n\n\n\nReservierung\n\n\n\n\nMarkus Koschuh ist mit „wOHNMACHT“ein neuer Geniestreich gelungen – die Presse überschlägt sich in Lobeshymnen: „Wer herzhaft lachen möchte …kommt bei wOHNMACHT voll auf seine Kosten“ (Tiroler Tageszeitung) „Full-Service Kabarett“\, „wagemutiger als je zuvor“\, „…weiß zu beeindrucken“ (Kronen Zeitung)\, „begeistertes Publikum“\, „absolut sehenswert!“ (Bezirksblätter)\, „genau recherchiert\, grimmig\, bissig!“ (ORF) \n\n\n\nUnd das ist wOHNMACHT: „Wohnen muss wieder leistbar werden!“ Markus Koschuh haut der rot-weiß-roten Politik den Spruch um die Ohren\, eckt an\, rüttelt auf. In „wOHNMACHT“ geht Markus Koschuh hart ins Gericht mit einer mutlosen Politik\, Irrläufern des Lobbyismus\, Banken\, Immobilien- und Grundstückspekulanten und deren Wegbereitern und zeichnet ein aufrüttelndes Bild übler Machenschaften\, die mit dazu führen\, dass halb Österreich unter davongaloppierenden Kosten für Miete oder Hausbau leidet. \n\n\n\nRegie: Der für den Deutschen Schauspielpreis 2022 nominierte Harald Windisch
URL:https://www.markuskoschuh.at/event-1/wohnmacht-das-neue-programm-10-2/
LOCATION:Salzburg\, Kleines Theater\, Schallmooser Hauptstraße 50\, Salzburg\, 5020
CATEGORIES:Kabarett
ATTACH;FMTTYPE=image/jpeg:https://www.markuskoschuh.at/wp-content/uploads/2022/10/koschuh-kabarett-salzburg-kleines-theater-wOHNMACHT.jpg
END:VEVENT
BEGIN:VEVENT
DTSTART;TZID=Europe/Vienna:20230325T190000
DTEND;TZID=Europe/Vienna:20230325T210000
DTSTAMP:20260423T101545
CREATED:20230118T103812Z
LAST-MODIFIED:20230228T102841Z
UID:10000382-1679770800-1679778000@www.markuskoschuh.at
SUMMARY:DANKE Fest Lans
DESCRIPTION:…Viele halfen\, als bei einem Fest der Hut brannte – die Feuerwehr Lans bittet mich\, die vielen Helferleins gebührend zu erheitern und auf diesem Weg Danke zu sagen. Sowas mache ich gerne! Quasi Geschlossene Gesellschaft\, nutzt nix.
URL:https://www.markuskoschuh.at/event-1/danke-fest-lans/
LOCATION:Lans\, Drehscheibe\, Dorfstraße 42\, Lans\, Tirol\, 6072\, Österreich
ATTACH;FMTTYPE=image/jpeg:https://www.markuskoschuh.at/wp-content/uploads/2022/11/koschuh_obenohne_TOB0090-scaled-e1667924563455.jpg
END:VEVENT
BEGIN:VEVENT
DTSTART;TZID=Europe/Vienna:20230330T193000
DTEND;TZID=Europe/Vienna:20230330T213000
DTSTAMP:20260423T101545
CREATED:20221209T141839Z
LAST-MODIFIED:20230321T182826Z
UID:10000377-1680204600-1680211800@www.markuskoschuh.at
SUMMARY:wOHNMACHT. Das umjubelte Programm! VORARLBERG-PREMIERE
DESCRIPTION:Tickets\n\n\n\n\n\n\n\n\n\n\n\n\n\n\n\n\n\n\nMarkus Koschuh ist mit „wOHNMACHT“ein neuer Geniestreich gelungen – die Presse überschlägt sich in Lobeshymnen: „Wer herzhaft lachen möchte …kommt bei wOHNMACHT voll auf seine Kosten“ (Tiroler Tageszeitung) „Full-Service Kabarett“\, „wagemutiger als je zuvor“\, „…weiß zu beeindrucken“ (Kronen Zeitung)\, „begeistertes Publikum“\, „absolut sehenswert!“ (Bezirksblätter)\, „genau recherchiert\, grimmig\, bissig!“ (ORF) \n\n\n\nUnd das ist wOHNMACHT: „Wohnen muss wieder leistbar werden!“ Markus Koschuh haut der rot-weiß-roten Politik den Spruch um die Ohren\, eckt an\, rüttelt auf. In „wOHNMACHT“ geht Markus Koschuh hart ins Gericht mit einer mutlosen Politik\, Irrläufern des Lobbyismus\, Banken\, Immobilien- und Grundstückspekulanten und deren Wegbereitern und zeichnet ein aufrüttelndes Bild übler Machenschaften\, die mit dazu führen\, dass halb Österreich unter davongaloppierenden Kosten für Miete oder Hausbau leidet. \n\n\n\nRegie: Der für den Deutschen Schauspielpreis 2022 nominierte Harald Windisch \n\n\n\nKartenbestellung und VorverkaufDirekt im Saumarkt: \n\n\n\nTel. 0043 (0)5522 72895E-Mail: office@saumarkt.at(Tickets Kinderveranstaltungen ausschließlich direkt über Saumarkt)Vorverkauf: \n\n\n\nV-Ticket: Online auf www.v-ticket.at oder bei Stadtkultur und KommunikationFeldkirch GmbH\, Tel. 0043 5522 73467 od. per Email: karten@feldkirch.atländleTICKET: Kartenvorverkauf auch in allen ländleTICKETVorverkaufsstellen\, in allen Raiffeisenbanken und Sparkassen in ganzVorarlberg\, sowie online auf www.laendleticket.com
URL:https://www.markuskoschuh.at/event-1/wohnmacht-das-umjubelte-programm-vorarlberg-premiere/
LOCATION:Feldkirch\, Theater am Saumarkt\, Mühletorplatz 1\, Feldkirch\, Vorarlberg\, 6800\, Österreich
ATTACH;FMTTYPE=image/jpeg:https://www.markuskoschuh.at/wp-content/uploads/2022/10/koschuh-wohnmacht-Website-1120x630px.jpg
END:VEVENT
BEGIN:VEVENT
DTSTART;TZID=Europe/Vienna:20230331T200000
DTEND;TZID=Europe/Vienna:20230331T230000
DTSTAMP:20260423T101545
CREATED:20221206T044117Z
LAST-MODIFIED:20230321T183026Z
UID:10000375-1680292800-1680303600@www.markuskoschuh.at
SUMMARY:Spoken Word Tage St. Johann
DESCRIPTION:Sechs der besten Poetry-Slammer*innen aus dem deutschsprachigen Raum performen am 31. März und 1. April 2023 dem Publikum ihre wortgewaltigen Texte um die Ohren. Lernen Sie die Troubadours und Minnesänger von heute kennen und erleben Sie sprühende Bühnenpoesie zum Hören und Sehen! \n\n\n\nDurch den Freitagabend führt Markus Koschuh aus Innsbruck. Gemeinsam mit Anna-Lena Obermoser (Graz) und Marvin Suckut (Konstanz) sorgt er für ein hochkarätiges Line-up. Den Samstag bestreitet Anna Hader (Wien) mit der amtierenden Ö-Slam-Staatsmeisterin Elif Duygu (Wien) und Felix Treder (Hamburg). Für Details zu den Poet*innen bitte Registerkarte „Poetinnen und Poeten“ aufrufen. \n\n\n\nBeide Abende werden musikalisch eröffnet und begleitet durch unsere Haus- und Hof-DJs „Dei Mama & Kafunkl“. \n\n\n\nKultur-Plattform.at
URL:https://www.markuskoschuh.at/event-1/spoken-word-tage-st-johann-2/
LOCATION:St. Johann im Pongau\, Haus der Musik\, kultur:plattform\, Ing. Ludwig-Pech-Straße 7\, St. Johann im Pongau\, 5600\, Österreich
ATTACH;FMTTYPE=image/jpeg:https://www.markuskoschuh.at/wp-content/uploads/2022/01/koschuh-kabarett-st-johann-.jpg
END:VEVENT
END:VCALENDAR