BEGIN:VCALENDAR
VERSION:2.0
PRODID:-//Markus Koschuh - ECPv6.15.11//NONSGML v1.0//EN
CALSCALE:GREGORIAN
METHOD:PUBLISH
X-WR-CALNAME:Markus Koschuh
X-ORIGINAL-URL:https://www.markuskoschuh.at
X-WR-CALDESC:Veranstaltungen für Markus Koschuh
REFRESH-INTERVAL;VALUE=DURATION:PT1H
X-Robots-Tag:noindex
X-PUBLISHED-TTL:PT1H
BEGIN:VTIMEZONE
TZID:Europe/Vienna
BEGIN:DAYLIGHT
TZOFFSETFROM:+0100
TZOFFSETTO:+0200
TZNAME:CEST
DTSTART:20220327T010000
END:DAYLIGHT
BEGIN:STANDARD
TZOFFSETFROM:+0200
TZOFFSETTO:+0100
TZNAME:CET
DTSTART:20221030T010000
END:STANDARD
BEGIN:DAYLIGHT
TZOFFSETFROM:+0100
TZOFFSETTO:+0200
TZNAME:CEST
DTSTART:20230326T010000
END:DAYLIGHT
BEGIN:STANDARD
TZOFFSETFROM:+0200
TZOFFSETTO:+0100
TZNAME:CET
DTSTART:20231029T010000
END:STANDARD
BEGIN:DAYLIGHT
TZOFFSETFROM:+0100
TZOFFSETTO:+0200
TZNAME:CEST
DTSTART:20240331T010000
END:DAYLIGHT
BEGIN:STANDARD
TZOFFSETFROM:+0200
TZOFFSETTO:+0100
TZNAME:CET
DTSTART:20241027T010000
END:STANDARD
END:VTIMEZONE
BEGIN:VEVENT
DTSTART;TZID=Europe/Vienna:20230504T190000
DTEND;TZID=Europe/Vienna:20230504T210000
DTSTAMP:20260423T071822
CREATED:20230323T131829Z
LAST-MODIFIED:20230403T112643Z
UID:10000393-1683226800-1683234000@www.markuskoschuh.at
SUMMARY:Zum Kuckuck. Das Open Mic.
DESCRIPTION:Tickets\n\n\n\n\n\n\n\n\n\n\n\n\n\n\n\n\n\n\n„ZUM KUCKUCK – Your voice for a change“ bietet eine Bühne für alle\, die ihre Stimme erheben wollen: Für Natur und Umwelt\, das Klima\, unseren Planeten\, unsere Lebensqualität.Wir stellen Dir eine Bühne\, ein Mikrofon und fünf Minuten zur Verfügung. \n\n\n\nSag was\, lies was\, erhebe deine Stimme! Auch Liedermacher:innen sind gerne willkommen! Anmeldung unter: info@zumkuckuck.tirol \n\n\n\n EINTRITT FREIi!ZUM KUCKUCK – OPEN MIC your voice for a change 4. Mai + 21. September\, 19 Uhr.Patagonia Store Innsbruck. Moderation: Markus KoschuhEin Event von Tiroler Umweltanwaltschaft\, Patagonia und Verein Naturgut.
URL:https://www.markuskoschuh.at/event-1/zum-kuckuck-das-open-mic-2/
LOCATION:Innsbruck\, Patagonia Store\, Maria-Theresien-Straße 57\, 6020 Innsbruck\, Österreich
ATTACH;FMTTYPE=image/jpeg:https://www.markuskoschuh.at/wp-content/uploads/2022/10/Zum_Kuckuck_Quer_Web_Text.jpg
END:VEVENT
BEGIN:VEVENT
DTSTART;TZID=Europe/Vienna:20230505T200000
DTEND;TZID=Europe/Vienna:20230505T220000
DTSTAMP:20260423T071822
CREATED:20221209T142308Z
LAST-MODIFIED:20230321T183709Z
UID:10000378-1683316800-1683324000@www.markuskoschuh.at
SUMMARY:wOHNMACHT. Das umjubelte Programm! Hall
DESCRIPTION:Tickets\n\n\n\n\n\n\n\n\n\n\n\n\n\n\n\n\n\n\nMarkus Koschuh ist mit „wOHNMACHT“ein neuer Geniestreich gelungen – die Presse überschlägt sich in Lobeshymnen: „Wer herzhaft lachen möchte …kommt bei wOHNMACHT voll auf seine Kosten“ (Tiroler Tageszeitung) „Full-Service Kabarett“\, „wagemutiger als je zuvor“\, „…weiß zu beeindrucken“ (Kronen Zeitung)\, „begeistertes Publikum“\, „absolut sehenswert!“ (Bezirksblätter)\, „genau recherchiert\, grimmig\, bissig!“ (ORF) \n\n\n\nUnd das ist wOHNMACHT: „Wohnen muss wieder leistbar werden!“ Markus Koschuh haut der rot-weiß-roten Politik den Spruch um die Ohren\, eckt an\, rüttelt auf. In „wOHNMACHT“ geht Markus Koschuh hart ins Gericht mit einer mutlosen Politik\, Irrläufern des Lobbyismus\, Banken\, Immobilien- und Grundstückspekulanten und deren Wegbereitern und zeichnet ein aufrüttelndes Bild übler Machenschaften\, die mit dazu führen\, dass halb Österreich unter davongaloppierenden Kosten für Miete oder Hausbau leidet. \n\n\n\nRegie: Der für den Deutschen Schauspielpreis 2022 nominierte Harald Windisch \n\n\n\nKurhaus\, Stadtgraben 17\, 6060 Stadt Hall in Tirol\, Einlass Foyer 19:00 Uhr \n\n\n\nTickets: https://kupfticket.com/events/markuskoschuh
URL:https://www.markuskoschuh.at/event-1/wohnmacht-das-umjubelte-programm-5/
LOCATION:Hall\, Kurhaus\, Stadtgraben 17\, Hall\, 6060\, Österreich
ATTACH;FMTTYPE=image/jpeg:https://www.markuskoschuh.at/wp-content/uploads/2022/10/koschuh-wohnmacht-Website-1120x630px.jpg
END:VEVENT
BEGIN:VEVENT
DTSTART;TZID=Europe/Vienna:20230506T193000
DTEND;TZID=Europe/Vienna:20230506T220000
DTSTAMP:20260423T071822
CREATED:20221222T144538Z
LAST-MODIFIED:20230321T181734Z
UID:10000379-1683401400-1683410400@www.markuskoschuh.at
SUMMARY:wOHNMACHT. Das umjubelte Programm! Silz
DESCRIPTION:Tickets\n\n\n\n\n\n\n\n\n\n\n\n\n\n\n\n\n\n\nMarkus Koschuh ist mit „wOHNMACHT“ein neuer Geniestreich gelungen – die Presse überschlägt sich in Lobeshymnen: „Wer herzhaft lachen möchte …kommt bei wOHNMACHT voll auf seine Kosten“ (Tiroler Tageszeitung) „Full-Service Kabarett“\, „wagemutiger als je zuvor“\, „…weiß zu beeindrucken“ (Kronen Zeitung)\, „begeistertes Publikum“\, „absolut sehenswert!“ (Bezirksblätter)\, „genau recherchiert\, grimmig\, bissig!“ (ORF) \n\n\n\nUnd das ist wOHNMACHT: „Wohnen muss wieder leistbar werden!“ Markus Koschuh haut der rot-weiß-roten Politik den Spruch um die Ohren\, eckt an\, rüttelt auf. In „wOHNMACHT“ geht Markus Koschuh hart ins Gericht mit einer mutlosen Politik\, Irrläufern des Lobbyismus\, Banken\, Immobilien- und Grundstückspekulanten und deren Wegbereitern und zeichnet ein aufrüttelndes Bild übler Machenschaften\, die mit dazu führen\, dass halb Österreich unter davongaloppierenden Kosten für Miete oder Hausbau leidet. \n\n\n\nRegie: Der für den Deutschen Schauspielpreis 2022 nominierte Harald Windisch \n\n\n\nTICKETS unter Tel: 05263/6219oder Raika Silz\, Gemeindeamt Silz\, Elektro Dablander \n\n\n\nVeranstaltungsort Jugendheim Silz
URL:https://www.markuskoschuh.at/event-1/wohnmacht-das-umjubelte-programm-6/
LOCATION:Tirol
ATTACH;FMTTYPE=image/jpeg:https://www.markuskoschuh.at/wp-content/uploads/2022/10/koschuh-wohnmacht-Website-1120x630px.jpg
END:VEVENT
BEGIN:VEVENT
DTSTART;TZID=Europe/Vienna:20230508T200000
DTEND;TZID=Europe/Vienna:20230508T213000
DTSTAMP:20260423T071822
CREATED:20230317T075344Z
LAST-MODIFIED:20230321T183808Z
UID:10000387-1683576000-1683581400@www.markuskoschuh.at
SUMMARY:Premiere: INNS‘ STINKTS.
DESCRIPTION:Tickets\n\n\n\n\n\n\n\n\n\n\n\n\n\n\n\n\n\n\n5 JAHRE GEMEINDERATSKÄSE. DIE BILANZ. \n\n\n\nDie „Willi oder will i nit“-Bilanz zu 5 Jahren grünem Kaktus in 6020Provinnzbruck\, tief fliegenden Hackln\, Fouls und Versagen. Featuring „Freies Spiel der Kräfte“. Lachen hilft – wir haben keine andere Wahl.  \n\n\n\nDas Klima im Rathaus von Tirols Landeshauptstadt Innsbruck ist dermaßen kaputt\, dass sich nicht einmal mehr Klimaaktivisten finden wollen\, die sich an den Bürgermeisterbalkon kleben. Die Chance auf Errettung ist gleich Null. Wundert’s wen? Nach zwei Mal Olympia ist Innsbruck seit Jahren Austragungsort der 1. Hackl-ins-Kreuz-hau-Weltmeisterschaft. Wer kann wen nicht riechen – und warum\, weshalb und so?Das erste reine Landeshauptstadtprogramm von Markus Koschuh mit dem richtigen Riecher für Vieles\, das zum Himmel stinkt. für Nicht-Innsbrucker&Innen inklusive Aha-Effekt\, für Innsbrucker&Innen gibt’s Kopfwehtabletten\, solange der Vorrat reicht. \n\n\n\nINNS‘ STINKTS – Die kabarettistische Sondersitzung zu 5 Jahren Gemeinderatsqual. Denn wenn nix mehr hilft: Lachen hilft immer. \n\n\n\nOrt: Treibhaus \n\n\n\nPREMIERE: 8. MAI\, INNSBRUCK\, Treibhaus.20.5. + 8/12/17/18/19. Juni. Karten demnächst auf http://www.treibhaus.at
URL:https://www.markuskoschuh.at/event-1/premiere-inns-stinkts/
LOCATION:Innsbruck\, Treibhaus\, Angerzellgasse 8\, 6020 Innsbruck\, Österreich
ATTACH;FMTTYPE=image/jpeg:https://www.markuskoschuh.at/wp-content/uploads/2023/03/koschuh_c_Thomas_Boehm3web.jpg
END:VEVENT
BEGIN:VEVENT
DTSTART;TZID=Europe/Vienna:20230512T200000
DTEND;TZID=Europe/Vienna:20230512T220000
DTSTAMP:20260423T071822
CREATED:20221117T153201Z
LAST-MODIFIED:20230321T181152Z
UID:10000284-1683921600-1683928800@www.markuskoschuh.at
SUMMARY:wOHNMACHT. Das umjubelte Programm! Komma
DESCRIPTION:Tickets\n\n\n\n\n\n\n\n\n\n\n\n\n\n\n\n\n\n\nKabarettist Markus Koschuh ist mit „wOHNMACHT“ein neuer Geniestreich gelungen – die Presse überschlägt sich in Lobeshymnen: „Wer herzhaft lachen möchte …kommt bei wOHNMACHT voll auf seine Kosten“ (Tiroler Tageszeitung) „Full-Service Kabarett“\, „wagemutiger als je zuvor“\, „…weiß zu beeindrucken“ (Kronen Zeitung)\, „begeistertes Publikum“\, „absolut sehenswert!“ (Bezirksblätter)\, „genau recherchiert\, grimmig\, bissig!“ (ORF) \n\n\n\nUnd das ist wOHNMACHT: „Wohnen muss wieder leistbar werden!“ Markus Koschuh haut der rot-weiß-roten Politik den Spruch um die Ohren\, eckt an\, rüttelt auf. In „wOHNMACHT“ geht Markus Koschuh hart ins Gericht mit einer mutlosen Politik\, Irrläufern des Lobbyismus\, Banken\, Immobilien- und Grundstückspekulanten und deren Wegbereitern und zeichnet ein aufrüttelndes Bild übler Machenschaften\, die mit dazu führen\, dass halb Österreich und da vor allem Tirol unter davongaloppierenden Kosten für Miete oder Hausbau leidet. Regie: Der für den Deutschen Schauspielpreis 2022 nominierte Harald Windisch \n\n\n\nTickets: www.komma.at (auch Reservierung möglich)\, oeticket.com\, Buch Zangerl
URL:https://www.markuskoschuh.at/event-1/wohnmacht-das-umjubelte-programm-4/
LOCATION:Wörgl\, VZ Komma\, KR. Martin-Pichlerstraße 21a\, Wörgl\, 6300\, Österreich
ATTACH;FMTTYPE=image/jpeg:https://www.markuskoschuh.at/wp-content/uploads/2022/12/koschuh-kabarett-wOHNMACHT-VZ-Komma-Woergl.jpg
END:VEVENT
BEGIN:VEVENT
DTSTART;TZID=Europe/Vienna:20230520T200000
DTEND;TZID=Europe/Vienna:20230520T213000
DTSTAMP:20260423T071822
CREATED:20230317T075738Z
LAST-MODIFIED:20230321T181313Z
UID:10000386-1684612800-1684618200@www.markuskoschuh.at
SUMMARY:INNS‘ STINKTS.
DESCRIPTION:Tickets\n\n\n\n\n\n\n\n\n\n\n\n\n\n\n\n\n\n\n5 JAHRE GEMEINDERATSKÄSE.  DIE BILANZ. \n\n\n\nDie „Willi oder will i nit“-Bilanz zu 5 Jahren grünem Kaktus in 6020Provinnzbruck\, tief fliegenden Hackln\, Fouls und Versagen. Featuring „Freies Spiel der Kräfte“. Lachen hilft – wir haben keine andere Wahl.  \n\n\n\nDas Klima im Rathaus von Tirols Landeshauptstadt Innsbruck ist dermaßen kaputt\, dass sich nicht einmal mehr Klimaaktivisten finden wollen\, die sich an den Bürgermeisterbalkon kleben. Die Chance auf Errettung ist gleich Null. Wundert’s wen? Nach zwei Mal Olympia ist Innsbruck seit Jahren Austragungsort der 1. Hackl-ins-Kreuz-hau-Weltmeisterschaft. Wer kann wen nicht riechen – und warum\, weshalb und so?Das erste reine Landeshauptstadtprogramm von Markus Koschuh mit dem richtigen Riecher für Vieles\, das zum Himmel stinkt. für Nicht-Innsbrucker&Innen inklusive Aha-Effekt\, für Innsbrucker&Innen gibt’s Kopfwehtabletten\, solange der Vorrat reicht. \n\n\n\nINNS‘ STINKTS – Die kabarettistische Sondersitzung zu 5 Jahren Gemeinderatsqual. Denn wenn nix mehr hilft: Lachen hilft immer. \n\n\n\nPREMIERE: 8. MAI\, INNSBRUCK\, Treibhaus.20.5. + 8/12/17/18/19. Juni. Karten demnächst auf http://www.treibhaus.at
URL:https://www.markuskoschuh.at/event-1/premiere-inns-stinkts-2/
LOCATION:Innsbruck\, Treibhaus\, Angerzellgasse 8\, 6020 Innsbruck\, Österreich
ATTACH;FMTTYPE=image/jpeg:https://www.markuskoschuh.at/wp-content/uploads/2023/03/koschuh_c_Thomas_Boehm3web.jpg
END:VEVENT
END:VCALENDAR