BEGIN:VCALENDAR
VERSION:2.0
PRODID:-//Markus Koschuh - ECPv6.15.11//NONSGML v1.0//EN
CALSCALE:GREGORIAN
METHOD:PUBLISH
X-WR-CALNAME:Markus Koschuh
X-ORIGINAL-URL:https://www.markuskoschuh.at
X-WR-CALDESC:Veranstaltungen für Markus Koschuh
REFRESH-INTERVAL;VALUE=DURATION:PT1H
X-Robots-Tag:noindex
X-PUBLISHED-TTL:PT1H
BEGIN:VTIMEZONE
TZID:Europe/Vienna
BEGIN:DAYLIGHT
TZOFFSETFROM:+0100
TZOFFSETTO:+0200
TZNAME:CEST
DTSTART:20220327T010000
END:DAYLIGHT
BEGIN:STANDARD
TZOFFSETFROM:+0200
TZOFFSETTO:+0100
TZNAME:CET
DTSTART:20221030T010000
END:STANDARD
BEGIN:DAYLIGHT
TZOFFSETFROM:+0100
TZOFFSETTO:+0200
TZNAME:CEST
DTSTART:20230326T010000
END:DAYLIGHT
BEGIN:STANDARD
TZOFFSETFROM:+0200
TZOFFSETTO:+0100
TZNAME:CET
DTSTART:20231029T010000
END:STANDARD
BEGIN:DAYLIGHT
TZOFFSETFROM:+0100
TZOFFSETTO:+0200
TZNAME:CEST
DTSTART:20240331T010000
END:DAYLIGHT
BEGIN:STANDARD
TZOFFSETFROM:+0200
TZOFFSETTO:+0100
TZNAME:CET
DTSTART:20241027T010000
END:STANDARD
END:VTIMEZONE
BEGIN:VEVENT
DTSTART;TZID=Europe/Vienna:20230909T200000
DTEND;TZID=Europe/Vienna:20230909T223000
DTSTAMP:20260423T015209
CREATED:20230803T105941Z
LAST-MODIFIED:20230818T104637Z
UID:10000415-1694289600-1694298600@www.markuskoschuh.at
SUMMARY:wOHNMACHT. Das umjubelte Programm!
DESCRIPTION:Pettneu am Arlberg\, Neuer Gemeindesaal \n\n\n\n\nTickets\n\n\n\n\n\n\n\n\n\n\n\n\n\n\n\n\n\n\nwOHNMACHT.  „Wohnen muss wieder leistbar werden!“ Markus Koschuh haut der rot-weiß-roten Politik den Spruch um die Ohren\, eckt an\, rüttelt auf. Ein irrer&witziger Hilferuf stellvertretend für viele. In „wOHNMACHT“ geht Markus Koschuh hart ins Gericht mit einer mutlosen Politik\, Irrläufern des Lobbyismus\, Banken\, Immobilien- und Grundstückspekulanten und deren Wegbereitern und zeichnet ein aufrüttelndes Bild übler Machenschaften\, die mit dazu führen\, dass halb Österreich und da vor allem Tirol unter davongaloppierenden Kosten für Miete oder Hausbau leidet. Regie: Der für den Deutschen Schauspielpreis 2022 nominierte Harald Windisch.Penible Recherche\, satirische Überhöhung\, aberwitzige Rasanz und Körperlichkeit – das zeichnet Koschuhs Programme aus. wOHNMACHT erhielt 2022 das Österreichische Kabarettstipendium.   Die Presse überschlägt sich in Lobeshymnen:„Wer herzhaft lachen möchte … kommt bei wOHNMACHT voll auf seine Kosten“\, „Full-Service Kabarett“\,  „begeistertes Publikum“\, „absolut sehenswert!“\, „genau recherchiert\, grimmig\, bissig!“  \n\n\n\nEine Veranstaltung der Quality Hosts Arlberg \n\n\n\nHier gibt´s Tickets
URL:https://www.markuskoschuh.at/event-1/wohnmacht-das-umjubelte-programm-16/
LOCATION:Pettneu\, Neuer Gemeindesaal\, 6574 Pettneu am Arlberg 152
ATTACH;FMTTYPE=image/jpeg:https://www.markuskoschuh.at/wp-content/uploads/2023/08/koschuh-kabarett-wOHNMACHT-St-Anton-Pettneu.jpg
END:VEVENT
BEGIN:VEVENT
DTSTART;TZID=Europe/Vienna:20230920T200000
DTEND;TZID=Europe/Vienna:20230920T223000
DTSTAMP:20260423T015209
CREATED:20230623T185429Z
LAST-MODIFIED:20230818T104450Z
UID:10000408-1695240000-1695249000@www.markuskoschuh.at
SUMMARY:wOHNMACHT. Das umjubelte Programm!
DESCRIPTION:St. Johann in Tirol\, Alte Gerberei \n\n\n\n\nTickets\n\n\n\n\n\n\n\n\n\n\n\n\n\n\n\n\n\n\nwOHNMACHT.  „Wohnen muss wieder leistbar werden!“ Markus Koschuh haut der rot-weiß-roten Politik den Spruch um die Ohren\, eckt an\, rüttelt auf. Ein irrer&witziger Hilferuf stellvertretend für viele. In „wOHNMACHT“ geht Markus Koschuh hart ins Gericht mit einer mutlosen Politik\, Irrläufern des Lobbyismus\, Banken\, Immobilien- und Grundstückspekulanten und deren Wegbereitern und zeichnet ein aufrüttelndes Bild übler Machenschaften\, die mit dazu führen\, dass halb Österreich und da vor allem Tirol unter davongaloppierenden Kosten für Miete oder Hausbau leidet. Regie: Der für den Deutschen Schauspielpreis 2022 nominierte Harald Windisch.Penible Recherche\, satirische Überhöhung\, aberwitzige Rasanz und Körperlichkeit – das zeichnet Koschuhs Programme aus. wOHNMACHT erhielt 2022 das Österreichische Kabarettstipendium. \n\n\n\nDie Presse überschlägt sich in Lobeshymnen:„Wer herzhaft lachen möchte … kommt bei wOHNMACHT voll auf seine Kosten“\, „Full-Service Kabarett“\,  „begeistertes Publikum“\, „absolut sehenswert!“\, „genau recherchiert\, grimmig\, bissig!“ \n\n\n\nHier gibt´s Tickets
URL:https://www.markuskoschuh.at/event-1/wohnmacht-das-umjubelte-programm-12/
LOCATION:St. Johann in Tirol\, Alte Gerberei\, Lederergasse 5\, 6380 St. Johann in Tirol
ATTACH;FMTTYPE=image/jpeg:https://www.markuskoschuh.at/wp-content/uploads/2023/06/koschuh-kabarett-wohnmacht-Sankt-Johann-in-Tirol.jpg
END:VEVENT
BEGIN:VEVENT
DTSTART;TZID=Europe/Vienna:20230921T200000
DTEND;TZID=Europe/Vienna:20230921T220000
DTSTAMP:20260423T015209
CREATED:20230816T100206Z
LAST-MODIFIED:20230818T103715Z
UID:10000416-1695326400-1695333600@www.markuskoschuh.at
SUMMARY:INNS‘ STINKTS.
DESCRIPTION:Innsbruck\, Treibhaus \n\n\n\nTickets\n\n\n\n\n\n\n\n\n\n\n\n\n\n\n\n\n\n\n5 JAHRE GEMEINDERATSKÄSE.  DIE BILANZ. \n\n\n\nDie „Willi oder will i nit“-Bilanz zu 5 Jahren grünem Kaktus in 6020Provinnzbruck\, tief fliegenden Hackln\, Fouls und Versagen. Featuring „Freies Spiel der Kräfte“. Lachen hilft – wir haben keine andere Wahl.  \n\n\n\nDas Klima im Rathaus von Tirols Landeshauptstadt Innsbruck ist dermaßen kaputt\, dass sich nicht einmal mehr Klimaaktivisten finden wollen\, die sich an den Bürgermeisterbalkon kleben. Die Chance auf Errettung ist gleich Null. Wundert’s wen? Nach zwei Mal Olympia ist Innsbruck seit Jahren Austragungsort der 1. Hackl-ins-Kreuz-hau-Weltmeisterschaft. Wer kann wen nicht riechen – und warum\, weshalb und so?Das erste reine Landeshauptstadtprogramm von Markus Koschuh mit dem richtigen Riecher für Vieles\, das zum Himmel stinkt. für Nicht-Innsbrucker&Innen inklusive Aha-Effekt\, für Innsbrucker&Innen gibt’s Kopfwehtabletten\, solange der Vorrat reicht. \n\n\n\nINNS‘ STINKTS – Die kabarettistische Sondersitzung zu 5 Jahren Gemeinderatsqual. Denn wenn nix mehr hilft: Lachen hilft immer. \n\n\n\nOrt: Treibhaus \n\n\n\nKarten auf http://www.treibhaus.at
URL:https://www.markuskoschuh.at/event-1/inns-stinkts-5/
LOCATION:Innsbruck\, Treibhaus\, Angerzellgasse 8\, 6020 Innsbruck\, Österreich
ATTACH;FMTTYPE=image/jpeg:https://www.markuskoschuh.at/wp-content/uploads/2023/08/markus-koschuh-innsbruck.jpg
END:VEVENT
BEGIN:VEVENT
DTSTART;TZID=Europe/Vienna:20230922T200000
DTEND;TZID=Europe/Vienna:20230922T223000
DTSTAMP:20260423T015209
CREATED:20230816T101806Z
LAST-MODIFIED:20230820T175049Z
UID:10000603-1695412800-1695421800@www.markuskoschuh.at
SUMMARY:wOHNMACHT. Das umjubelte Programm!
DESCRIPTION:Innsbruck\, Treibhaus \n\n\n\n\nTickets\n\n\n\n\n\n\n\n\n\n\n\n\n\n\n\n\n\n\n„Wohnen muss wieder leistbar werden!“ Koschuh haut der Politik den Spruch um die Ohren. Ein irrer&witziger Hilferuf denn: Lachen ist die halbe Miete. „Bissig\, genau recherchiert!“ (ORF).  Regie: Harald Windisch \n\n\n\nNach der Premiere im Herbst ’22 im Treibhaus-Turm und Ausflügen in Bundesländer und Bundeshauptstadt bringt Markus Koschuh sein viel umjubeltes Programm wOHNMACHT zurück in den Treibhaus-Turm. \n\n\n\nNa? Auch längst die Schnauze voll von seit Jahrzehten plakatierten Wahlplakaten mit Sprüchen wie „Wohnen muss wieder leistbar werden!“? In wOHNMACHT geht Koschuh hart ins Gericht mit einer mutlosen Politik\, Irrläufern des Lobbyismus\, Banken\, Immobilien- und Grundstückspekulanten und deren Wegbereitern und zeichnet ein aufrüttelndes Bild übler Machenschaften\, die mit dazu führen\, dass halb Österreich und vor allem Tirol zum Eldorado der Preistreiberei geworden ist. „wOHNMACHT“ ist ein Empörungsprogramm in Sachen Wohnen\, das aufrüttelt\, aufzeigt und aneckt – oder: Ein eindringlicher kabarettistischer Weckruf an die Politik und irgendwie auch ein Hilferuf stellvertretend für viele. \n\n\n\nDas Medienecho ist eindeutig: \n\n\n\n„Wer herzhaft lachen möchte … kommt bei wOHNMACHT voll auf seine Kosten“\,  (Tiroler Tageszeitung)\, „Full-Service Kabarett“ (Kronen Zeitung)\,  „absolut sehenswert!“\, „begeistertes Publikum“ (Bezirksblätter)\, „beeindruckende Performance“ (Die Presse)\, „genau recherchiert\, grimmig\, bissig!“ (ORF) \n\n\n\nwOHNMACHT. Österreichisches Kabarettstipendium 2022.Regie: Harald Windisch \n\n\n\nTickets: www.treibhaus.at
URL:https://www.markuskoschuh.at/event-1/wohnmacht-das-umjubelte-programm-17/
LOCATION:Innsbruck\, Treibhaus\, Angerzellgasse 8\, 6020 Innsbruck\, Österreich
ATTACH;FMTTYPE=image/jpeg:https://www.markuskoschuh.at/wp-content/uploads/2022/06/koschuh-kabarett-Venue-wOHNMACHT.jpg
END:VEVENT
BEGIN:VEVENT
DTSTART;TZID=Europe/Vienna:20230923T200000
DTEND;TZID=Europe/Vienna:20230923T223000
DTSTAMP:20260423T015209
CREATED:20230816T105657Z
LAST-MODIFIED:20230820T175204Z
UID:10000604-1695499200-1695508200@www.markuskoschuh.at
SUMMARY:wOHNMACHT. Das umjubelte Programm!
DESCRIPTION:Innsbruck\, Treibhaus \n\n\n\n\nTickets\n\n\n\n\n\n\n\n\n\n\n\n\n\n\n\n\n\n\n„Wohnen muss wieder leistbar werden!“ Koschuh haut der Politik den Spruch um die Ohren. Ein irrer&witziger Hilferuf denn: Lachen ist die halbe Miete. „Bissig\, genau recherchiert!“ (ORF).  Regie: Harald Windisch \n\n\n\nNach der Premiere im Herbst ’22 im Treibhaus-Turm und Ausflügen in Bundesländer und Bundeshauptstadt bringt Markus Koschuh sein viel umjubeltes Programm wOHNMACHT zurück in den Treibhaus-Turm. \n\n\n\nNa? Auch längst die Schnauze voll von seit Jahrzehten plakatierten Wahlplakaten mit Sprüchen wie „Wohnen muss wieder leistbar werden!“? In wOHNMACHT geht Koschuh hart ins Gericht mit einer mutlosen Politik\, Irrläufern des Lobbyismus\, Banken\, Immobilien- und Grundstückspekulanten und deren Wegbereitern und zeichnet ein aufrüttelndes Bild übler Machenschaften\, die mit dazu führen\, dass halb Österreich und vor allem Tirol zum Eldorado der Preistreiberei geworden ist. „wOHNMACHT“ ist ein Empörungsprogramm in Sachen Wohnen\, das aufrüttelt\, aufzeigt und aneckt – oder: Ein eindringlicher kabarettistischer Weckruf an die Politik und irgendwie auch ein Hilferuf stellvertretend für viele. \n\n\n\nDas Medienecho ist eindeutig: \n\n\n\n„Wer herzhaft lachen möchte … kommt bei wOHNMACHT voll auf seine Kosten“\,  (Tiroler Tageszeitung)\, „Full-Service Kabarett“ (Kronen Zeitung)\,  „absolut sehenswert!“\, „begeistertes Publikum“ (Bezirksblätter)\, „beeindruckende Performance“ (Die Presse)\, „genau recherchiert\, grimmig\, bissig!“ (ORF) \n\n\n\nwOHNMACHT. Österreichisches Kabarettstipendium 2022.Regie: Harald Windisch \n\n\n\nTickets: www.treibhaus.at
URL:https://www.markuskoschuh.at/event-1/wohnmacht-das-umjubelte-programm-18/
LOCATION:Innsbruck\, Treibhaus\, Angerzellgasse 8\, 6020 Innsbruck\, Österreich
ATTACH;FMTTYPE=image/jpeg:https://www.markuskoschuh.at/wp-content/uploads/2022/06/koschuh-kabarett-Venue-wOHNMACHT.jpg
END:VEVENT
BEGIN:VEVENT
DTSTART;TZID=Europe/Vienna:20230928T200000
DTEND;TZID=Europe/Vienna:20230928T210000
DTSTAMP:20260423T015209
CREATED:20230728T085058Z
LAST-MODIFIED:20230921T090403Z
UID:10000411-1695931200-1695934800@www.markuskoschuh.at
SUMMARY:wOHNMACHT. Im Rahmen des sal.z.i-Forum 2023
DESCRIPTION:Zirl\, B4 \n\n\n\n\nAnmeldung\n\n\n\n\n\n\n\n\n\n\n\n\n\n\n\n\n\n\nwOHNMACHT.  „Wohnen muss wieder leistbar werden!“ Markus Koschuh haut der rot-weiß-roten Politik den Spruch um die Ohren\, eckt an\, rüttelt auf. Ein irrer&witziger Hilferuf stellvertretend für viele. In „wOHNMACHT“ geht Markus Koschuh hart ins Gericht mit einer mutlosen Politik\, Irrläufern des Lobbyismus\, Banken\, Immobilien- und Grundstückspekulanten und deren Wegbereitern und zeichnet ein aufrüttelndes Bild übler Machenschaften\, die mit dazu führen\, dass halb Österreich und da vor allem Tirol unter davongaloppierenden Kosten für Miete oder Hausbau leidet. Regie: Der für den Deutschen Schauspielpreis 2022 nominierte Harald Windisch.Penible Recherche\, satirische Überhöhung\, aberwitzige Rasanz und Körperlichkeit – das zeichnet Koschuhs Programme aus. wOHNMACHT erhielt 2022 das Österreichische Kabarettstipendium. \n\n\n\nDie Presse überschlägt sich in Lobeshymnen:„Wer herzhaft lachen möchte … kommt bei wOHNMACHT voll auf seine Kosten“\, „Full-Service Kabarett“\,  „begeistertes Publikum“\, „absolut sehenswert!“\, „genau recherchiert\, grimmig\, bissig!“ \n\n\n\nEin wOHNMACHT-Termin im Rahmen des sal.z.i-Forum 2023 \n\n\n\nInfos und Anmeldung unter info@salzi.tirol
URL:https://www.markuskoschuh.at/event-1/wohnmacht-im-rahmen-des-sal-z-i-forum-2023/
LOCATION:Zirl. B4\, Bahnhofstraße 4\, 6170 Zirl
ATTACH;FMTTYPE=image/jpeg:https://www.markuskoschuh.at/wp-content/uploads/2022/10/koschuh-wohnmacht-Website-1120x630px.jpg
END:VEVENT
END:VCALENDAR