BEGIN:VCALENDAR
VERSION:2.0
PRODID:-//Markus Koschuh - ECPv6.15.11//NONSGML v1.0//EN
CALSCALE:GREGORIAN
METHOD:PUBLISH
X-WR-CALNAME:Markus Koschuh
X-ORIGINAL-URL:https://www.markuskoschuh.at
X-WR-CALDESC:Veranstaltungen für Markus Koschuh
REFRESH-INTERVAL;VALUE=DURATION:PT1H
X-Robots-Tag:noindex
X-PUBLISHED-TTL:PT1H
BEGIN:VTIMEZONE
TZID:Europe/Vienna
BEGIN:DAYLIGHT
TZOFFSETFROM:+0100
TZOFFSETTO:+0200
TZNAME:CEST
DTSTART:20220327T010000
END:DAYLIGHT
BEGIN:STANDARD
TZOFFSETFROM:+0200
TZOFFSETTO:+0100
TZNAME:CET
DTSTART:20221030T010000
END:STANDARD
BEGIN:DAYLIGHT
TZOFFSETFROM:+0100
TZOFFSETTO:+0200
TZNAME:CEST
DTSTART:20230326T010000
END:DAYLIGHT
BEGIN:STANDARD
TZOFFSETFROM:+0200
TZOFFSETTO:+0100
TZNAME:CET
DTSTART:20231029T010000
END:STANDARD
BEGIN:DAYLIGHT
TZOFFSETFROM:+0100
TZOFFSETTO:+0200
TZNAME:CEST
DTSTART:20240331T010000
END:DAYLIGHT
BEGIN:STANDARD
TZOFFSETFROM:+0200
TZOFFSETTO:+0100
TZNAME:CET
DTSTART:20241027T010000
END:STANDARD
END:VTIMEZONE
BEGIN:VEVENT
DTSTART;TZID=Europe/Vienna:20231001T110000
DTEND;TZID=Europe/Vienna:20231001T170000
DTSTAMP:20260423T003407
CREATED:20230728T085718Z
LAST-MODIFIED:20230821T073655Z
UID:10000412-1696158000-1696179600@www.markuskoschuh.at
SUMMARY:Stadtteilfest Mühlau
DESCRIPTION:Innsbruck\, Mühlau Dorfplatz \n\n\n\n\n\n\n\n\n\n\n\n\n\nWenn der eigene Innsbrucker Stadtteil feiert und das Stadtmarketing anfrägt\, ob man doch bitte die Moderation übernimmt\, sagt man gerne Ja. Allerdings wird unter dem Motto „Fest der Jugend“ gefeiert und als zwar stets kindisch\, aber trotzdem nimmer ganz frisch Seiender habe ich mir was Nettes überlegt. In der offiziellen Info klingt das so: \n\n\n\nEinen weiteren Stopp legt die Stadtteil-Tour in diesem Jahr in Mühlau ein. Am Dorfplatz gestaltet die „Jugend von Mühlau“ ihr „Fest der Jugend“.  \n\n\n\n„Mühlau zum Anfassen“ ist die Devise. Jugendarbeit in den verschiedensten Vereinen können die Festbesucher:innen entdecken und die Gesichter dahinter persönlich kennen lernen. Auf der Bühne am Hauptplatz wird Markus Koschuh mit einem jungen Moderatorenteam Information und Unterhaltung bieten. Außerdem warten Spiele- und Mitmachstationen\, musikalische Unterhaltung und kulinarische Köstlichkeiten auf die Besucher:innen. \n\n\n\nInfos Stadtteilfest Mühlau
URL:https://www.markuskoschuh.at/event-1/stadtteilfest-muehlau-2/
LOCATION:Innsbruck\, Mühlau Dorfplatz\, Hauptplatz 5\, Innsbruck\, 6020\, Österreich
ATTACH;FMTTYPE=image/jpeg:https://www.markuskoschuh.at/wp-content/uploads/2023/07/Bild-fuer-Homepage-Termine.jpg
END:VEVENT
BEGIN:VEVENT
DTSTART;TZID=Europe/Vienna:20231013T200000
DTEND;TZID=Europe/Vienna:20231013T223000
DTSTAMP:20260423T003407
CREATED:20230621T082808Z
LAST-MODIFIED:20231007T084214Z
UID:10000406-1697227200-1697236200@www.markuskoschuh.at
SUMMARY:wOHNMACHT. Das umjubelte Programm!
DESCRIPTION:Oberlienz\, Kultursaal \n\n\n\n\nTickets per Tel.\n\n\n\n\n\n\n\n\n\n\n\n\n\n\n\n\n\n\nwOHNMACHT.  „Wohnen muss wieder leistbar werden!“ Markus Koschuh haut der rot-weiß-roten Politik den Spruch um die Ohren\, eckt an\, rüttelt auf. Ein irrer&witziger Hilferuf stellvertretend für viele. In „wOHNMACHT“ geht Markus Koschuh hart ins Gericht mit einer mutlosen Politik\, Irrläufern des Lobbyismus\, Banken\, Immobilien- und Grundstückspekulanten und deren Wegbereitern und zeichnet ein aufrüttelndes Bild übler Machenschaften\, die mit dazu führen\, dass halb Österreich und da vor allem Tirol unter davongaloppierenden Kosten für Miete oder Hausbau leidet. Regie: Der für den Deutschen Schauspielpreis 2022 nominierte Harald Windisch.Penible Recherche\, satirische Überhöhung\, aberwitzige Rasanz und Körperlichkeit – das zeichnet Koschuhs Programme aus. wOHNMACHT erhielt 2022 das Österreichische Kabarettstipendium. \n\n\n\nDie Presse überschlägt sich in Lobeshymnen:„Wer herzhaft lachen möchte … kommt bei wOHNMACHT voll auf seine Kosten“\, „Full-Service Kabarett“\,  „begeistertes Publikum“\, „absolut sehenswert!“\, „genau recherchiert\, grimmig\, bissig!“ \n\n\n\nTICKETS: 0664/73557509 oder im Musikhaus Joast\, Lienz sowie Abendkasse.
URL:https://www.markuskoschuh.at/event-1/wohnmacht-das-umjubelte-programm-10/
LOCATION:Oberlienz\, Kultursaal\, 9900 Oberlienz 30\,\, Österreich
ATTACH;FMTTYPE=image/jpeg:https://www.markuskoschuh.at/wp-content/uploads/2023/06/koschuh-kabarett-wOHNMACHT-Oberlienz.jpg
END:VEVENT
BEGIN:VEVENT
DTSTART;TZID=Europe/Vienna:20231017T190000
DTEND;TZID=Europe/Vienna:20231017T210000
DTSTAMP:20260423T003407
CREATED:20230323T132320Z
LAST-MODIFIED:20230818T095846Z
UID:10000394-1697569200-1697576400@www.markuskoschuh.at
SUMMARY:Zum Kuckuck. Das Open Mic.
DESCRIPTION:Innsbruck\, Patagonia Store \n\n\n\n\n Eintritt frei/ Anmeldung\n\n\n\n\n\n\n\n\n\n\n\n\n\n\n\n\n\n\n\n\n\n\n„ZUM KUCKUCK – Your voice for a change“ bietet eine Bühne für alle\, die ihre Stimme erheben wollen: Für Natur und Umwelt\, das Klima\, unseren Planeten\, unsere Lebensqualität.Wir stellen Dir eine Bühne\, ein Mikrofon und fünf Minuten zur Verfügung. Sag was\, lies was\, erhebe deine Stimme! Auch Liedermacher:innen sind gerne willkommen! Anmeldung unter: info@zumkuckuck.tirol \n\n\n\nEINTRITT FREI! \n\n\n\nZUM KUCKUCK – OPEN MIC your voice for a change 4. Mai + 21. September\, 19 Uhr.Patagonia Store Innsbruck. Moderation: Markus KoschuhEin Event von Tiroler Umweltanwaltschaft\, Patagonia und Verein Naturgut.
URL:https://www.markuskoschuh.at/event-1/zum-kuckuck-das-open-mic-3/
LOCATION:Innsbruck\, Patagonia Store\, Maria-Theresien-Straße 57\, 6020 Innsbruck\, Österreich
ATTACH;FMTTYPE=image/jpeg:https://www.markuskoschuh.at/wp-content/uploads/2023/03/koschuh-kabarett-zumKuckuck-patagonia-innsbruck.jpg
END:VEVENT
BEGIN:VEVENT
DTSTART;TZID=Europe/Vienna:20231018T180000
DTEND;TZID=Europe/Vienna:20231018T193000
DTSTAMP:20260423T003407
CREATED:20230608T081009Z
LAST-MODIFIED:20231007T083438Z
UID:10000398-1697652000-1697657400@www.markuskoschuh.at
SUMMARY:wOHNMACHT. Eintritt frei! Anmeldung erforderlich
DESCRIPTION:Imst\, Stadtsaal \n\n\n\n\nAnmeldung\n\n\n\n\n\n\n\n\n\n\n\n\n\n\n\n\n\n\nMarkus Koschuh ist mit „wOHNMACHT“ein neuer Geniestreich gelungen – die Presse überschlägt sich in Lobeshymnen: „Wer herzhaft lachen möchte …kommt bei wOHNMACHT voll auf seine Kosten“ (Tiroler Tageszeitung) „Full-Service Kabarett“\, „wagemutiger als je zuvor“\, „…weiß zu beeindrucken“ (Kronen Zeitung)\, „begeistertes Publikum“\, „absolut sehenswert!“ (Bezirksblätter)\, „genau recherchiert\, grimmig\, bissig!“ (ORF) \n\n\n\nUnd das ist wOHNMACHT: „Wohnen muss wieder leistbar werden!“ Markus Koschuh haut der rot-weiß-roten Politik den Spruch um die Ohren\, eckt an\, rüttelt auf. In „wOHNMACHT“ geht Markus Koschuh hart ins Gericht mit einer mutlosen Politik\, Irrläufern des Lobbyismus\, Banken\, Immobilien- und Grundstückspekulanten und deren Wegbereitern und zeichnet ein aufrüttelndes Bild übler Machenschaften\, die mit dazu führen\, dass halb Österreich unter davongaloppierenden Kosten für Miete oder Hausbau leidet. \n\n\n\nEine Veranstaltung der Raiffeisenbank Oberland-Reutte eGen
URL:https://www.markuskoschuh.at/event-1/wohnmacht-nicht-oeffentlich-zugaenglich/
LOCATION:Imst\, Stadtsaal\, Rathausstraße 9\, 6460 Imst\, Österreich
ATTACH;FMTTYPE=image/jpeg:https://www.markuskoschuh.at/wp-content/uploads/2023/06/koschuh-kabarett-wohnmacht-imst.jpg
END:VEVENT
BEGIN:VEVENT
DTSTART;TZID=Europe/Vienna:20231024T180000
DTEND;TZID=Europe/Vienna:20231024T200000
DTSTAMP:20260423T003407
CREATED:20230602T091312Z
LAST-MODIFIED:20230820T180646Z
UID:10000397-1698170400-1698177600@www.markuskoschuh.at
SUMMARY:Tirol radelt. Die Preisverleihung.
DESCRIPTION:Innsbruck. Genauer Ort folgt.Die große Abschlussveranstaltung des Klimabündnisses Tirol zur Aktion „Tirol radelt“.  \n\n\n\n\n\n\n\n\n\n\n\n\n\n\n\n\n\nWer hat im Aktionszeitraum März bis Ende September die meisten Kilometer für seine Gemeinde\, seinen Betrieb\, seine Schule oder seinen Verein erradelt? Achtung: Die Moderation könnte Spuren von Kabarett enthalten …! \n\n\n\nhttps://tirol.radelt.at/
URL:https://www.markuskoschuh.at/event-1/tirol-radelt-die-preisverleihung/
ATTACH;FMTTYPE=image/jpeg:https://www.markuskoschuh.at/wp-content/uploads/2023/06/Koschuh-radelt.jpg
END:VEVENT
END:VCALENDAR