BEGIN:VCALENDAR
VERSION:2.0
PRODID:-//Markus Koschuh - ECPv6.15.11//NONSGML v1.0//EN
CALSCALE:GREGORIAN
METHOD:PUBLISH
X-WR-CALNAME:Markus Koschuh
X-ORIGINAL-URL:https://www.markuskoschuh.at
X-WR-CALDESC:Veranstaltungen für Markus Koschuh
REFRESH-INTERVAL;VALUE=DURATION:PT1H
X-Robots-Tag:noindex
X-PUBLISHED-TTL:PT1H
BEGIN:VTIMEZONE
TZID:Europe/Vienna
BEGIN:DAYLIGHT
TZOFFSETFROM:+0100
TZOFFSETTO:+0200
TZNAME:CEST
DTSTART:20230326T010000
END:DAYLIGHT
BEGIN:STANDARD
TZOFFSETFROM:+0200
TZOFFSETTO:+0100
TZNAME:CET
DTSTART:20231029T010000
END:STANDARD
BEGIN:DAYLIGHT
TZOFFSETFROM:+0100
TZOFFSETTO:+0200
TZNAME:CEST
DTSTART:20240331T010000
END:DAYLIGHT
BEGIN:STANDARD
TZOFFSETFROM:+0200
TZOFFSETTO:+0100
TZNAME:CET
DTSTART:20241027T010000
END:STANDARD
BEGIN:DAYLIGHT
TZOFFSETFROM:+0100
TZOFFSETTO:+0200
TZNAME:CEST
DTSTART:20250330T010000
END:DAYLIGHT
BEGIN:STANDARD
TZOFFSETFROM:+0200
TZOFFSETTO:+0100
TZNAME:CET
DTSTART:20251026T010000
END:STANDARD
END:VTIMEZONE
BEGIN:VEVENT
DTSTART;TZID=Europe/Vienna:20240103T200000
DTEND;TZID=Europe/Vienna:20240103T223000
DTSTAMP:20260422T191833
CREATED:20230728T091532Z
LAST-MODIFIED:20240103T113746Z
UID:10000403-1704312000-1704321000@www.markuskoschuh.at
SUMMARY:Jahrmarkt der Heiterkeiten 2023
DESCRIPTION:Innsbruck\, Treibhaus \n\n\n\n\n\n\n\n\nAusverkauft!\n\n\n\n\n\n\n\n\n\n\n\n\n\n\n\n\n\n\nMarkus Koschuh: Jahrmarkt der Heiterkeiten 2023. Ein Heuler. \n\n\n\nMarkus Koschuh lädt wieder zur gruppentherapeutischen Lachtherapie über ein Jahr\, das eigentlich zum Vergessen ist. Frei nach: Lachen\, wenn’s eigentlich zum Weinen ist. Mit Biss&Witz\, lokalem Einschlag&regionaler Note. \n\n\n\nMarkus Koschuh führte wieder penibel Buch über Geschehenes&Passiertes und ruft in Erinnerung\, was bitteschön gleich wieder vergessen werden soll. Weil: So arg wie dieses Jahr war noch keines zuvor. Ein Jahr\, in dem viele unter Strom standen – und ein LandesenergieUNFAIRsorger kräftig daran verdiente. Ein Jahr jener\, dieden Vogel abschossen. Manche auch einen Wolf. Ein Heuler bei Koschuhs Jahrmarkt sind wie immer die High- und Lowlights des Jahres\, das heitere Zitateranking\, die Schnapsidee des Jahres und\, und\, und … und wenn Koschuh das Gesangsmikro in die Hand nimmt\, wird endgültig zum Abgesang auf ein Jahr geblasen.Ähnlichkeiten mit handelnden Personen sind nicht frei erfunden sondern genau so beabsichtigt. Koschuh schließt nix aus – nur die Haftung\, falls sich jemand auf den Schlips getreten fühlen sollte. Dazu rät ihm sein Anwalt. \n\n\n\nDie Tiroler Tageszeitung schrieb über einen der seit 2009 (!) über die Bühne gehenden Jahrmarkte der Heiterkeiten: „Ein abendfüllendes Kabarett mit derart viel Tempo\, Witz und Musikalität ist nicht alltäglich.“ Und was in der Zeitung steht\, stimmt. \n\n\n\nJahrmarkt der Heiterkeiten 2023. Lachen\, wenn’s eigentlich zum Weinen ist. Der listig-lustige Jahresrückblick mit Biss&Witz\, lokalem Einschlag&regionaler Note. \n\n\n\nRegie: Turmschauspieler Harald Windisch \n\n\n\n28. Dezember (Premiere)\, 29/30. Dezember 2023 + 3/4/5. Jänner 2024\, INNSBRUCK-TREIBHAUS. 12. Jänner 2024\, IMST-STADTBÜHNE. 13. Jänner 2024\, WÖRGL-KOMMA
URL:https://www.markuskoschuh.at/event-1/jahrmarkt-der-heiterkeiten-2023-4/
LOCATION:Innsbruck\, Treibhaus\, Angerzellgasse 8\, 6020 Innsbruck\, Österreich
ATTACH;FMTTYPE=image/jpeg:https://www.markuskoschuh.at/wp-content/uploads/2023/11/koschuh-kabarett-Jahrmarkt-Heiterkeiten-Treibhaus.jpg
END:VEVENT
BEGIN:VEVENT
DTSTART;TZID=Europe/Vienna:20240104T200000
DTEND;TZID=Europe/Vienna:20240104T223000
DTSTAMP:20260422T191833
CREATED:20230728T091449Z
LAST-MODIFIED:20231127T173709Z
UID:10000404-1704398400-1704407400@www.markuskoschuh.at
SUMMARY:Jahrmarkt der Heiterkeiten 2023
DESCRIPTION:Innsbruck\, Treibhaus \n\n\n\n\n\n\n\n\nTickets\n\n\n\n\n\n\n\n\n\n\n\n\n\n\n\n\n\n\nMarkus Koschuh: Jahrmarkt der Heiterkeiten 2023. Ein Heuler. \n\n\n\nMarkus Koschuh lädt wieder zur gruppentherapeutischen Lachtherapie über ein Jahr\, das eigentlich zum Vergessen ist. Frei nach: Lachen\, wenn’s eigentlich zum Weinen ist. Mit Biss&Witz\, lokalem Einschlag&regionaler Note. \n\n\n\nMarkus Koschuh führte wieder penibel Buch über Geschehenes&Passiertes und ruft in Erinnerung\, was bitteschön gleich wieder vergessen werden soll. Weil: So arg wie dieses Jahr war noch keines zuvor. Ein Jahr\, in dem viele unter Strom standen – und ein LandesenergieUNFAIRsorger kräftig daran verdiente. Ein Jahr jener\, dieden Vogel abschossen. Manche auch einen Wolf. Ein Heuler bei Koschuhs Jahrmarkt sind wie immer die High- und Lowlights des Jahres\, das heitere Zitateranking\, die Schnapsidee des Jahres und\, und\, und … und wenn Koschuh das Gesangsmikro in die Hand nimmt\, wird endgültig zum Abgesang auf ein Jahr geblasen.Ähnlichkeiten mit handelnden Personen sind nicht frei erfunden sondern genau so beabsichtigt. Koschuh schließt nix aus – nur die Haftung\, falls sich jemand auf den Schlips getreten fühlen sollte. Dazu rät ihm sein Anwalt. \n\n\n\nDie Tiroler Tageszeitung schrieb über einen der seit 2009 (!) über die Bühne gehenden Jahrmarkte der Heiterkeiten: „Ein abendfüllendes Kabarett mit derart viel Tempo\, Witz und Musikalität ist nicht alltäglich.“ Und was in der Zeitung steht\, stimmt. \n\n\n\nJahrmarkt der Heiterkeiten 2023. Lachen\, wenn’s eigentlich zum Weinen ist. Der listig-lustige Jahresrückblick mit Biss&Witz\, lokalem Einschlag&regionaler Note. \n\n\n\nRegie: Turmschauspieler Harald Windisch \n\n\n\n28. Dezember (Premiere)\, 29/30. Dezember 2023 + 3/4/5. Jänner 2024\, INNSBRUCK-TREIBHAUS. 12. Jänner 2024\, IMST-STADTBÜHNE. 13. Jänner 2024\, WÖRGL-KOMMA
URL:https://www.markuskoschuh.at/event-1/jahrmarkt-der-heiterkeiten-2023-3/
LOCATION:Innsbruck\, Treibhaus\, Angerzellgasse 8\, 6020 Innsbruck\, Österreich
ATTACH;FMTTYPE=image/jpeg:https://www.markuskoschuh.at/wp-content/uploads/2023/11/koschuh-kabarett-Jahrmarkt-Heiterkeiten-Treibhaus.jpg
END:VEVENT
BEGIN:VEVENT
DTSTART;TZID=Europe/Vienna:20240105T200000
DTEND;TZID=Europe/Vienna:20240105T223000
DTSTAMP:20260422T191833
CREATED:20230728T091613Z
LAST-MODIFIED:20231127T173902Z
UID:10000405-1704484800-1704493800@www.markuskoschuh.at
SUMMARY:Jahrmarkt der Heiterkeiten 2023
DESCRIPTION:Innsbruck\, Treibhaus \n\n\n\n\n\n\n\n\nTickets\n\n\n\n\n\n\n\n\n\n\n\n\n\n\n\n\n\n\nMarkus Koschuh: Jahrmarkt der Heiterkeiten 2023. Ein Heuler. \n\n\n\nMarkus Koschuh lädt wieder zur gruppentherapeutischen Lachtherapie über ein Jahr\, das eigentlich zum Vergessen ist. Frei nach: Lachen\, wenn’s eigentlich zum Weinen ist. Mit Biss&Witz\, lokalem Einschlag&regionaler Note. \n\n\n\nMarkus Koschuh führte wieder penibel Buch über Geschehenes&Passiertes und ruft in Erinnerung\, was bitteschön gleich wieder vergessen werden soll. Weil: So arg wie dieses Jahr war noch keines zuvor. Ein Jahr\, in dem viele unter Strom standen – und ein LandesenergieUNFAIRsorger kräftig daran verdiente. Ein Jahr jener\, dieden Vogel abschossen. Manche auch einen Wolf. Ein Heuler bei Koschuhs Jahrmarkt sind wie immer die High- und Lowlights des Jahres\, das heitere Zitateranking\, die Schnapsidee des Jahres und\, und\, und … und wenn Koschuh das Gesangsmikro in die Hand nimmt\, wird endgültig zum Abgesang auf ein Jahr geblasen.Ähnlichkeiten mit handelnden Personen sind nicht frei erfunden sondern genau so beabsichtigt. Koschuh schließt nix aus – nur die Haftung\, falls sich jemand auf den Schlips getreten fühlen sollte. Dazu rät ihm sein Anwalt. \n\n\n\nDie Tiroler Tageszeitung schrieb über einen der seit 2009 (!) über die Bühne gehenden Jahrmarkte der Heiterkeiten: „Ein abendfüllendes Kabarett mit derart viel Tempo\, Witz und Musikalität ist nicht alltäglich.“ Und was in der Zeitung steht\, stimmt. \n\n\n\nJahrmarkt der Heiterkeiten 2023. Lachen\, wenn’s eigentlich zum Weinen ist. Der listig-lustige Jahresrückblick mit Biss&Witz\, lokalem Einschlag&regionaler Note. \n\n\n\nRegie: Turmschauspieler Harald Windisch \n\n\n\n28. Dezember (Premiere)\, 29/30. Dezember 2023 + 3/4/5. Jänner 2024\, INNSBRUCK-TREIBHAUS. 12. Jänner 2024\, IMST-STADTBÜHNE. 13. Jänner 2024\, WÖRGL-KOMMA
URL:https://www.markuskoschuh.at/event-1/jahrmarkt-der-heiterkeiten-2023-5/
LOCATION:Innsbruck\, Treibhaus\, Angerzellgasse 8\, 6020 Innsbruck\, Österreich
ATTACH;FMTTYPE=image/jpeg:https://www.markuskoschuh.at/wp-content/uploads/2023/11/koschuh-kabarett-Jahrmarkt-Heiterkeiten-Treibhaus.jpg
END:VEVENT
BEGIN:VEVENT
DTSTART;TZID=Europe/Vienna:20240109T200000
DTEND;TZID=Europe/Vienna:20240109T223000
DTSTAMP:20260422T191833
CREATED:20240104T225305Z
LAST-MODIFIED:20240104T225309Z
UID:10000618-1704830400-1704839400@www.markuskoschuh.at
SUMMARY:ZUSATZVORSTELLUNG: Jahrmarkt der Heiterkeiten 2023
DESCRIPTION:Innsbruck\, Treibhaus \n\n\n\n\n\n\n\n\nTickets\n\n\n\n\n\n\n\n\n\n\n\n\n\n\n\n\n\n\nMarkus Koschuh: Jahrmarkt der Heiterkeiten 2023. Ein Heuler. \n\n\n\nMarkus Koschuh lädt wieder zur gruppentherapeutischen Lachtherapie über ein Jahr\, das eigentlich zum Vergessen ist. Frei nach: Lachen\, wenn’s eigentlich zum Weinen ist. Mit Biss&Witz\, lokalem Einschlag&regionaler Note. \n\n\n\nMarkus Koschuh führte wieder penibel Buch über Geschehenes&Passiertes und ruft in Erinnerung\, was bitteschön gleich wieder vergessen werden soll. Weil: So arg wie dieses Jahr war noch keines zuvor. Ein Jahr\, in dem viele unter Strom standen – und ein LandesenergieUNFAIRsorger kräftig daran verdiente. Ein Jahr jener\, dieden Vogel abschossen. Manche auch einen Wolf. Ein Heuler bei Koschuhs Jahrmarkt sind wie immer die High- und Lowlights des Jahres\, das heitere Zitateranking\, die Schnapsidee des Jahres und\, und\, und … und wenn Koschuh das Gesangsmikro in die Hand nimmt\, wird endgültig zum Abgesang auf ein Jahr geblasen.Ähnlichkeiten mit handelnden Personen sind nicht frei erfunden sondern genau so beabsichtigt. Koschuh schließt nix aus – nur die Haftung\, falls sich jemand auf den Schlips getreten fühlen sollte. Dazu rät ihm sein Anwalt. \n\n\n\nDie Tiroler Tageszeitung schrieb über einen der seit 2009 (!) über die Bühne gehenden Jahrmarkte der Heiterkeiten: „Ein abendfüllendes Kabarett mit derart viel Tempo\, Witz und Musikalität ist nicht alltäglich.“ Und was in der Zeitung steht\, stimmt. \n\n\n\nJahrmarkt der Heiterkeiten 2023. Lachen\, wenn’s eigentlich zum Weinen ist. Der listig-lustige Jahresrückblick mit Biss&Witz\, lokalem Einschlag&regionaler Note. \n\n\n\nRegie: Turmschauspieler Harald Windisch \n\n\n\n28. Dezember (Premiere)\, 29/30. Dezember 2023 + 3/4/5. Jänner 2024\, INNSBRUCK-TREIBHAUS. 12. Jänner 2024\, IMST-STADTBÜHNE. 13. Jänner 2024\, WÖRGL-KOMMA
URL:https://www.markuskoschuh.at/event-1/zusatzvorstellung-jahrmarkt-der-heiterkeiten-2023/
LOCATION:Innsbruck\, Treibhaus\, Angerzellgasse 8\, 6020 Innsbruck\, Österreich
ATTACH;FMTTYPE=image/jpeg:https://www.markuskoschuh.at/wp-content/uploads/2023/11/koschuh-kabarett-Jahrmarkt-Heiterkeiten-Treibhaus.jpg
END:VEVENT
BEGIN:VEVENT
DTSTART;TZID=Europe/Vienna:20240126T190000
DTEND;TZID=Europe/Vienna:20240126T210000
DTSTAMP:20260422T191833
CREATED:20230825T143336Z
LAST-MODIFIED:20240108T094034Z
UID:10000605-1706295600-1706302800@www.markuskoschuh.at
SUMMARY:Benefiz: Perspektive für Kinder - mit Franz Posch
DESCRIPTION:Hall\, Kolpingsaal \n\n\n\n\n\n\n\n\n\n\n\n\n\nEin Benefizabend zusammen mit Franz Posch – ein musikalisch-kabarettistisches Highlight zugunsten eines Projekts in Uganda ..! \n\n\n\nAmüsantes ExperimentAls Künstler scheinen sie aus verschiedenen Welten zu kommen\, gemeinsam auf der Bühne waren sie noch nie: Franz Posch\, leidenschaftlicher Musikant und prominenter Vertreter echter Volksmusik\, undMarkus Koschuh\, Kabarettist und kritischer Beobachter der Tiroler Politik.Ein amüsantes Experiment also\, das am 26.1.2024 im Kolpinghaus Hall über die Bühne gehen wird.Aber auch ein besonderer Abend für einen besonderen Zweck. Mit ihrem ungewöhnlichen Zusammenspiel unterstützen die beiden Künstler die Organisation »Perspektive für Kinder«Der Tiroler Verein setzt sich\, zusammen mit einer lokalen Partnerorganisation\, in Uganda\, Afrika\, für dieBetreuung und medizinische Versorgung von Kindern und Jugendlichen mit HIV/Aids oder Behinderung ein.Die Spenden aus der Veranstaltung in Tirol helfen dem Team in Uganda\, ihre engagierte Arbeit weiterzu machen.Franz Posch & Markus KoschuhModeration: Markus KoschuhEintritt: Freiwillige Spenden erbeten
URL:https://www.markuskoschuh.at/event-1/benefiz-4-uganda/
LOCATION:Kolpinghaus Hall\, Schumacherweg 2\, Hall\, Tirol\, 6060\, Österreich
ATTACH;FMTTYPE=image/jpeg:https://www.markuskoschuh.at/wp-content/uploads/2020/03/koschuh_hoamatl2_c_-böhm-1-scaled.jpg
END:VEVENT
END:VCALENDAR