BEGIN:VCALENDAR
VERSION:2.0
PRODID:-//Markus Koschuh - ECPv6.15.11//NONSGML v1.0//EN
CALSCALE:GREGORIAN
METHOD:PUBLISH
X-WR-CALNAME:Markus Koschuh
X-ORIGINAL-URL:https://www.markuskoschuh.at
X-WR-CALDESC:Veranstaltungen für Markus Koschuh
REFRESH-INTERVAL;VALUE=DURATION:PT1H
X-Robots-Tag:noindex
X-PUBLISHED-TTL:PT1H
BEGIN:VTIMEZONE
TZID:Europe/Vienna
BEGIN:DAYLIGHT
TZOFFSETFROM:+0100
TZOFFSETTO:+0200
TZNAME:CEST
DTSTART:20230326T010000
END:DAYLIGHT
BEGIN:STANDARD
TZOFFSETFROM:+0200
TZOFFSETTO:+0100
TZNAME:CET
DTSTART:20231029T010000
END:STANDARD
BEGIN:DAYLIGHT
TZOFFSETFROM:+0100
TZOFFSETTO:+0200
TZNAME:CEST
DTSTART:20240331T010000
END:DAYLIGHT
BEGIN:STANDARD
TZOFFSETFROM:+0200
TZOFFSETTO:+0100
TZNAME:CET
DTSTART:20241027T010000
END:STANDARD
BEGIN:DAYLIGHT
TZOFFSETFROM:+0100
TZOFFSETTO:+0200
TZNAME:CEST
DTSTART:20250330T010000
END:DAYLIGHT
BEGIN:STANDARD
TZOFFSETFROM:+0200
TZOFFSETTO:+0100
TZNAME:CET
DTSTART:20251026T010000
END:STANDARD
END:VTIMEZONE
BEGIN:VEVENT
DTSTART;TZID=Europe/Vienna:20240619T193000
DTEND;TZID=Europe/Vienna:20240619T213000
DTSTAMP:20260424T011944
CREATED:20240130T154735Z
LAST-MODIFIED:20240403T211429Z
UID:10000622-1718825400-1718832600@www.markuskoschuh.at
SUMMARY:WIEN-PREMIERE. Eine kleine Machtmusik
DESCRIPTION:Wien\, Kabarett Niedermair \n\n\n\n\n\n\n\nMarkus Koschuh: Eine kleine MachtmusikMit seinem letzten Programm „Jahrmarkt der Heiterkeiten“ sorgte er für reihenweise vollen Treibhaus-Turm plus Zusatzvorstellung. Nun legt Koschuh seinen neuesten Streich vor. „Eine kleine Machtmusik“ – der ultimative Soundcheck für ein ganzes Land: Wer will warum die erste Geige spielen und wer gibt tatsächlich den Ton an? Warum vergreifen sich im Land des Wolfgang Amadeus Mozart immer mehr im Ton oder stimmen ein in den Chor der Empörten? Macht nicht der gute Ton die Musik? Ein Programm voller c-d-e-f-g-Aha- und Oho-Momente\, Irr-&Aberwitz\, Rasanz&Körpereinsatz. Das neue Programm des zuletzt in höchsten Tönen gelobten Markus Koschuh gehört gesehen und gehört gehört …!Eine kleine Machtmusik: Das richtige Programm zur rechten Zeit.Regie: Harald Windisch \n\n\n\n\nTickets!\n\n\n\n\n\n\n\n\n\n\n\n\n\n\n \n\n\n\n \n\n\n\n\n\n\n\n\n\n\n\n 
URL:https://www.markuskoschuh.at/event-1/wien-premiere-das-neue-programm/
LOCATION:Wien\, Kabarett Niedermair\, Lenaugasse 1A\, Wien\, 1080\, Österreich
CATEGORIES:Kabarett
ATTACH;FMTTYPE=image/jpeg:https://www.markuskoschuh.at/wp-content/uploads/2024/01/koschuh_machtmusik2klein_1_FranzOss.jpg
END:VEVENT
END:VCALENDAR