BEGIN:VCALENDAR
VERSION:2.0
PRODID:-//Markus Koschuh - ECPv6.15.11//NONSGML v1.0//EN
CALSCALE:GREGORIAN
METHOD:PUBLISH
X-ORIGINAL-URL:https://www.markuskoschuh.at
X-WR-CALDESC:Veranstaltungen für Markus Koschuh
REFRESH-INTERVAL;VALUE=DURATION:PT1H
X-Robots-Tag:noindex
X-PUBLISHED-TTL:PT1H
BEGIN:VTIMEZONE
TZID:Europe/Vienna
BEGIN:DAYLIGHT
TZOFFSETFROM:+0100
TZOFFSETTO:+0200
TZNAME:CEST
DTSTART:20230326T010000
END:DAYLIGHT
BEGIN:STANDARD
TZOFFSETFROM:+0200
TZOFFSETTO:+0100
TZNAME:CET
DTSTART:20231029T010000
END:STANDARD
BEGIN:DAYLIGHT
TZOFFSETFROM:+0100
TZOFFSETTO:+0200
TZNAME:CEST
DTSTART:20240331T010000
END:DAYLIGHT
BEGIN:STANDARD
TZOFFSETFROM:+0200
TZOFFSETTO:+0100
TZNAME:CET
DTSTART:20241027T010000
END:STANDARD
BEGIN:DAYLIGHT
TZOFFSETFROM:+0100
TZOFFSETTO:+0200
TZNAME:CEST
DTSTART:20250330T010000
END:DAYLIGHT
BEGIN:STANDARD
TZOFFSETFROM:+0200
TZOFFSETTO:+0100
TZNAME:CET
DTSTART:20251026T010000
END:STANDARD
END:VTIMEZONE
BEGIN:VEVENT
DTSTART;TZID=Europe/Vienna:20240913T193000
DTEND;TZID=Europe/Vienna:20240913T223000
DTSTAMP:20260423T175909
CREATED:20240306T095908Z
LAST-MODIFIED:20240828T142851Z
UID:10000646-1726255800-1726266600@www.markuskoschuh.at
SUMMARY:Das neue Programm: Eine kleine Machtmusik
DESCRIPTION:Salzburg\, Kleines Theater \n\n\n\nTelefon: 0662/872154 \n\n\n\n\nTickets!\n\n\n\n\n\n\n\n\nMarkus Koschuh: Eine kleine MachtmusikMit seinem letzten Programm „Jahrmarkt der Heiterkeiten“ sorgte er für reihenweise vollen Treibhaus-Turm plus Zusatzvorstellung. Nun legt Koschuh seinen neuesten Streich vor. „Eine kleine Machtmusik“ – der ultimative Soundcheck für ein ganzes Land: Wer will warum die erste Geige spielen und wer gibt tatsächlich den Ton an? Warum vergreifen sich im Land des Wolfgang Amadeus Mozart immer mehr im Ton oder stimmen ein in den Chor der Empörten? Macht nicht der gute Ton die Musik? Ein Programm voller c-d-e-f-g-Aha- und Oho-Momente\, Irr-&Aberwitz\, Rasanz&Körpereinsatz. Das neue Programm des zuletzt in höchsten Tönen gelobten Markus Koschuh gehört gesehen und gehört gehört …!Eine kleine Machtmusik: Das richtige Programm zur rechten Zeit.Regie: Harald Windisch
URL:https://www.markuskoschuh.at/event-1/das-neue-programm-eine-kleine-machtmusik/
LOCATION:Salzburg\, Kleines Theater\, Schallmooser Hauptstraße 50\, Salzburg\, 5020
ATTACH;FMTTYPE=image/jpeg:https://www.markuskoschuh.at/wp-content/uploads/2024/01/koschuh_machtmusik2klein_1_FranzOss.jpg
END:VEVENT
END:VCALENDAR