BEGIN:VCALENDAR
VERSION:2.0
PRODID:-//Markus Koschuh - ECPv6.15.11//NONSGML v1.0//EN
CALSCALE:GREGORIAN
METHOD:PUBLISH
X-WR-CALNAME:Markus Koschuh
X-ORIGINAL-URL:https://www.markuskoschuh.at
X-WR-CALDESC:Veranstaltungen für Markus Koschuh
REFRESH-INTERVAL;VALUE=DURATION:PT1H
X-Robots-Tag:noindex
X-PUBLISHED-TTL:PT1H
BEGIN:VTIMEZONE
TZID:Europe/Vienna
BEGIN:DAYLIGHT
TZOFFSETFROM:+0100
TZOFFSETTO:+0200
TZNAME:CEST
DTSTART:20240331T010000
END:DAYLIGHT
BEGIN:STANDARD
TZOFFSETFROM:+0200
TZOFFSETTO:+0100
TZNAME:CET
DTSTART:20241027T010000
END:STANDARD
BEGIN:DAYLIGHT
TZOFFSETFROM:+0100
TZOFFSETTO:+0200
TZNAME:CEST
DTSTART:20250330T010000
END:DAYLIGHT
BEGIN:STANDARD
TZOFFSETFROM:+0200
TZOFFSETTO:+0100
TZNAME:CET
DTSTART:20251026T010000
END:STANDARD
BEGIN:DAYLIGHT
TZOFFSETFROM:+0100
TZOFFSETTO:+0200
TZNAME:CEST
DTSTART:20260329T010000
END:DAYLIGHT
BEGIN:STANDARD
TZOFFSETFROM:+0200
TZOFFSETTO:+0100
TZNAME:CET
DTSTART:20261025T010000
END:STANDARD
END:VTIMEZONE
BEGIN:VEVENT
DTSTART;TZID=Europe/Vienna:20250502T193000
DTEND;TZID=Europe/Vienna:20250502T220000
DTSTAMP:20260423T114257
CREATED:20241021T085408Z
LAST-MODIFIED:20250327T084235Z
UID:10000740-1746214200-1746223200@www.markuskoschuh.at
SUMMARY:Das neue Programm: Eine kleine Machtmusik
DESCRIPTION:Salzburg\, Kleines Theater \n\n\n \nMarkus Koschuh: Eine kleine Machtmusik \n  \nEin Kabarettist und ein Beatboxer gemeinsam auf der Bühne – und das zu Klängen von Mozart. Geht nicht? Doch. Und wie!Das neue Kabarettprogramm des Tiroler Kabarettisten und 2-fachen österreichischen Poetry-Slam-Meisters Markus Koschuh ist da:EINE KLEINE MACHTMUSIK featuring Samuel Plieger. Regie: Harald Windisch \n  \nIn seinem neuesten Streich EINE KLEINE MACHTMUSIK zückt Markus Koschuh das kabarettistische Stethoskop\, hört hin und hört nicht auf\, sein Ohr dort zu haben\, wo es weh tut – für den ultimativen Soundcheck: Wer will warum die erste Geige spielen und wer gibt tatsächlich den Ton an? Warum stimmen immer Mehr in den Chor der Empörten ein und vergreifen sich im Land des Wolfgang Amadeus Mozart im Ton – wo doch laut Meinungsumfragen für 90% der Befragten der Ton die Musik macht? Zur rhythmischen Verstärkung hat sich Markus Koschuh Beatboxer Samuel Plieger an Bord geholt …! Eine kleine Machtmusik ist ein Programm voller c-d-e-f-g-Aha- und Oho-Momente\, Irr-&Aberwitz\, Rasanz&Körpereinsatz! \n  \nMedienecho zu Markus Koschuh: „Spitzenkabarett made in Tirol“\,  „Lachsalven\, Szenenapplaus\, Begeisterungsstürme“\, „Bissig\, pointensicher\, unglaublich im Mienenspiel\, humoristisch hochwertig!“ – und zu „Eine kleine Machtmusik“: „Der beste Koschuh bisher!“\, „Koschuh liefert erneut!“\, „Begeisterter Zwischenapplaus!“\, „Genial!“ \n \n\n\n\nTickets hier!
URL:https://www.markuskoschuh.at/event-1/das-neue-programm-eine-kleine-machtmusik-15/
LOCATION:Salzburg\, Kleines Theater\, Schallmooser Hauptstraße 50\, Salzburg\, 5020
CATEGORIES:Kabarett
ATTACH;FMTTYPE=image/jpeg:https://www.markuskoschuh.at/wp-content/uploads/2024/01/koschuh_machtmusik2klein_1_FranzOss.jpg
END:VEVENT
END:VCALENDAR