BEGIN:VCALENDAR
VERSION:2.0
PRODID:-//Markus Koschuh - ECPv6.15.11//NONSGML v1.0//EN
CALSCALE:GREGORIAN
METHOD:PUBLISH
X-WR-CALNAME:Markus Koschuh
X-ORIGINAL-URL:https://www.markuskoschuh.at
X-WR-CALDESC:Veranstaltungen für Markus Koschuh
REFRESH-INTERVAL;VALUE=DURATION:PT1H
X-Robots-Tag:noindex
X-PUBLISHED-TTL:PT1H
BEGIN:VTIMEZONE
TZID:Europe/Vienna
BEGIN:DAYLIGHT
TZOFFSETFROM:+0100
TZOFFSETTO:+0200
TZNAME:CEST
DTSTART:20230326T010000
END:DAYLIGHT
BEGIN:STANDARD
TZOFFSETFROM:+0200
TZOFFSETTO:+0100
TZNAME:CET
DTSTART:20231029T010000
END:STANDARD
BEGIN:DAYLIGHT
TZOFFSETFROM:+0100
TZOFFSETTO:+0200
TZNAME:CEST
DTSTART:20240331T010000
END:DAYLIGHT
BEGIN:STANDARD
TZOFFSETFROM:+0200
TZOFFSETTO:+0100
TZNAME:CET
DTSTART:20241027T010000
END:STANDARD
BEGIN:DAYLIGHT
TZOFFSETFROM:+0100
TZOFFSETTO:+0200
TZNAME:CEST
DTSTART:20250330T010000
END:DAYLIGHT
BEGIN:STANDARD
TZOFFSETFROM:+0200
TZOFFSETTO:+0100
TZNAME:CET
DTSTART:20251026T010000
END:STANDARD
END:VTIMEZONE
BEGIN:VEVENT
DTSTART;TZID=Europe/Vienna:20240113T200000
DTEND;TZID=Europe/Vienna:20240113T223000
DTSTAMP:20260421T200816
CREATED:20230731T091044Z
LAST-MODIFIED:20231127T174653Z
UID:10000414-1705176000-1705185000@www.markuskoschuh.at
SUMMARY:Jahrmarkt der Heiterkeiten 2023
DESCRIPTION:Wörgl\, VZ Komma \n\n\n\n\n\n\n\n\nTickets\n\n\n\n\n\n\n\n\n\n\n\n\n\n\nMarkus Koschuh: Jahrmarkt der Heiterkeiten 2023. Ein Heuler. \n\n\n\nMarkus Koschuh lädt wieder zur gruppentherapeutischen Lachtherapie über ein Jahr\, das eigentlich zum Vergessen ist. Frei nach: Lachen\, wenn’s eigentlich zum Weinen ist. Mit Biss&Witz\, lokalem Einschlag&regionaler Note. \n\n\n\nMarkus Koschuh führte wieder penibel Buch über Geschehenes&Passiertes und ruft in Erinnerung\, was bitteschön gleich wieder vergessen werden soll. Weil: So arg wie dieses Jahr war noch keines zuvor. Ein Jahr\, in dem viele unter Strom standen – und ein LandesenergieUNFAIRsorger kräftig daran verdiente. Ein Jahr jener\, dieden Vogel abschossen. Manche auch einen Wolf. Ein Heuler bei Koschuhs Jahrmarkt sind wie immer die High- und Lowlights des Jahres\, das heitere Zitateranking\, die Schnapsidee des Jahres und\, und\, und … und wenn Koschuh das Gesangsmikro in die Hand nimmt\, wird endgültig zum Abgesang auf ein Jahr geblasen.Ähnlichkeiten mit handelnden Personen sind nicht frei erfunden sondern genau so beabsichtigt. Koschuh schließt nix aus – nur die Haftung\, falls sich jemand auf den Schlips getreten fühlen sollte. Dazu rät ihm sein Anwalt. \n\n\n\nDie Tiroler Tageszeitung schrieb über einen der seit 2009 (!) über die Bühne gehenden Jahrmarkte der Heiterkeiten: „Ein abendfüllendes Kabarett mit derart viel Tempo\, Witz und Musikalität ist nicht alltäglich.“ Und was in der Zeitung steht\, stimmt. \n\n\n\nJahrmarkt der Heiterkeiten 2023. Lachen\, wenn’s eigentlich zum Weinen ist. Der listig-lustige Jahresrückblick mit Biss&Witz\, lokalem Einschlag&regionaler Note. \n\n\n\nRegie: Turmschauspieler Harald WindischMarkus Koschuh im Veranstaltungszentrum Komma \n\n\n\n28. Dezember (Premiere)\, 29/30. Dezember 2023 + 3/4/5. Jänner 2024\, INNSBRUCK-TREIBHAUS. 12. Jänner 2024\, IMST-STADTBÜHNE. 13. Jänner 2024\, WÖRGL-KOMMA
URL:https://www.markuskoschuh.at/event-1/jahrmarkt-der-heiterkeiten-2023-6/
LOCATION:Wörgl\, VZ Komma\, KR. Martin-Pichlerstraße 21a\, Wörgl\, 6300\, Österreich
ATTACH;FMTTYPE=image/jpeg:https://www.markuskoschuh.at/wp-content/uploads/2023/07/koschuh-kabarett-Jahrmarkt-Heiterkeiten-Komma-Woergl.jpg
END:VEVENT
END:VCALENDAR