BEGIN:VCALENDAR
VERSION:2.0
PRODID:-//Markus Koschuh - ECPv6.15.11//NONSGML v1.0//EN
CALSCALE:GREGORIAN
METHOD:PUBLISH
X-ORIGINAL-URL:https://www.markuskoschuh.at
X-WR-CALDESC:Veranstaltungen für Markus Koschuh
REFRESH-INTERVAL;VALUE=DURATION:PT1H
X-Robots-Tag:noindex
X-PUBLISHED-TTL:PT1H
BEGIN:VTIMEZONE
TZID:Europe/Vienna
BEGIN:DAYLIGHT
TZOFFSETFROM:+0100
TZOFFSETTO:+0200
TZNAME:CEST
DTSTART:20230326T010000
END:DAYLIGHT
BEGIN:STANDARD
TZOFFSETFROM:+0200
TZOFFSETTO:+0100
TZNAME:CET
DTSTART:20231029T010000
END:STANDARD
BEGIN:DAYLIGHT
TZOFFSETFROM:+0100
TZOFFSETTO:+0200
TZNAME:CEST
DTSTART:20240331T010000
END:DAYLIGHT
BEGIN:STANDARD
TZOFFSETFROM:+0200
TZOFFSETTO:+0100
TZNAME:CET
DTSTART:20241027T010000
END:STANDARD
BEGIN:DAYLIGHT
TZOFFSETFROM:+0100
TZOFFSETTO:+0200
TZNAME:CEST
DTSTART:20250330T010000
END:DAYLIGHT
BEGIN:STANDARD
TZOFFSETFROM:+0200
TZOFFSETTO:+0100
TZNAME:CET
DTSTART:20251026T010000
END:STANDARD
BEGIN:DAYLIGHT
TZOFFSETFROM:+0100
TZOFFSETTO:+0200
TZNAME:CEST
DTSTART:20260329T010000
END:DAYLIGHT
BEGIN:STANDARD
TZOFFSETFROM:+0200
TZOFFSETTO:+0100
TZNAME:CET
DTSTART:20261025T010000
END:STANDARD
BEGIN:DAYLIGHT
TZOFFSETFROM:+0100
TZOFFSETTO:+0200
TZNAME:CEST
DTSTART:20270328T010000
END:DAYLIGHT
BEGIN:STANDARD
TZOFFSETFROM:+0200
TZOFFSETTO:+0100
TZNAME:CET
DTSTART:20271031T010000
END:STANDARD
END:VTIMEZONE
BEGIN:VEVENT
DTSTART;TZID=Europe/Vienna:20240113T200000
DTEND;TZID=Europe/Vienna:20240113T223000
DTSTAMP:20260421T214344
CREATED:20230731T091044Z
LAST-MODIFIED:20231127T174653Z
UID:10000414-1705176000-1705185000@www.markuskoschuh.at
SUMMARY:Jahrmarkt der Heiterkeiten 2023
DESCRIPTION:Wörgl\, VZ Komma \n\n\n\n\n\n\n\n\nTickets\n\n\n\n\n\n\n\n\n\n\n\n\n\n\nMarkus Koschuh: Jahrmarkt der Heiterkeiten 2023. Ein Heuler. \n\n\n\nMarkus Koschuh lädt wieder zur gruppentherapeutischen Lachtherapie über ein Jahr\, das eigentlich zum Vergessen ist. Frei nach: Lachen\, wenn’s eigentlich zum Weinen ist. Mit Biss&Witz\, lokalem Einschlag&regionaler Note. \n\n\n\nMarkus Koschuh führte wieder penibel Buch über Geschehenes&Passiertes und ruft in Erinnerung\, was bitteschön gleich wieder vergessen werden soll. Weil: So arg wie dieses Jahr war noch keines zuvor. Ein Jahr\, in dem viele unter Strom standen – und ein LandesenergieUNFAIRsorger kräftig daran verdiente. Ein Jahr jener\, dieden Vogel abschossen. Manche auch einen Wolf. Ein Heuler bei Koschuhs Jahrmarkt sind wie immer die High- und Lowlights des Jahres\, das heitere Zitateranking\, die Schnapsidee des Jahres und\, und\, und … und wenn Koschuh das Gesangsmikro in die Hand nimmt\, wird endgültig zum Abgesang auf ein Jahr geblasen.Ähnlichkeiten mit handelnden Personen sind nicht frei erfunden sondern genau so beabsichtigt. Koschuh schließt nix aus – nur die Haftung\, falls sich jemand auf den Schlips getreten fühlen sollte. Dazu rät ihm sein Anwalt. \n\n\n\nDie Tiroler Tageszeitung schrieb über einen der seit 2009 (!) über die Bühne gehenden Jahrmarkte der Heiterkeiten: „Ein abendfüllendes Kabarett mit derart viel Tempo\, Witz und Musikalität ist nicht alltäglich.“ Und was in der Zeitung steht\, stimmt. \n\n\n\nJahrmarkt der Heiterkeiten 2023. Lachen\, wenn’s eigentlich zum Weinen ist. Der listig-lustige Jahresrückblick mit Biss&Witz\, lokalem Einschlag&regionaler Note. \n\n\n\nRegie: Turmschauspieler Harald WindischMarkus Koschuh im Veranstaltungszentrum Komma \n\n\n\n28. Dezember (Premiere)\, 29/30. Dezember 2023 + 3/4/5. Jänner 2024\, INNSBRUCK-TREIBHAUS. 12. Jänner 2024\, IMST-STADTBÜHNE. 13. Jänner 2024\, WÖRGL-KOMMA
URL:https://www.markuskoschuh.at/event-1/jahrmarkt-der-heiterkeiten-2023-6/
LOCATION:Wörgl\, VZ Komma\, KR. Martin-Pichlerstraße 21a\, Wörgl\, 6300\, Österreich
ATTACH;FMTTYPE=image/jpeg:https://www.markuskoschuh.at/wp-content/uploads/2023/07/koschuh-kabarett-Jahrmarkt-Heiterkeiten-Komma-Woergl.jpg
END:VEVENT
BEGIN:VEVENT
DTSTART;TZID=Europe/Vienna:20241003T200000
DTEND;TZID=Europe/Vienna:20241003T223000
DTSTAMP:20260421T214344
CREATED:20240131T090019Z
LAST-MODIFIED:20240711T122622Z
UID:10000634-1727985600-1727994600@www.markuskoschuh.at
SUMMARY:Das neue Programm: Eine kleine Machtmusik
DESCRIPTION:Wörgl\, VZ Komma \n\n\n\n\nTickets!\n\n\n\n\n\n\n\n\nMedienecho zu „Eine kleine Machtmusik“: „Der beste Koschuh bisher!“\, „Koschuh liefert erneut!“\, „Begeisterter Zwischenapplaus!“\, „Genial!“ \n\n\n\nEin Kabarettist und ein Beatboxer gemeinsam auf der Bühne – und das zu Klängen von Mozart. Geht nicht? Doch. Und wie! Das neue Kabarettprogramm des Tiroler Kabarettisten und 2-fachen österreichischen Poetry-Slam-Meisters Markus Koschuh ist da:EINE KLEINE MACHTMUSIK featuring Samuel Plieger. Regie: Harald Windisch \n\n\n\nIn seinem neuesten Streich EINE KLEINE MACHTMUSIK zückt Markus Koschuh das kabarettistische Stethoskop\, hört hin und hört nicht auf\, sein Ohr dort zu haben\, wo es weh tut – für den ultimativen Soundcheck: Wer will warum die erste Geige spielen und wer gibt tatsächlich den Ton an? Warum stimmen immer Mehr in den Chor der Empörten ein und vergreifen sich im Land des Wolfgang Amadeus Mozart im Ton – wo doch laut Meinungsumfragen für 90% der Befragten der Ton die Musik macht? Zur rhythmischen Verstärkung hat sich Markus Koschuh Beatboxer Samuel Plieger an Bord geholt …! Eine kleine Machtmusik ist ein Programm voller c-d-e-f-g-Aha- und Oho-Momente\, Irr-&Aberwitz\, Rasanz&Körpereinsatz!
URL:https://www.markuskoschuh.at/event-1/das-neue-programm-4/
LOCATION:Wörgl\, VZ Komma\, KR. Martin-Pichlerstraße 21a\, Wörgl\, 6300\, Österreich
ATTACH;FMTTYPE=image/jpeg:https://www.markuskoschuh.at/wp-content/uploads/2024/01/koschuh_machtmusik2klein_1_FranzOss.jpg
END:VEVENT
BEGIN:VEVENT
DTSTART;TZID=Europe/Vienna:20260213T200000
DTEND;TZID=Europe/Vienna:20260213T220000
DTSTAMP:20260421T214344
CREATED:20250904T191655Z
LAST-MODIFIED:20260121T095853Z
UID:10000832-1771012800-1771020000@www.markuskoschuh.at
SUMMARY:Franz Posch & Markus Koschuh. Quetschn trifft Schmäh!
DESCRIPTION:Tickets hier!\n\n\n\n\nDer Eine: Ein Kenner der Volksmusik wie kein Anderer und Virtuose auf der Ziehharmonika. Der Andere: Ein Meister des bissigen Kabaretts mit Lachgarantie. Staunen über die Musikalität von Franz Posch und Lachen über die Pointen von Markus Koschuh. (Volks)musik ergänzt Kabarett ergänzt (Volks)musik – ein Abend zweier Ausnahmekünstler\, den man nicht verpassen sollte!
URL:https://www.markuskoschuh.at/event-1/franz-posch-markus-koschuh-quetschn-trifft-schmaeh-7/
LOCATION:Wörgl\, VZ Komma\, KR. Martin-Pichlerstraße 21a\, Wörgl\, 6300\, Österreich
CATEGORIES:Kabarett,Special
ATTACH;FMTTYPE=image/jpeg:https://www.markuskoschuh.at/wp-content/uploads/2025/01/FranzPosch_MarkusKoschuh_cKrug_fuerHomepage.jpg
END:VEVENT
BEGIN:VEVENT
DTSTART;TZID=Europe/Vienna:20260623T190000
DTEND;TZID=Europe/Vienna:20260623T203000
DTSTAMP:20260421T214344
CREATED:20260407T104136Z
LAST-MODIFIED:20260407T104338Z
UID:10000879-1782241200-1782246600@www.markuskoschuh.at
SUMMARY:Asterix auf Tirolerisch. Präsentation / Lesung!
DESCRIPTION:Vor 25 Jahren sorgte die erste Asterix-Übersetzung ins Tirolerische durch Felix Mitterer (’s groaße Gschäft) für Furore – nun gibt es endlich einen zweiten tirolerischen Asterix: „Mander\, ’s isch Zeit!“ Verantwortlich dafür zeichnet bzw schreibt Kabarettist Markus Koschuh. Er hat den „Kampf der Häuptlinge“ übersetzt und daraus „Mander `s isch Zeit!“ gemacht. Beim Übersetzen gewährte der deutsche Egmont-Verlag viele Freiheiten – und so kann man auf diesen tirolerischen Band gespannt sein! Tickets via 0676/846909-760 (Bücherei Landeck)\, buecherei@landeck.gv.at \n\n\n\nBüchertisch! Gerne signiert Markus Koschuh Ihr persönliches Asterix-Exemplar! \n\n\n\n\nEintritt frei – aber Anmeldung:
URL:https://www.markuskoschuh.at/event-1/asterix-auf-tirolerisch-praesentation-lesung-10/
LOCATION:Wörgl\, Tagungshaus\, Brixentaler Straße 5\, 6300\, Tirol\, Austria
ATTACH;FMTTYPE=image/jpeg:https://www.markuskoschuh.at/wp-content/uploads/2025/04/1024_ECC_01_ASTERIX_MUN_F30-klein.jpg
END:VEVENT
END:VCALENDAR