BEGIN:VCALENDAR
VERSION:2.0
PRODID:-//Markus Koschuh - ECPv6.15.11//NONSGML v1.0//EN
CALSCALE:GREGORIAN
METHOD:PUBLISH
X-WR-CALNAME:Markus Koschuh
X-ORIGINAL-URL:https://www.markuskoschuh.at
X-WR-CALDESC:Veranstaltungen für Markus Koschuh
REFRESH-INTERVAL;VALUE=DURATION:PT1H
X-Robots-Tag:noindex
X-PUBLISHED-TTL:PT1H
BEGIN:VTIMEZONE
TZID:Europe/Vienna
BEGIN:DAYLIGHT
TZOFFSETFROM:+0100
TZOFFSETTO:+0200
TZNAME:CEST
DTSTART:20190331T010000
END:DAYLIGHT
BEGIN:STANDARD
TZOFFSETFROM:+0200
TZOFFSETTO:+0100
TZNAME:CET
DTSTART:20191027T010000
END:STANDARD
BEGIN:DAYLIGHT
TZOFFSETFROM:+0100
TZOFFSETTO:+0200
TZNAME:CEST
DTSTART:20200329T010000
END:DAYLIGHT
BEGIN:STANDARD
TZOFFSETFROM:+0200
TZOFFSETTO:+0100
TZNAME:CET
DTSTART:20201025T010000
END:STANDARD
BEGIN:DAYLIGHT
TZOFFSETFROM:+0100
TZOFFSETTO:+0200
TZNAME:CEST
DTSTART:20210328T010000
END:DAYLIGHT
BEGIN:STANDARD
TZOFFSETFROM:+0200
TZOFFSETTO:+0100
TZNAME:CET
DTSTART:20211031T010000
END:STANDARD
END:VTIMEZONE
BEGIN:VEVENT
DTSTART;TZID=Europe/Vienna:20201003T193000
DTEND;TZID=Europe/Vienna:20201003T210000
DTSTAMP:20260424T005556
CREATED:20200630T080856Z
LAST-MODIFIED:20201003T130453Z
UID:10000320-1601753400-1601758800@www.markuskoschuh.at
SUMMARY:Lach mal Wieder. Das Best of!
DESCRIPTION:
URL:https://www.markuskoschuh.at/event-1/lach-mal-wieder-das-best-of/
LOCATION:Grinzens\, Gemeindesaal
CATEGORIES:Kabarett
ATTACH;FMTTYPE=image/jpeg:https://www.markuskoschuh.at/wp-content/uploads/2020/06/koschuh-lachmalwieder-grinzens.jpg
END:VEVENT
END:VCALENDAR