BEGIN:VCALENDAR
VERSION:2.0
PRODID:-//Markus Koschuh - ECPv6.15.11//NONSGML v1.0//EN
CALSCALE:GREGORIAN
METHOD:PUBLISH
X-ORIGINAL-URL:https://www.markuskoschuh.at
X-WR-CALDESC:Veranstaltungen für Markus Koschuh
REFRESH-INTERVAL;VALUE=DURATION:PT1H
X-Robots-Tag:noindex
X-PUBLISHED-TTL:PT1H
BEGIN:VTIMEZONE
TZID:Europe/Vienna
BEGIN:DAYLIGHT
TZOFFSETFROM:+0100
TZOFFSETTO:+0200
TZNAME:CEST
DTSTART:20200329T010000
END:DAYLIGHT
BEGIN:STANDARD
TZOFFSETFROM:+0200
TZOFFSETTO:+0100
TZNAME:CET
DTSTART:20201025T010000
END:STANDARD
BEGIN:DAYLIGHT
TZOFFSETFROM:+0100
TZOFFSETTO:+0200
TZNAME:CEST
DTSTART:20210328T010000
END:DAYLIGHT
BEGIN:STANDARD
TZOFFSETFROM:+0200
TZOFFSETTO:+0100
TZNAME:CET
DTSTART:20211031T010000
END:STANDARD
BEGIN:DAYLIGHT
TZOFFSETFROM:+0100
TZOFFSETTO:+0200
TZNAME:CEST
DTSTART:20220327T010000
END:DAYLIGHT
BEGIN:STANDARD
TZOFFSETFROM:+0200
TZOFFSETTO:+0100
TZNAME:CET
DTSTART:20221030T010000
END:STANDARD
END:VTIMEZONE
BEGIN:VEVENT
DTSTART;TZID=Europe/Vienna:20210918T200000
DTEND;TZID=Europe/Vienna:20210918T220000
DTSTAMP:20260422T025449
CREATED:20210629T075302Z
LAST-MODIFIED:20210714T145227Z
UID:10000253-1631995200-1632002400@www.markuskoschuh.at
SUMMARY:Lach mal wieder. Das Best of!
DESCRIPTION:Da gibt’s kein Halten mehr: Im Best of-Programm „Lach mal wieder“ sind die besten und ihm liebsten Koschuh-Szenen aus sämtlichen Programmen zu einem aberwitzigen Programm inklusive Bauchweh-vor-Lachen-Garantie montiert. Diesen speziellen Abend sollte man wirklich nicht verpassen – die Kritiken sind eindeutig: „Schonungslos genial“! „bleibt kein Auge mehr trocken!“ „Spitzenkabarett made in Tirol!“ \nTickets/Info: Kultur1000Hochfilzen
URL:https://www.markuskoschuh.at/event-1/lach-mal-wieder-das-best-of-3/
CATEGORIES:Kabarett
ATTACH;FMTTYPE=image/jpeg:https://www.markuskoschuh.at/wp-content/uploads/2021/06/koschuh-kabarett-Lach-mal-wieder-hochfilzen-2021.jpg
END:VEVENT
END:VCALENDAR