BEGIN:VCALENDAR
VERSION:2.0
PRODID:-//Markus Koschuh - ECPv6.15.11//NONSGML v1.0//EN
CALSCALE:GREGORIAN
METHOD:PUBLISH
X-ORIGINAL-URL:https://www.markuskoschuh.at
X-WR-CALDESC:Veranstaltungen für Markus Koschuh
REFRESH-INTERVAL;VALUE=DURATION:PT1H
X-Robots-Tag:noindex
X-PUBLISHED-TTL:PT1H
BEGIN:VTIMEZONE
TZID:Europe/Vienna
BEGIN:DAYLIGHT
TZOFFSETFROM:+0100
TZOFFSETTO:+0200
TZNAME:CEST
DTSTART:20200329T010000
END:DAYLIGHT
BEGIN:STANDARD
TZOFFSETFROM:+0200
TZOFFSETTO:+0100
TZNAME:CET
DTSTART:20201025T010000
END:STANDARD
BEGIN:DAYLIGHT
TZOFFSETFROM:+0100
TZOFFSETTO:+0200
TZNAME:CEST
DTSTART:20210328T010000
END:DAYLIGHT
BEGIN:STANDARD
TZOFFSETFROM:+0200
TZOFFSETTO:+0100
TZNAME:CET
DTSTART:20211031T010000
END:STANDARD
BEGIN:DAYLIGHT
TZOFFSETFROM:+0100
TZOFFSETTO:+0200
TZNAME:CEST
DTSTART:20220327T010000
END:DAYLIGHT
BEGIN:STANDARD
TZOFFSETFROM:+0200
TZOFFSETTO:+0100
TZNAME:CET
DTSTART:20221030T010000
END:STANDARD
BEGIN:DAYLIGHT
TZOFFSETFROM:+0100
TZOFFSETTO:+0200
TZNAME:CEST
DTSTART:20230326T010000
END:DAYLIGHT
BEGIN:STANDARD
TZOFFSETFROM:+0200
TZOFFSETTO:+0100
TZNAME:CET
DTSTART:20231029T010000
END:STANDARD
BEGIN:DAYLIGHT
TZOFFSETFROM:+0100
TZOFFSETTO:+0200
TZNAME:CEST
DTSTART:20240331T010000
END:DAYLIGHT
BEGIN:STANDARD
TZOFFSETFROM:+0200
TZOFFSETTO:+0100
TZNAME:CET
DTSTART:20241027T010000
END:STANDARD
BEGIN:DAYLIGHT
TZOFFSETFROM:+0100
TZOFFSETTO:+0200
TZNAME:CEST
DTSTART:20250330T010000
END:DAYLIGHT
BEGIN:STANDARD
TZOFFSETFROM:+0200
TZOFFSETTO:+0100
TZNAME:CET
DTSTART:20251026T010000
END:STANDARD
BEGIN:DAYLIGHT
TZOFFSETFROM:+0100
TZOFFSETTO:+0200
TZNAME:CEST
DTSTART:20260329T010000
END:DAYLIGHT
BEGIN:STANDARD
TZOFFSETFROM:+0200
TZOFFSETTO:+0100
TZNAME:CET
DTSTART:20261025T010000
END:STANDARD
BEGIN:DAYLIGHT
TZOFFSETFROM:+0100
TZOFFSETTO:+0200
TZNAME:CEST
DTSTART:20270328T010000
END:DAYLIGHT
BEGIN:STANDARD
TZOFFSETFROM:+0200
TZOFFSETTO:+0100
TZNAME:CET
DTSTART:20271031T010000
END:STANDARD
END:VTIMEZONE
BEGIN:VEVENT
DTSTART;TZID=Europe/Vienna:20260327T193000
DTEND;TZID=Europe/Vienna:20260327T214500
DTSTAMP:20260422T184928
CREATED:20260226T160450Z
LAST-MODIFIED:20260413T072710Z
UID:10000867-1774639800-1774647900@www.markuskoschuh.at
SUMMARY:RETTE SICH\, WER KANN. Das Erste-Hilfe- Programm!
DESCRIPTION:Nach der lawinengefahrbedingten Absage am 27. März (Die Zufahrtswege zum Ganghofermuseum waren gesperrt) konnte rasch ein neuer Termin gefunden werden! \n\n\n\nHand auf’s Herz: Würdest DU wissen\, was zu tun ist\, wenn jemand bei einer privaten Feier plötzlich zusammenbricht? Oder wenn DU bei einem schweren Unfall als Erster oder Erste vorbeikommst? Oder wenn sich jemand verschluckt? Oder wenn …? Es gibt zu viele Situationen\, in denen man schnell handeln können sollte. Markus Koschuh\, der auch Rettungssanitäter und Erste-Hilfe-Lehrbeauftragter ist\, sorgt in „Rette sich\, wer kann!“ für erhellende Momente und Lachanfälle am laufenden Band. Nach diesem Abend wirst auch DU besser helfen können – und Erste Hilfe für Dein Zwerchfell brauchen …Markus Koschuh: Rette sich\, wer kann! Kabarett zum Totlachen – Reanimation live auf der Bühne! \n\n\n\n\nTickets: 0664/88005681
URL:https://www.markuskoschuh.at/event-1/rette-sich-wer-kann-das-erste-hilfe-programm-3/
LOCATION:Leutasch\, Ganghofermuseum\, Kirchplatzl 154\, Leutasch\, Tirol\, 6105\, Österreich
CATEGORIES:Kabarett
ATTACH;FMTTYPE=image/jpeg:https://www.markuskoschuh.at/wp-content/uploads/2026/01/Terminseite-Versuch2.jpg
END:VEVENT
BEGIN:VEVENT
DTSTART;TZID=Europe/Vienna:20251017T193000
DTEND;TZID=Europe/Vienna:20251017T210000
DTSTAMP:20260422T184928
CREATED:20250825T193127Z
LAST-MODIFIED:20250904T193008Z
UID:10000828-1760729400-1760734800@www.markuskoschuh.at
SUMMARY:Asterix auf Tirolerisch. Präsentation/Lesung!
DESCRIPTION:Vor 25 Jahren sorgte die erste Asterix-Übersetzung ins Tirolerische durch Felix Mitterer (’s groaße Gschäft) für Furore – nun gibt es endlich einen zweiten tirolerischen Asterix: „Mander\, ’s isch Zeit!“ Verantwortlich dafür zeichnet bzw schreibt Kabarettist Markus Koschuh. Er hat den „Kampf der Häuptlinge“ übersetzt und daraus „Mander `s isch Zeit!“ gemacht. Beim Übersetzen gewährte der deutsche Egmont-Verlag viele Freiheiten – und so kann man auf diesen tirolerischen Band gespannt sein! \n\n\n\nBüchertisch! Gerne signiert Markus Koschuh Ihr persönliches Asterix-Exemplar! \n\n\n\n\nAnmeldung erbeten: 0664/88005681
URL:https://www.markuskoschuh.at/event-1/asterix-auf-tirolerisch-lesung-4/
LOCATION:Leutasch\, Ganghofermuseum\, Kirchplatzl 154\, Leutasch\, Tirol\, 6105\, Österreich
CATEGORIES:Lesung,Special
ATTACH;FMTTYPE=image/jpeg:https://www.markuskoschuh.at/wp-content/uploads/2025/04/1024_ECC_01_ASTERIX_MUN_F30-klein.jpg
END:VEVENT
BEGIN:VEVENT
DTSTART;TZID=Europe/Vienna:20250523T193000
DTEND;TZID=Europe/Vienna:20250523T213000
DTSTAMP:20260422T184928
CREATED:20250205T104443Z
LAST-MODIFIED:20250328T155002Z
UID:10000773-1748028600-1748035800@www.markuskoschuh.at
SUMMARY:Franz Posch & Markus Koschuh. Quetschn trifft Schmäh!
DESCRIPTION:Tickets: 0664/88005681\n\n\n\n\nDer Eine: Ein Kenner der Volksmusik wie kein Anderer und Virtuose auf der Ziehharmonika. Der Andere: Ein Meister des bissigen Kabaretts mit Lachgarantie. Bei einem gemeinsamen Benefizabend Anfang 2024 sorgten Franz Posch und Markus Koschuh für Begeisterungsstürme – viele forderten eine Fortsetzung der gelungenen Kooperation. Im Jahr 2025 gibt es nun tatsächlich mehrere Abende\, an denen gelacht und gestaunt werden kann: Staunen über die Musikalität von Franz Posch und Lachen über die Pointen von Markus Koschuh. Volksmusik ergänzt Kabarett ergänzt Volksmusik – ein Abend zweier Ausnahmekünstler\, den man nicht verpassen sollte!
URL:https://www.markuskoschuh.at/event-1/franz-posch-markus-koschuh-das-volksmusikabarett-3/
LOCATION:Leutasch\, Ganghofermuseum\, Kirchplatzl 154\, Leutasch\, Tirol\, 6105\, Österreich
CATEGORIES:Kabarett,Special
ATTACH;FMTTYPE=image/jpeg:https://www.markuskoschuh.at/wp-content/uploads/2025/01/FranzPosch_MarkusKoschuh_cKrug_fuerHomepage.jpg
END:VEVENT
BEGIN:VEVENT
DTSTART;TZID=Europe/Vienna:20240920T200000
DTEND;TZID=Europe/Vienna:20240920T223000
DTSTAMP:20260422T184928
CREATED:20240315T140718Z
LAST-MODIFIED:20240711T113957Z
UID:10000680-1726862400-1726871400@www.markuskoschuh.at
SUMMARY:Das neue Programm: Eine kleine Machtmusik
DESCRIPTION:Leutasch\, Ganghofermuseum \n\n\n\n\nTickets: 0664/88005681\n\n\n\n\n\n\n\n\nMarkus Koschuh: Eine kleine MachtmusikMit seinem letzten Programm „Jahrmarkt der Heiterkeiten“ sorgte er für reihenweise vollen Treibhaus-Turm plus Zusatzvorstellung. Nun legt Koschuh seinen neuesten Streich vor. „Eine kleine Machtmusik“ – der ultimative Soundcheck für ein ganzes Land: Wer will warum die erste Geige spielen und wer gibt tatsächlich den Ton an? Warum vergreifen sich im Land des Wolfgang Amadeus Mozart immer mehr im Ton oder stimmen ein in den Chor der Empörten? Macht nicht der gute Ton die Musik? Ein Programm voller c-d-e-f-g-Aha- und Oho-Momente\, Irr-&Aberwitz\, Rasanz&Körpereinsatz. Das neue Programm des zuletzt in höchsten Tönen gelobten Markus Koschuh gehört gesehen und gehört gehört …!Eine kleine Machtmusik: Das richtige Programm zur rechten Zeit.Regie: Harald Windisch
URL:https://www.markuskoschuh.at/event-1/das-neue-programm-eine-kleine-machtmusik-4/
LOCATION:Leutasch\, Ganghofermuseum\, Kirchplatzl 154\, Leutasch\, Tirol\, 6105\, Österreich
CATEGORIES:Kabarett
ATTACH;FMTTYPE=image/jpeg:https://www.markuskoschuh.at/wp-content/uploads/2024/01/koschuh_machtmusik2klein_1_FranzOss.jpg
END:VEVENT
BEGIN:VEVENT
DTSTART;TZID=Europe/Vienna:20221111T193000
DTEND;TZID=Europe/Vienna:20221111T213000
DTSTAMP:20260422T184928
CREATED:20221020T071838Z
LAST-MODIFIED:20240408T155638Z
UID:10000372-1668195000-1668202200@www.markuskoschuh.at
SUMMARY:wOHNMACHT. Das umjubelte Programm!
DESCRIPTION:Markus Koschuh ist mit „wOHNMACHT“ein neuer Geniestreich gelungen – die Presse überschlägt sich in Lobeshymnen: „Wer herzhaft lachen möchte …kommt bei wOHNMACHT voll auf seine Kosten“ (Tiroler Tageszeitung) „Full-Service Kabarett“\, „wagemutiger als je zuvor“\, „…weiß zu beeindrucken“ (Kronen Zeitung)\, „begeistertes Publikum“\, „absolut sehenswert!“ (Bezirksblätter)\, „genau recherchiert\, grimmig\, bissig!“ (ORF) \nUnd das ist wOHNMACHT: „Wohnen muss wieder leistbar werden!“ Markus Koschuh haut der rot-weiß-roten Politik den Spruch um die Ohren\, eckt an\, rüttelt auf. In „wOHNMACHT“ geht Markus Koschuh hart ins Gericht mit einer mutlosen Politik\, Irrläufern des Lobbyismus\, Banken\, Immobilien- und Grundstückspekulanten und deren Wegbereitern und zeichnet ein aufrüttelndes Bild übler Machenschaften\, die mit dazu führen\, dass halb Österreich und da vor allem Tirol unter davongaloppierenden Kosten für Miete oder Hausbau leidet. \nRegie: Der für den Deutschen Schauspielpreis 2022 nominierte Harald Windisch \n \nPlatzreservierung erforderlich! WhatsApp: +43 664 22005681 oder Mail: kulturhaus@leutasch.tirol.gv.at
URL:https://www.markuskoschuh.at/event-1/wohnmacht-das-umjubelte-programm-3/
LOCATION:Leutasch\, Ganghofermuseum\, Kirchplatzl 154\, Leutasch\, Tirol\, 6105\, Österreich
ATTACH;FMTTYPE=image/jpeg:https://www.markuskoschuh.at/wp-content/uploads/2022/10/koschuh-kabarett-leutasch-Kulturhaus-Ganghofer-wOHNMACHT.jpg
END:VEVENT
BEGIN:VEVENT
DTSTART;TZID=Europe/Vienna:20221020T193000
DTEND;TZID=Europe/Vienna:20221020T213000
DTSTAMP:20260422T184928
CREATED:20221002T215517Z
LAST-MODIFIED:20221020T071512Z
UID:10000278-1666294200-1666301400@www.markuskoschuh.at
SUMMARY:wOHNMACHT. Das umjubelte Programm! *VERSCHOBEN AUF 11.11.2022*
DESCRIPTION:Markus Koschuh ist mit „wOHNMACHT“ein neuer Geniestreich gelungen – die Presse überschlägt sich in Lobeshymnen: „Wer herzhaft lachen möchte …kommt bei wOHNMACHT voll auf seine Kosten“ (Tiroler Tageszeitung) „Full-Service Kabarett“\, „wagemutiger als je zuvor“\, „…weiß zu beeindrucken“ (Kronen Zeitung)\, „begeistertes Publikum“\, „absolut sehenswert!“ (Bezirksblätter)\, „genau recherchiert\, grimmig\, bissig!“ (ORF) \nUnd das ist wOHNMACHT: „Wohnen muss wieder leistbar werden!“ Markus Koschuh haut der rot-weiß-roten Politik den Spruch um die Ohren\, eckt an\, rüttelt auf. In „wOHNMACHT“ geht Markus Koschuh hart ins Gericht mit einer mutlosen Politik\, Irrläufern des Lobbyismus\, Banken\, Immobilien- und Grundstückspekulanten und deren Wegbereitern und zeichnet ein aufrüttelndes Bild übler Machenschaften\, die mit dazu führen\, dass halb Österreich und da vor allem Tirol unter davongaloppierenden Kosten für Miete oder Hausbau leidet. \nRegie: Der für den Deutschen Schauspielpreis 2022 nominierte Harald Windisch \n\n\n\nPlatzreservierung erforderlich! WhatsApp: +43 664 22005681 oder Mail: kulturhaus@leutasch.tirol.gv.at
URL:https://www.markuskoschuh.at/event-1/wohnmacht-das-neue-programm-9/
LOCATION:Leutasch\, Ganghofermuseum\, Kirchplatzl 154\, Leutasch\, Tirol\, 6105\, Österreich
CATEGORIES:Kabarett
ATTACH;FMTTYPE=image/jpeg:https://www.markuskoschuh.at/wp-content/uploads/2022/10/koschuh-kabarett-leutasch-Kulturhaus-Ganghofer-wOHNMACHT.jpg
END:VEVENT
BEGIN:VEVENT
DTSTART;TZID=Europe/Vienna:20210925T200000
DTEND;TZID=Europe/Vienna:20210925T220000
DTSTAMP:20260422T184928
CREATED:20210624T071628Z
LAST-MODIFIED:20210925T091904Z
UID:10000342-1632600000-1632607200@www.markuskoschuh.at
SUMMARY:Oben ohne. Das brandaktuelle Programm
DESCRIPTION:Markus Koschuh: OBEN OHNE. Das brandaktuelle Programm. „Oben ohne“ bekommt wegen eines Virus eine neue Bedeutung: Politiker\, die immer alles richtig machen. Nachbarn\, die sich gegenseitig anzeigen. Supermarktkassierinnen\, die plötzlich systemrelevante Heldinnen sind. Was haben machen Maskenpflicht und Co mit uns und aus uns gemacht? „Oben ohne“. Das Programm zur Krise. Gespickt mit zahlreichen saukomischen und nackten Tatsachen. Das beste kabarettistische Virenschutzprogramm zurzeit! Medienecho: „Eines seiner bisher stärksten Programme!“\, „Herzhafte Parodien massieren das Zwerchfall“\, „Make-up wegen Lachtränen unter Wasser“!
URL:https://www.markuskoschuh.at/event-1/oben-ohne-das-brandaktuelle-programm-4/
LOCATION:Leutasch\, Ganghofermuseum\, Kirchplatzl 154\, Leutasch\, Tirol\, 6105\, Österreich
CATEGORIES:Kabarett
ATTACH;FMTTYPE=image/jpeg:https://www.markuskoschuh.at/wp-content/uploads/2021/06/koschuh-kabarett-oben-ohne-leutasch.jpg
END:VEVENT
BEGIN:VEVENT
DTSTART;TZID=Europe/Vienna:20210731T200000
DTEND;TZID=Europe/Vienna:20210731T220000
DTSTAMP:20260422T184928
CREATED:20210624T132052Z
LAST-MODIFIED:20210924T133622Z
UID:10000250-1627761600-1627768800@www.markuskoschuh.at
SUMMARY:Oben ohne. Das brandaktuelle Programm
DESCRIPTION:Markus Koschuh: OBEN OHNE. Das brandaktuelle Programm.\n\n„Oben ohne“ bekommt wegen eines Virus eine neue Bedeutung: Politiker\, die immer alles richtig machen. Nachbarn\, die sich gegenseitig anzeigen. Supermarktkassierinnen\, die plötzlich systemrelevante Heldinnen sind. Was haben machen Maskenpflicht und Co mit uns und aus uns gemacht? „Oben ohne“. Das Programm zur Krise. Gespickt mit zahlreichen saukomischen und nackten Tatsachen. Das beste kabarettistische Virenschutzprogramm zurzeit!\n\nMedienecho: „Eines seiner bisher stärksten Programme!“\, „Herzhafte Parodien massieren das Zwerchfall“\, „Make-up wegen Lachtränen unter Wasser“!
URL:https://www.markuskoschuh.at/event-1/oben-ohne-das-brandaktuelle-programm-5/
LOCATION:Leutasch\, Ganghofermuseum\, Kirchplatzl 154\, Leutasch\, Tirol\, 6105\, Österreich
CATEGORIES:Kabarett
ATTACH;FMTTYPE=image/jpeg:https://www.markuskoschuh.at/wp-content/uploads/2021/06/koschuh-kabarett-oben-ohne-Leutasch-Ganghofermuseum-2021.jpg
END:VEVENT
END:VCALENDAR