BEGIN:VCALENDAR
VERSION:2.0
PRODID:-//Markus Koschuh - ECPv6.15.11//NONSGML v1.0//EN
CALSCALE:GREGORIAN
METHOD:PUBLISH
X-ORIGINAL-URL:https://www.markuskoschuh.at
X-WR-CALDESC:Veranstaltungen für Markus Koschuh
REFRESH-INTERVAL;VALUE=DURATION:PT1H
X-Robots-Tag:noindex
X-PUBLISHED-TTL:PT1H
BEGIN:VTIMEZONE
TZID:Europe/Vienna
BEGIN:DAYLIGHT
TZOFFSETFROM:+0100
TZOFFSETTO:+0200
TZNAME:CEST
DTSTART:20190331T010000
END:DAYLIGHT
BEGIN:STANDARD
TZOFFSETFROM:+0200
TZOFFSETTO:+0100
TZNAME:CET
DTSTART:20191027T010000
END:STANDARD
BEGIN:DAYLIGHT
TZOFFSETFROM:+0100
TZOFFSETTO:+0200
TZNAME:CEST
DTSTART:20200329T010000
END:DAYLIGHT
BEGIN:STANDARD
TZOFFSETFROM:+0200
TZOFFSETTO:+0100
TZNAME:CET
DTSTART:20201025T010000
END:STANDARD
BEGIN:DAYLIGHT
TZOFFSETFROM:+0100
TZOFFSETTO:+0200
TZNAME:CEST
DTSTART:20210328T010000
END:DAYLIGHT
BEGIN:STANDARD
TZOFFSETFROM:+0200
TZOFFSETTO:+0100
TZNAME:CET
DTSTART:20211031T010000
END:STANDARD
BEGIN:DAYLIGHT
TZOFFSETFROM:+0100
TZOFFSETTO:+0200
TZNAME:CEST
DTSTART:20220327T010000
END:DAYLIGHT
BEGIN:STANDARD
TZOFFSETFROM:+0200
TZOFFSETTO:+0100
TZNAME:CET
DTSTART:20221030T010000
END:STANDARD
BEGIN:DAYLIGHT
TZOFFSETFROM:+0100
TZOFFSETTO:+0200
TZNAME:CEST
DTSTART:20230326T010000
END:DAYLIGHT
BEGIN:STANDARD
TZOFFSETFROM:+0200
TZOFFSETTO:+0100
TZNAME:CET
DTSTART:20231029T010000
END:STANDARD
END:VTIMEZONE
BEGIN:VEVENT
DTSTART;TZID=Europe/Vienna:20220611T150000
DTEND;TZID=Europe/Vienna:20220611T160000
DTSTAMP:20260422T185002
CREATED:20220122T094449Z
LAST-MODIFIED:20220122T094451Z
UID:10000354-1654959600-1654963200@www.markuskoschuh.at
SUMMARY:Öko fair - Special
DESCRIPTION:
URL:https://www.markuskoschuh.at/event-1/oeko-fair-special/
LOCATION:Innsbruck\, Messe\, Ing.-Etzel-Straße\, Innsbruck\, 6020\, Österreich
CATEGORIES:Kabarett
ATTACH;FMTTYPE=image/jpeg:https://www.markuskoschuh.at/wp-content/uploads/2020/03/koschuh-termin-messe.jpg
END:VEVENT
BEGIN:VEVENT
DTSTART;TZID=Europe/Vienna:20211120T150000
DTEND;TZID=Europe/Vienna:20211120T170000
DTSTAMP:20260422T185002
CREATED:20211109T115608Z
LAST-MODIFIED:20211109T115745Z
UID:10000349-1637420400-1637427600@www.markuskoschuh.at
SUMMARY:ÖkoFair - Special
DESCRIPTION:Tiroler Nachhaltigkeitsmesse\, Mehr Info auch auf www.oeko-fair.at
URL:https://www.markuskoschuh.at/event-1/messe-oekofair-special-2/
LOCATION:Innsbruck\, Messe\, Ing.-Etzel-Straße\, Innsbruck\, 6020\, Österreich
CATEGORIES:Special
ATTACH;FMTTYPE=image/jpeg:https://www.markuskoschuh.at/wp-content/uploads/2020/03/koschuh-termin-messe.jpg
END:VEVENT
BEGIN:VEVENT
DTSTART;TZID=Europe/Vienna:20201121T140000
DTEND;TZID=Europe/Vienna:20201121T160000
DTSTAMP:20260422T185002
CREATED:20200328T192931Z
LAST-MODIFIED:20201103T085315Z
UID:10000309-1605967200-1605974400@www.markuskoschuh.at
SUMMARY:Messe - ÖkoFair: Special
DESCRIPTION:LEIDER ABGESAGT! \nTiroler Nachhaltigkeitsmesse\, Mehr Info auch auf www.oeko-fair.at
URL:https://www.markuskoschuh.at/event-1/messe-oekofair-special/
LOCATION:Innsbruck\, Messe\, Ing.-Etzel-Straße\, Innsbruck\, 6020\, Österreich
CATEGORIES:Special
ATTACH;FMTTYPE=image/jpeg:https://www.markuskoschuh.at/wp-content/uploads/2020/03/koschuh-termin-messe.jpg
END:VEVENT
END:VCALENDAR